BEGIN:VCALENDAR
VERSION:2.0
PRODID:-//Dedham Country Day School - ECPv5.6.0//NONSGML v1.0//EN
CALSCALE:GREGORIAN
METHOD:PUBLISH
X-WR-CALNAME:Dedham Country Day School
X-ORIGINAL-URL:https://www.dedhamcountryday.org
X-WR-CALDESC:Events for Dedham Country Day School
BEGIN:VTIMEZONE
TZID:America/New_York
BEGIN:DAYLIGHT
TZOFFSETFROM:-0500
TZOFFSETTO:-0400
TZNAME:EDT
DTSTART:20250309T070000
END:DAYLIGHT
BEGIN:STANDARD
TZOFFSETFROM:-0400
TZOFFSETTO:-0500
TZNAME:EST
DTSTART:20251102T060000
END:STANDARD
END:VTIMEZONE
BEGIN:VEVENT
DTSTART;TZID=America/New_York:20250515T153000
DTEND;TZID=America/New_York:20250515T153000
DTSTAMP:20260421T084931
CREATED:20250225T050000Z
LAST-MODIFIED:20250225T050000Z
UID:820954-1747323000-1747323000@www.dedhamcountryday.org
SUMMARY:Away @ Nashoba Brooks (Tennis)
DESCRIPTION:
URL:https://www.dedhamcountryday.org/event/away-nashoba-brooks-tennis/
END:VEVENT
BEGIN:VEVENT
DTSTART;TZID=America/New_York:20250515T153000
DTEND;TZID=America/New_York:20250515T153000
DTSTAMP:20260421T084931
CREATED:20250225T050000Z
LAST-MODIFIED:20250225T050000Z
UID:820977-1747323000-1747323000@www.dedhamcountryday.org
SUMMARY:Home VS Carroll
DESCRIPTION:
URL:https://www.dedhamcountryday.org/event/home-vs-carroll-41/
END:VEVENT
BEGIN:VEVENT
DTSTART;TZID=America/New_York:20250515T153000
DTEND;TZID=America/New_York:20250515T153000
DTSTAMP:20260421T084931
CREATED:20250225T050000Z
LAST-MODIFIED:20250225T050000Z
UID:820987-1747323000-1747323000@www.dedhamcountryday.org
SUMMARY:Away @ Rivers
DESCRIPTION:
URL:https://www.dedhamcountryday.org/event/away-rivers-8/
END:VEVENT
BEGIN:VEVENT
DTSTART;TZID=America/New_York:20250515T153000
DTEND;TZID=America/New_York:20250515T153000
DTSTAMP:20260421T084931
CREATED:20250225T050000Z
LAST-MODIFIED:20250225T050000Z
UID:821019-1747323000-1747323000@www.dedhamcountryday.org
SUMMARY:Away @ Nashoba Brooks (Tennis)
DESCRIPTION:
URL:https://www.dedhamcountryday.org/event/away-nashoba-brooks-tennis-2/
END:VEVENT
BEGIN:VEVENT
DTSTART;TZID=America/New_York:20250515T153000
DTEND;TZID=America/New_York:20250515T153000
DTSTAMP:20260421T084931
CREATED:20250225T050000Z
LAST-MODIFIED:20250225T050000Z
UID:821044-1747323000-1747323000@www.dedhamcountryday.org
SUMMARY:Home VS Carroll
DESCRIPTION:
URL:https://www.dedhamcountryday.org/event/home-vs-carroll-45/
END:VEVENT
BEGIN:VEVENT
DTSTART;TZID=America/New_York:20250515T153000
DTEND;TZID=America/New_York:20250515T153000
DTSTAMP:20260421T084931
CREATED:20250225T050000Z
LAST-MODIFIED:20250225T050000Z
UID:821054-1747323000-1747323000@www.dedhamcountryday.org
SUMMARY:Away @ Rivers
DESCRIPTION:
URL:https://www.dedhamcountryday.org/event/away-rivers-10/
END:VEVENT
BEGIN:VEVENT
DTSTART;TZID=America/New_York:20250515T153000
DTEND;TZID=America/New_York:20250515T153000
DTSTAMP:20260421T084931
CREATED:20250225T050000Z
LAST-MODIFIED:20250225T050000Z
UID:821086-1747323000-1747323000@www.dedhamcountryday.org
SUMMARY:Away @ Nashoba Brooks (Tennis)
DESCRIPTION:
URL:https://www.dedhamcountryday.org/event/away-nashoba-brooks-tennis-3/
END:VEVENT
BEGIN:VEVENT
DTSTART;TZID=America/New_York:20250515T153000
DTEND;TZID=America/New_York:20250515T153000
DTSTAMP:20260421T084931
CREATED:20250225T050000Z
LAST-MODIFIED:20250225T050000Z
UID:821108-1747323000-1747323000@www.dedhamcountryday.org
SUMMARY:Home VS Carroll
DESCRIPTION:
URL:https://www.dedhamcountryday.org/event/home-vs-carroll-49/
END:VEVENT
BEGIN:VEVENT
DTSTART;TZID=America/New_York:20250515T153000
DTEND;TZID=America/New_York:20250515T153000
DTSTAMP:20260421T084931
CREATED:20250225T050000Z
LAST-MODIFIED:20250225T050000Z
UID:821118-1747323000-1747323000@www.dedhamcountryday.org
SUMMARY:Away @ Rivers
DESCRIPTION:
URL:https://www.dedhamcountryday.org/event/away-rivers-12/
END:VEVENT
BEGIN:VEVENT
DTSTART;TZID=America/New_York:20250515T153000
DTEND;TZID=America/New_York:20250515T153000
DTSTAMP:20260421T084931
CREATED:20250225T050000Z
LAST-MODIFIED:20250225T050000Z
UID:821150-1747323000-1747323000@www.dedhamcountryday.org
SUMMARY:Away @ Nashoba Brooks (Tennis)
DESCRIPTION:
URL:https://www.dedhamcountryday.org/event/away-nashoba-brooks-tennis-4/
END:VEVENT
BEGIN:VEVENT
DTSTART;TZID=America/New_York:20250515T153000
DTEND;TZID=America/New_York:20250515T153000
DTSTAMP:20260421T084931
CREATED:20250225T050000Z
LAST-MODIFIED:20250225T050000Z
UID:821169-1747323000-1747323000@www.dedhamcountryday.org
SUMMARY:Home VS Carroll
DESCRIPTION:
URL:https://www.dedhamcountryday.org/event/home-vs-carroll-53/
END:VEVENT
BEGIN:VEVENT
DTSTART;TZID=America/New_York:20250515T153000
DTEND;TZID=America/New_York:20250515T153000
DTSTAMP:20260421T084931
CREATED:20250225T050000Z
LAST-MODIFIED:20250225T050000Z
UID:821179-1747323000-1747323000@www.dedhamcountryday.org
SUMMARY:Away @ Rivers
DESCRIPTION:
URL:https://www.dedhamcountryday.org/event/away-rivers-14/
END:VEVENT
BEGIN:VEVENT
DTSTART;TZID=America/New_York:20250515T153000
DTEND;TZID=America/New_York:20250515T153000
DTSTAMP:20260421T084931
CREATED:20250225T050000Z
LAST-MODIFIED:20250225T050000Z
UID:821211-1747323000-1747323000@www.dedhamcountryday.org
SUMMARY:Away @ Nashoba Brooks (Tennis)
DESCRIPTION:
URL:https://www.dedhamcountryday.org/event/away-nashoba-brooks-tennis-5/
END:VEVENT
BEGIN:VEVENT
DTSTART;TZID=America/New_York:20250515T150000
DTEND;TZID=America/New_York:20250515T150000
DTSTAMP:20260421T084931
CREATED:20250228T050000Z
LAST-MODIFIED:20250228T050000Z
UID:826193-1747321200-1747321200@www.dedhamcountryday.org
SUMMARY:Home VS Shady Hill (Pickleball)
DESCRIPTION:
URL:https://www.dedhamcountryday.org/event/home-vs-shady-hill-pickleball-21/
END:VEVENT
BEGIN:VEVENT
DTSTART;TZID=America/New_York:20250515T150000
DTEND;TZID=America/New_York:20250515T150000
DTSTAMP:20260421T084931
CREATED:20250225T050000Z
LAST-MODIFIED:20250225T050000Z
UID:820953-1747321200-1747321200@www.dedhamcountryday.org
SUMMARY:Home VS Shady Hill (Pickleball)
DESCRIPTION:
URL:https://www.dedhamcountryday.org/event/home-vs-shady-hill-pickleball-3/
END:VEVENT
BEGIN:VEVENT
DTSTART;TZID=America/New_York:20250515T150000
DTEND;TZID=America/New_York:20250515T150000
DTSTAMP:20260421T084931
CREATED:20250225T050000Z
LAST-MODIFIED:20250225T050000Z
UID:821018-1747321200-1747321200@www.dedhamcountryday.org
SUMMARY:Home VS Shady Hill (Pickleball)
DESCRIPTION:
URL:https://www.dedhamcountryday.org/event/home-vs-shady-hill-pickleball-5/
END:VEVENT
BEGIN:VEVENT
DTSTART;TZID=America/New_York:20250515T150000
DTEND;TZID=America/New_York:20250515T150000
DTSTAMP:20260421T084931
CREATED:20250225T050000Z
LAST-MODIFIED:20250225T050000Z
UID:821085-1747321200-1747321200@www.dedhamcountryday.org
SUMMARY:Home VS Shady Hill (Pickleball)
DESCRIPTION:
URL:https://www.dedhamcountryday.org/event/home-vs-shady-hill-pickleball-7/
END:VEVENT
BEGIN:VEVENT
DTSTART;TZID=America/New_York:20250515T150000
DTEND;TZID=America/New_York:20250515T150000
DTSTAMP:20260421T084931
CREATED:20250225T050000Z
LAST-MODIFIED:20250225T050000Z
UID:821149-1747321200-1747321200@www.dedhamcountryday.org
SUMMARY:Home VS Shady Hill (Pickleball)
DESCRIPTION:
URL:https://www.dedhamcountryday.org/event/home-vs-shady-hill-pickleball-9/
END:VEVENT
BEGIN:VEVENT
DTSTART;TZID=America/New_York:20250515T150000
DTEND;TZID=America/New_York:20250515T150000
DTSTAMP:20260421T084931
CREATED:20250225T050000Z
LAST-MODIFIED:20250225T050000Z
UID:821210-1747321200-1747321200@www.dedhamcountryday.org
SUMMARY:Home VS Shady Hill (Pickleball)
DESCRIPTION:
URL:https://www.dedhamcountryday.org/event/home-vs-shady-hill-pickleball-11/
END:VEVENT
BEGIN:VEVENT
DTSTART;TZID=America/New_York:20250515T150000
DTEND;TZID=America/New_York:20250515T150000
DTSTAMP:20260421T084931
CREATED:20250221T050000Z
LAST-MODIFIED:20250221T050000Z
UID:813993-1747321200-1747321200@www.dedhamcountryday.org
SUMMARY:Home VS Shady Hill (Pickleball)
DESCRIPTION:
URL:https://www.dedhamcountryday.org/event/home-vs-shady-hill-pickleball-2/
END:VEVENT
BEGIN:VEVENT
DTSTART;TZID=America/New_York:20250514T154500
DTEND;TZID=America/New_York:20250514T154500
DTSTAMP:20260421T084931
CREATED:20250225T050000Z
LAST-MODIFIED:20250225T050000Z
UID:820931-1747237500-1747237500@www.dedhamcountryday.org
SUMMARY:Away @ Derby
DESCRIPTION:
URL:https://www.dedhamcountryday.org/event/away-derby-24/
END:VEVENT
BEGIN:VEVENT
DTSTART;TZID=America/New_York:20250514T154500
DTEND;TZID=America/New_York:20250514T154500
DTSTAMP:20260421T084931
CREATED:20250225T050000Z
LAST-MODIFIED:20250225T050000Z
UID:820996-1747237500-1747237500@www.dedhamcountryday.org
SUMMARY:Away @ Derby
DESCRIPTION:
URL:https://www.dedhamcountryday.org/event/away-derby-28/
END:VEVENT
BEGIN:VEVENT
DTSTART;TZID=America/New_York:20250514T154500
DTEND;TZID=America/New_York:20250514T154500
DTSTAMP:20260421T084931
CREATED:20250225T050000Z
LAST-MODIFIED:20250225T050000Z
UID:821063-1747237500-1747237500@www.dedhamcountryday.org
SUMMARY:Away @ Derby
DESCRIPTION:
URL:https://www.dedhamcountryday.org/event/away-derby-34/
END:VEVENT
BEGIN:VEVENT
DTSTART;TZID=America/New_York:20250514T154500
DTEND;TZID=America/New_York:20250514T154500
DTSTAMP:20260421T084931
CREATED:20250225T050000Z
LAST-MODIFIED:20250225T050000Z
UID:821127-1747237500-1747237500@www.dedhamcountryday.org
SUMMARY:Away @ Derby
DESCRIPTION:
URL:https://www.dedhamcountryday.org/event/away-derby-37/
END:VEVENT
BEGIN:VEVENT
DTSTART;TZID=America/New_York:20250514T154500
DTEND;TZID=America/New_York:20250514T154500
DTSTAMP:20260421T084931
CREATED:20250225T050000Z
LAST-MODIFIED:20250225T050000Z
UID:821188-1747237500-1747237500@www.dedhamcountryday.org
SUMMARY:Away @ Derby
DESCRIPTION:
URL:https://www.dedhamcountryday.org/event/away-derby-40/
END:VEVENT
BEGIN:VEVENT
DTSTART;TZID=America/New_York:20250514T154500
DTEND;TZID=America/New_York:20250514T154500
DTSTAMP:20260421T084931
CREATED:20250222T050000Z
LAST-MODIFIED:20250222T050000Z
UID:815848-1747237500-1747237500@www.dedhamcountryday.org
SUMMARY:Away @ Derby
DESCRIPTION:
URL:https://www.dedhamcountryday.org/event/away-derby-32/
END:VEVENT
BEGIN:VEVENT
DTSTART;TZID=America/New_York:20250514T153000
DTEND;TZID=America/New_York:20250514T153000
DTSTAMP:20260421T084931
CREATED:20250303T050000Z
LAST-MODIFIED:20250303T050000Z
UID:831221-1747236600-1747236600@www.dedhamcountryday.org
SUMMARY:Away @ Fay
DESCRIPTION:
URL:https://www.dedhamcountryday.org/event/away-fay-27/
END:VEVENT
BEGIN:VEVENT
DTSTART;TZID=America/New_York:20250514T153000
DTEND;TZID=America/New_York:20250514T153000
DTSTAMP:20260421T084931
CREATED:20250225T050000Z
LAST-MODIFIED:20250225T050000Z
UID:820904-1747236600-1747236600@www.dedhamcountryday.org
SUMMARY:Away @ Fay
DESCRIPTION:
URL:https://www.dedhamcountryday.org/event/away-fay-17/
END:VEVENT
BEGIN:VEVENT
DTSTART;TZID=America/New_York:20250514T153000
DTEND;TZID=America/New_York:20250514T153000
DTSTAMP:20260421T084931
CREATED:20250225T050000Z
LAST-MODIFIED:20250225T050000Z
UID:820940-1747236600-1747236600@www.dedhamcountryday.org
SUMMARY:Away @ Dana Hall
DESCRIPTION:
URL:https://www.dedhamcountryday.org/event/away-dana-hall-5/
END:VEVENT
BEGIN:VEVENT
DTSTART;TZID=America/New_York:20250514T153000
DTEND;TZID=America/New_York:20250514T153000
DTSTAMP:20260421T084931
CREATED:20250225T050000Z
LAST-MODIFIED:20250225T050000Z
UID:820969-1747236600-1747236600@www.dedhamcountryday.org
SUMMARY:Away @ Fay
DESCRIPTION:
URL:https://www.dedhamcountryday.org/event/away-fay-19/
END:VEVENT
END:VCALENDAR