BEGIN:VCALENDAR
VERSION:2.0
PRODID:-//Dedham Country Day School - ECPv5.6.0//NONSGML v1.0//EN
CALSCALE:GREGORIAN
METHOD:PUBLISH
X-WR-CALNAME:Dedham Country Day School
X-ORIGINAL-URL:https://www.dedhamcountryday.org
X-WR-CALDESC:Events for Dedham Country Day School
BEGIN:VTIMEZONE
TZID:America/New_York
BEGIN:DAYLIGHT
TZOFFSETFROM:-0500
TZOFFSETTO:-0400
TZNAME:EDT
DTSTART:20260308T070000
END:DAYLIGHT
BEGIN:STANDARD
TZOFFSETFROM:-0400
TZOFFSETTO:-0500
TZNAME:EST
DTSTART:20261101T060000
END:STANDARD
END:VTIMEZONE
BEGIN:VEVENT
DTSTART;TZID=America/New_York:20260522T000000
DTEND;TZID=America/New_York:20260522T000000
DTSTAMP:20260421T012334
CREATED:20251227T194600Z
LAST-MODIFIED:20251227T194600Z
UID:887244-1779408000-1779408000@www.dedhamcountryday.org
SUMMARY:MS Arts: Day 2
DESCRIPTION:
URL:https://www.dedhamcountryday.org/event/ms-arts-day-2-46/
CATEGORIES:Events
END:VEVENT
BEGIN:VEVENT
DTSTART;TZID=America/New_York:20260521T153000
DTEND;TZID=America/New_York:20260521T153000
DTSTAMP:20260421T012334
CREATED:20260421T040000Z
LAST-MODIFIED:20260421T040000Z
UID:1004032-1779377400-1779377400@www.dedhamcountryday.org
SUMMARY:Away @ The Fessenden School (Tennis)
DESCRIPTION:
URL:https://www.dedhamcountryday.org/event/away-the-fessenden-school-tennis-2/
END:VEVENT
BEGIN:VEVENT
DTSTART;TZID=America/New_York:20260521T153000
DTEND;TZID=America/New_York:20260521T153000
DTSTAMP:20260421T012334
CREATED:20260421T040000Z
LAST-MODIFIED:20260421T040000Z
UID:1004240-1779377400-1779377400@www.dedhamcountryday.org
SUMMARY:Away @ The Fessenden School (Tennis)
DESCRIPTION:
URL:https://www.dedhamcountryday.org/event/away-the-fessenden-school-tennis-5/
END:VEVENT
BEGIN:VEVENT
DTSTART;TZID=America/New_York:20260521T153000
DTEND;TZID=America/New_York:20260521T153000
DTSTAMP:20260421T012334
CREATED:20260421T040000Z
LAST-MODIFIED:20260421T040000Z
UID:1004448-1779377400-1779377400@www.dedhamcountryday.org
SUMMARY:Away @ The Fessenden School (Tennis)
DESCRIPTION:
URL:https://www.dedhamcountryday.org/event/away-the-fessenden-school-tennis-7/
END:VEVENT
BEGIN:VEVENT
DTSTART;TZID=America/New_York:20260521T153000
DTEND;TZID=America/New_York:20260521T153000
DTSTAMP:20260421T012334
CREATED:20260421T040000Z
LAST-MODIFIED:20260421T040000Z
UID:1004656-1779377400-1779377400@www.dedhamcountryday.org
SUMMARY:Away @ The Fessenden School (Tennis)
DESCRIPTION:
URL:https://www.dedhamcountryday.org/event/away-the-fessenden-school-tennis-9/
END:VEVENT
BEGIN:VEVENT
DTSTART;TZID=America/New_York:20260521T130000
DTEND;TZID=America/New_York:20260521T143000
DTSTAMP:20260421T012334
CREATED:20260327T030800Z
LAST-MODIFIED:20260327T030800Z
UID:982946-1779368400-1779373800@www.dedhamcountryday.org
SUMMARY:Gr 5 Odyssey Performance
DESCRIPTION:
URL:https://www.dedhamcountryday.org/event/gr-5-odyssey-performance/
CATEGORIES:Events
END:VEVENT
BEGIN:VEVENT
DTSTART;TZID=America/New_York:20260521T090000
DTEND;TZID=America/New_York:20260521T120000
DTSTAMP:20260421T012334
CREATED:20260323T205700Z
LAST-MODIFIED:20260323T205700Z
UID:981453-1779354000-1779364800@www.dedhamcountryday.org
SUMMARY:Visit from Terrance Roberts of the Little Rock Nine
DESCRIPTION:
URL:https://www.dedhamcountryday.org/event/visit-from-terrance-roberts-of-the-little-rock-nine/
CATEGORIES:Events
END:VEVENT
BEGIN:VEVENT
DTSTART;TZID=America/New_York:20260521T000000
DTEND;TZID=America/New_York:20260521T000000
DTSTAMP:20260421T012334
CREATED:20251227T194500Z
LAST-MODIFIED:20251227T194500Z
UID:887243-1779321600-1779321600@www.dedhamcountryday.org
SUMMARY:MS Arts: Day 1
DESCRIPTION:
URL:https://www.dedhamcountryday.org/event/ms-arts-day-1-48/
CATEGORIES:Events
END:VEVENT
BEGIN:VEVENT
DTSTART;TZID=America/New_York:20260520T170000
DTEND;TZID=America/New_York:20260520T180000
DTSTAMP:20260421T012334
CREATED:20250711T134100Z
LAST-MODIFIED:20250711T134100Z
UID:843484-1779296400-1779300000@www.dedhamcountryday.org
SUMMARY:New Families Ice Cream Social
DESCRIPTION:
URL:https://www.dedhamcountryday.org/event/new-families-ice-cream-social/
CATEGORIES:Events
END:VEVENT
BEGIN:VEVENT
DTSTART;TZID=America/New_York:20260520T153000
DTEND;TZID=America/New_York:20260520T153000
DTSTAMP:20260421T012334
CREATED:20260421T040000Z
LAST-MODIFIED:20260421T040000Z
UID:1004001-1779291000-1779291000@www.dedhamcountryday.org
SUMMARY:Away @ Carroll School
DESCRIPTION:Carroll School – Upper School – 45 Waltham Road Wayland\, MA 01778
URL:https://www.dedhamcountryday.org/event/away-carroll-school-48/
END:VEVENT
BEGIN:VEVENT
DTSTART;TZID=America/New_York:20260520T153000
DTEND;TZID=America/New_York:20260520T153000
DTSTAMP:20260421T012334
CREATED:20260421T040000Z
LAST-MODIFIED:20260421T040000Z
UID:1004030-1779291000-1779291000@www.dedhamcountryday.org
SUMMARY:Away @ Dexter Southfield (Tennis)
DESCRIPTION:
URL:https://www.dedhamcountryday.org/event/away-dexter-southfield-tennis-8/
END:VEVENT
BEGIN:VEVENT
DTSTART;TZID=America/New_York:20260520T153000
DTEND;TZID=America/New_York:20260520T153000
DTSTAMP:20260421T012334
CREATED:20260421T040000Z
LAST-MODIFIED:20260421T040000Z
UID:1004031-1779291000-1779291000@www.dedhamcountryday.org
SUMMARY:Away @ Meadowbrook School (Tennis)
DESCRIPTION:
URL:https://www.dedhamcountryday.org/event/away-meadowbrook-school-tennis/
END:VEVENT
BEGIN:VEVENT
DTSTART;TZID=America/New_York:20260520T153000
DTEND;TZID=America/New_York:20260520T153000
DTSTAMP:20260421T012334
CREATED:20260421T040000Z
LAST-MODIFIED:20260421T040000Z
UID:1004209-1779291000-1779291000@www.dedhamcountryday.org
SUMMARY:Away @ Carroll School
DESCRIPTION:Carroll School – Upper School – 45 Waltham Road Wayland\, MA 01778
URL:https://www.dedhamcountryday.org/event/away-carroll-school-54/
END:VEVENT
BEGIN:VEVENT
DTSTART;TZID=America/New_York:20260520T153000
DTEND;TZID=America/New_York:20260520T153000
DTSTAMP:20260421T012334
CREATED:20260421T040000Z
LAST-MODIFIED:20260421T040000Z
UID:1004238-1779291000-1779291000@www.dedhamcountryday.org
SUMMARY:Away @ Dexter Southfield (Tennis)
DESCRIPTION:
URL:https://www.dedhamcountryday.org/event/away-dexter-southfield-tennis-9/
END:VEVENT
BEGIN:VEVENT
DTSTART;TZID=America/New_York:20260520T153000
DTEND;TZID=America/New_York:20260520T153000
DTSTAMP:20260421T012334
CREATED:20260421T040000Z
LAST-MODIFIED:20260421T040000Z
UID:1004239-1779291000-1779291000@www.dedhamcountryday.org
SUMMARY:Away @ Meadowbrook School (Tennis)
DESCRIPTION:
URL:https://www.dedhamcountryday.org/event/away-meadowbrook-school-tennis-2/
END:VEVENT
BEGIN:VEVENT
DTSTART;TZID=America/New_York:20260520T153000
DTEND;TZID=America/New_York:20260520T153000
DTSTAMP:20260421T012334
CREATED:20260421T040000Z
LAST-MODIFIED:20260421T040000Z
UID:1004417-1779291000-1779291000@www.dedhamcountryday.org
SUMMARY:Away @ Carroll School
DESCRIPTION:Carroll School – Upper School – 45 Waltham Road Wayland\, MA 01778
URL:https://www.dedhamcountryday.org/event/away-carroll-school-60/
END:VEVENT
BEGIN:VEVENT
DTSTART;TZID=America/New_York:20260520T153000
DTEND;TZID=America/New_York:20260520T153000
DTSTAMP:20260421T012334
CREATED:20260421T040000Z
LAST-MODIFIED:20260421T040000Z
UID:1004446-1779291000-1779291000@www.dedhamcountryday.org
SUMMARY:Away @ Dexter Southfield (Tennis)
DESCRIPTION:
URL:https://www.dedhamcountryday.org/event/away-dexter-southfield-tennis-10/
END:VEVENT
BEGIN:VEVENT
DTSTART;TZID=America/New_York:20260520T153000
DTEND;TZID=America/New_York:20260520T153000
DTSTAMP:20260421T012334
CREATED:20260421T040000Z
LAST-MODIFIED:20260421T040000Z
UID:1004447-1779291000-1779291000@www.dedhamcountryday.org
SUMMARY:Away @ Meadowbrook School (Tennis)
DESCRIPTION:
URL:https://www.dedhamcountryday.org/event/away-meadowbrook-school-tennis-3/
END:VEVENT
BEGIN:VEVENT
DTSTART;TZID=America/New_York:20260520T153000
DTEND;TZID=America/New_York:20260520T153000
DTSTAMP:20260421T012334
CREATED:20260421T040000Z
LAST-MODIFIED:20260421T040000Z
UID:1004625-1779291000-1779291000@www.dedhamcountryday.org
SUMMARY:Away @ Carroll School
DESCRIPTION:Carroll School – Upper School – 45 Waltham Road Wayland\, MA 01778
URL:https://www.dedhamcountryday.org/event/away-carroll-school-66/
END:VEVENT
BEGIN:VEVENT
DTSTART;TZID=America/New_York:20260520T153000
DTEND;TZID=America/New_York:20260520T153000
DTSTAMP:20260421T012334
CREATED:20260421T040000Z
LAST-MODIFIED:20260421T040000Z
UID:1004654-1779291000-1779291000@www.dedhamcountryday.org
SUMMARY:Away @ Dexter Southfield (Tennis)
DESCRIPTION:
URL:https://www.dedhamcountryday.org/event/away-dexter-southfield-tennis-11/
END:VEVENT
BEGIN:VEVENT
DTSTART;TZID=America/New_York:20260520T153000
DTEND;TZID=America/New_York:20260520T153000
DTSTAMP:20260421T012334
CREATED:20260421T040000Z
LAST-MODIFIED:20260421T040000Z
UID:1004655-1779291000-1779291000@www.dedhamcountryday.org
SUMMARY:Away @ Meadowbrook School (Tennis)
DESCRIPTION:
URL:https://www.dedhamcountryday.org/event/away-meadowbrook-school-tennis-4/
END:VEVENT
BEGIN:VEVENT
DTSTART;TZID=America/New_York:20260520T000000
DTEND;TZID=America/New_York:20260520T000000
DTSTAMP:20260421T012334
CREATED:20251227T194500Z
LAST-MODIFIED:20251227T194500Z
UID:887242-1779235200-1779235200@www.dedhamcountryday.org
SUMMARY:MS Arts: Day 3
DESCRIPTION:
URL:https://www.dedhamcountryday.org/event/ms-arts-day-3-44/
CATEGORIES:Events
END:VEVENT
BEGIN:VEVENT
DTSTART;TZID=America/New_York:20260520T000000
DTEND;TZID=America/New_York:20260520T000000
DTSTAMP:20260421T012334
CREATED:20250717T184100Z
LAST-MODIFIED:20250717T184100Z
UID:843727-1779235200-1779235200@www.dedhamcountryday.org
SUMMARY:Gr 6 Returns from Overnight Outdoors Program
DESCRIPTION:
URL:https://www.dedhamcountryday.org/event/gr-6-returns-from-overnight-outdoors-program-2/
CATEGORIES:Events
END:VEVENT
BEGIN:VEVENT
DTSTART;TZID=America/New_York:20260519T154500
DTEND;TZID=America/New_York:20260519T154500
DTSTAMP:20260421T012334
CREATED:20260421T040000Z
LAST-MODIFIED:20260421T040000Z
UID:1004000-1779205500-1779205500@www.dedhamcountryday.org
SUMMARY:Home VS Nobles and Grenough
DESCRIPTION:
URL:https://www.dedhamcountryday.org/event/home-vs-nobles-and-grenough/
END:VEVENT
BEGIN:VEVENT
DTSTART;TZID=America/New_York:20260519T154500
DTEND;TZID=America/New_York:20260519T154500
DTSTAMP:20260421T012334
CREATED:20260421T040000Z
LAST-MODIFIED:20260421T040000Z
UID:1004208-1779205500-1779205500@www.dedhamcountryday.org
SUMMARY:Home VS Nobles and Grenough
DESCRIPTION:
URL:https://www.dedhamcountryday.org/event/home-vs-nobles-and-grenough-3/
END:VEVENT
BEGIN:VEVENT
DTSTART;TZID=America/New_York:20260519T154500
DTEND;TZID=America/New_York:20260519T154500
DTSTAMP:20260421T012334
CREATED:20260421T040000Z
LAST-MODIFIED:20260421T040000Z
UID:1004416-1779205500-1779205500@www.dedhamcountryday.org
SUMMARY:Home VS Nobles and Grenough
DESCRIPTION:
URL:https://www.dedhamcountryday.org/event/home-vs-nobles-and-grenough-4/
END:VEVENT
BEGIN:VEVENT
DTSTART;TZID=America/New_York:20260519T154500
DTEND;TZID=America/New_York:20260519T154500
DTSTAMP:20260421T012334
CREATED:20260421T040000Z
LAST-MODIFIED:20260421T040000Z
UID:1004624-1779205500-1779205500@www.dedhamcountryday.org
SUMMARY:Home VS Nobles and Grenough
DESCRIPTION:
URL:https://www.dedhamcountryday.org/event/home-vs-nobles-and-grenough-5/
END:VEVENT
BEGIN:VEVENT
DTSTART;TZID=America/New_York:20260519T153000
DTEND;TZID=America/New_York:20260519T153000
DTSTAMP:20260421T012334
CREATED:20260421T040000Z
LAST-MODIFIED:20260421T040000Z
UID:1003977-1779204600-1779204600@www.dedhamcountryday.org
SUMMARY:Home VS The Rivers School
DESCRIPTION:
URL:https://www.dedhamcountryday.org/event/home-vs-the-rivers-school-2/
END:VEVENT
BEGIN:VEVENT
DTSTART;TZID=America/New_York:20260519T153000
DTEND;TZID=America/New_York:20260519T153000
DTSTAMP:20260421T012334
CREATED:20260421T040000Z
LAST-MODIFIED:20260421T040000Z
UID:1004028-1779204600-1779204600@www.dedhamcountryday.org
SUMMARY:Away @ Beaver Country Day ( Tennis)
DESCRIPTION:
URL:https://www.dedhamcountryday.org/event/away-beaver-country-day-tennis-2/
END:VEVENT
BEGIN:VEVENT
DTSTART;TZID=America/New_York:20260519T153000
DTEND;TZID=America/New_York:20260519T153000
DTSTAMP:20260421T012334
CREATED:20260421T040000Z
LAST-MODIFIED:20260421T040000Z
UID:1004029-1779204600-1779204600@www.dedhamcountryday.org
SUMMARY:Away @ Thayer Academy (Tennis)
DESCRIPTION:@ Playing Fields – South Athletic Campus | Tennis Courts
URL:https://www.dedhamcountryday.org/event/away-thayer-academy-tennis/
END:VEVENT
END:VCALENDAR