BEGIN:VCALENDAR
VERSION:2.0
PRODID:-//Dedham Country Day School - ECPv5.6.0//NONSGML v1.0//EN
CALSCALE:GREGORIAN
METHOD:PUBLISH
X-WR-CALNAME:Dedham Country Day School
X-ORIGINAL-URL:https://www.dedhamcountryday.org
X-WR-CALDESC:Events for Dedham Country Day School
BEGIN:VTIMEZONE
TZID:America/New_York
BEGIN:DAYLIGHT
TZOFFSETFROM:-0500
TZOFFSETTO:-0400
TZNAME:EDT
DTSTART:20250309T070000
END:DAYLIGHT
BEGIN:STANDARD
TZOFFSETFROM:-0400
TZOFFSETTO:-0500
TZNAME:EST
DTSTART:20251102T060000
END:STANDARD
END:VTIMEZONE
BEGIN:VEVENT
DTSTART;TZID=America/New_York:20250416T151500
DTEND;TZID=America/New_York:20250416T151500
DTSTAMP:20260424T103332
CREATED:20250225T050000Z
LAST-MODIFIED:20250225T050000Z
UID:821000-1744816500-1744816500@www.dedhamcountryday.org
SUMMARY:Home VS Milton
DESCRIPTION:
URL:https://www.dedhamcountryday.org/event/home-vs-milton-24/
END:VEVENT
BEGIN:VEVENT
DTSTART;TZID=America/New_York:20250416T151500
DTEND;TZID=America/New_York:20250416T151500
DTSTAMP:20260424T103332
CREATED:20250225T050000Z
LAST-MODIFIED:20250225T050000Z
UID:821067-1744816500-1744816500@www.dedhamcountryday.org
SUMMARY:Home VS Milton
DESCRIPTION:
URL:https://www.dedhamcountryday.org/event/home-vs-milton-26/
END:VEVENT
BEGIN:VEVENT
DTSTART;TZID=America/New_York:20250416T151500
DTEND;TZID=America/New_York:20250416T151500
DTSTAMP:20260424T103332
CREATED:20250225T050000Z
LAST-MODIFIED:20250225T050000Z
UID:821131-1744816500-1744816500@www.dedhamcountryday.org
SUMMARY:Home VS Milton
DESCRIPTION:
URL:https://www.dedhamcountryday.org/event/home-vs-milton-29/
END:VEVENT
BEGIN:VEVENT
DTSTART;TZID=America/New_York:20250416T151500
DTEND;TZID=America/New_York:20250416T151500
DTSTAMP:20260424T103332
CREATED:20250225T050000Z
LAST-MODIFIED:20250225T050000Z
UID:821192-1744816500-1744816500@www.dedhamcountryday.org
SUMMARY:Home VS Milton
DESCRIPTION:
URL:https://www.dedhamcountryday.org/event/home-vs-milton-31/
END:VEVENT
BEGIN:VEVENT
DTSTART;TZID=America/New_York:20250416T151500
DTEND;TZID=America/New_York:20250416T151500
DTSTAMP:20260424T103332
CREATED:20250305T050000Z
LAST-MODIFIED:20250305T050000Z
UID:835460-1744816500-1744816500@www.dedhamcountryday.org
SUMMARY:Home VS Milton
DESCRIPTION:
URL:https://www.dedhamcountryday.org/event/home-vs-milton-41/
END:VEVENT
BEGIN:VEVENT
DTSTART;TZID=America/New_York:20250416T153000
DTEND;TZID=America/New_York:20250416T153000
DTSTAMP:20260424T103332
CREATED:20250225T050000Z
LAST-MODIFIED:20250225T050000Z
UID:820914-1744817400-1744817400@www.dedhamcountryday.org
SUMMARY:Away @ Belmont Day
DESCRIPTION:
URL:https://www.dedhamcountryday.org/event/away-belmont-day-37/
END:VEVENT
BEGIN:VEVENT
DTSTART;TZID=America/New_York:20250416T153000
DTEND;TZID=America/New_York:20250416T153000
DTSTAMP:20260424T103332
CREATED:20250225T050000Z
LAST-MODIFIED:20250225T050000Z
UID:820925-1744817400-1744817400@www.dedhamcountryday.org
SUMMARY:Home VS Newton Country Day
DESCRIPTION:
URL:https://www.dedhamcountryday.org/event/home-vs-newton-country-day-12/
END:VEVENT
BEGIN:VEVENT
DTSTART;TZID=America/New_York:20250416T153000
DTEND;TZID=America/New_York:20250416T153000
DTSTAMP:20260424T103332
CREATED:20250225T050000Z
LAST-MODIFIED:20250225T050000Z
UID:820979-1744817400-1744817400@www.dedhamcountryday.org
SUMMARY:Away @ Belmont Day
DESCRIPTION:
URL:https://www.dedhamcountryday.org/event/away-belmont-day-40/
END:VEVENT
BEGIN:VEVENT
DTSTART;TZID=America/New_York:20250416T153000
DTEND;TZID=America/New_York:20250416T153000
DTSTAMP:20260424T103332
CREATED:20250225T050000Z
LAST-MODIFIED:20250225T050000Z
UID:820990-1744817400-1744817400@www.dedhamcountryday.org
SUMMARY:Home VS Newton Country Day
DESCRIPTION:
URL:https://www.dedhamcountryday.org/event/home-vs-newton-country-day-13/
END:VEVENT
BEGIN:VEVENT
DTSTART;TZID=America/New_York:20250416T153000
DTEND;TZID=America/New_York:20250416T153000
DTSTAMP:20260424T103332
CREATED:20250225T050000Z
LAST-MODIFIED:20250225T050000Z
UID:821046-1744817400-1744817400@www.dedhamcountryday.org
SUMMARY:Away @ Belmont Day
DESCRIPTION:
URL:https://www.dedhamcountryday.org/event/away-belmont-day-44/
END:VEVENT
BEGIN:VEVENT
DTSTART;TZID=America/New_York:20250416T153000
DTEND;TZID=America/New_York:20250416T153000
DTSTAMP:20260424T103332
CREATED:20250225T050000Z
LAST-MODIFIED:20250225T050000Z
UID:821057-1744817400-1744817400@www.dedhamcountryday.org
SUMMARY:Home VS Newton Country Day
DESCRIPTION:
URL:https://www.dedhamcountryday.org/event/home-vs-newton-country-day-15/
END:VEVENT
BEGIN:VEVENT
DTSTART;TZID=America/New_York:20250416T153000
DTEND;TZID=America/New_York:20250416T153000
DTSTAMP:20260424T103332
CREATED:20250225T050000Z
LAST-MODIFIED:20250225T050000Z
UID:821110-1744817400-1744817400@www.dedhamcountryday.org
SUMMARY:Away @ Belmont Day
DESCRIPTION:
URL:https://www.dedhamcountryday.org/event/away-belmont-day-46/
END:VEVENT
BEGIN:VEVENT
DTSTART;TZID=America/New_York:20250416T153000
DTEND;TZID=America/New_York:20250416T153000
DTSTAMP:20260424T103332
CREATED:20250225T050000Z
LAST-MODIFIED:20250225T050000Z
UID:821121-1744817400-1744817400@www.dedhamcountryday.org
SUMMARY:Home VS Newton Country Day
DESCRIPTION:
URL:https://www.dedhamcountryday.org/event/home-vs-newton-country-day-16/
END:VEVENT
BEGIN:VEVENT
DTSTART;TZID=America/New_York:20250416T153000
DTEND;TZID=America/New_York:20250416T153000
DTSTAMP:20260424T103332
CREATED:20250225T050000Z
LAST-MODIFIED:20250225T050000Z
UID:821171-1744817400-1744817400@www.dedhamcountryday.org
SUMMARY:Away @ Belmont Day
DESCRIPTION:
URL:https://www.dedhamcountryday.org/event/away-belmont-day-48/
END:VEVENT
BEGIN:VEVENT
DTSTART;TZID=America/New_York:20250416T153000
DTEND;TZID=America/New_York:20250416T153000
DTSTAMP:20260424T103332
CREATED:20250225T050000Z
LAST-MODIFIED:20250225T050000Z
UID:821182-1744817400-1744817400@www.dedhamcountryday.org
SUMMARY:Home VS Newton Country Day
DESCRIPTION:
URL:https://www.dedhamcountryday.org/event/home-vs-newton-country-day-17/
END:VEVENT
BEGIN:VEVENT
DTSTART;TZID=America/New_York:20250416T153000
DTEND;TZID=America/New_York:20250416T153000
DTSTAMP:20260424T103332
CREATED:20250228T050000Z
LAST-MODIFIED:20250228T050000Z
UID:826043-1744817400-1744817400@www.dedhamcountryday.org
SUMMARY:Home VS Newton Country Day
DESCRIPTION:
URL:https://www.dedhamcountryday.org/event/home-vs-newton-country-day-20/
END:VEVENT
BEGIN:VEVENT
DTSTART;TZID=America/New_York:20250417T080000
DTEND;TZID=America/New_York:20250417T160000
DTSTAMP:20260424T103332
CREATED:20250415T145400Z
LAST-MODIFIED:20250415T145400Z
UID:838091-1744876800-1744905600@www.dedhamcountryday.org
SUMMARY:SEL Program Review on Campus
DESCRIPTION:We are delighted to welcome visitors as they observe DCD’s SEL offerings on campus\, and a day in the life of a DCD student. \nTeam members include:\n\nEmily Rabinowitz-Buchanan –  Assistant Head of School for Student + Community Life\, Director of Lower School\, Glen Urquhart School\nRachel Stevens – Responsive Classroom Coordinator & K-2 Reading Specialist\, Buckingham Browne & Nichols School\nJulie Perlow – Director of Student Life\, Kingsley Montessori School
URL:https://www.dedhamcountryday.org/event/sel-program-review-on-campus-2/
CATEGORIES:Events
END:VEVENT
BEGIN:VEVENT
DTSTART;TZID=America/New_York:20250417T083000
DTEND;TZID=America/New_York:20250417T090000
DTSTAMP:20260424T103332
CREATED:20240701T182700Z
LAST-MODIFIED:20240701T182700Z
UID:701468-1744878600-1744880400@www.dedhamcountryday.org
SUMMARY:PreK Class Play
DESCRIPTION:
URL:https://www.dedhamcountryday.org/event/prek-class-play-4/
CATEGORIES:Events
END:VEVENT
BEGIN:VEVENT
DTSTART;TZID=America/New_York:20250417T083000
DTEND;TZID=America/New_York:20250417T143000
DTSTAMP:20260424T103332
CREATED:20250409T145700Z
LAST-MODIFIED:20250409T145700Z
UID:838034-1744878600-1744900200@www.dedhamcountryday.org
SUMMARY:Gr 3 Field Trip to Boston Tea Party Museum
DESCRIPTION:
URL:https://www.dedhamcountryday.org/event/gr-3-field-trip-to-boston-tea-party-museum/
CATEGORIES:Events
END:VEVENT
BEGIN:VEVENT
DTSTART;TZID=America/New_York:20250417T153000
DTEND;TZID=America/New_York:20250417T153000
DTSTAMP:20260424T103332
CREATED:20250223T050000Z
LAST-MODIFIED:20250223T050000Z
UID:817424-1744903800-1744903800@www.dedhamcountryday.org
SUMMARY:Home VS Park
DESCRIPTION:
URL:https://www.dedhamcountryday.org/event/home-vs-park-9/
END:VEVENT
BEGIN:VEVENT
DTSTART;TZID=America/New_York:20250417T153000
DTEND;TZID=America/New_York:20250417T153000
DTSTAMP:20260424T103332
CREATED:20250225T050000Z
LAST-MODIFIED:20250225T050000Z
UID:820908-1744903800-1744903800@www.dedhamcountryday.org
SUMMARY:Home VS Park
DESCRIPTION:
URL:https://www.dedhamcountryday.org/event/home-vs-park-13/
END:VEVENT
BEGIN:VEVENT
DTSTART;TZID=America/New_York:20250417T153000
DTEND;TZID=America/New_York:20250417T153000
DTSTAMP:20260424T103332
CREATED:20250225T050000Z
LAST-MODIFIED:20250225T050000Z
UID:820943-1744903800-1744903800@www.dedhamcountryday.org
SUMMARY:Home VS Carroll (Pickleball @ Boston Pickle Club)
DESCRIPTION:Location: 91-B Sprague St\, Boston\, MA 02136
URL:https://www.dedhamcountryday.org/event/home-vs-carroll-pickleball-boston-pickle-club/
END:VEVENT
BEGIN:VEVENT
DTSTART;TZID=America/New_York:20250417T153000
DTEND;TZID=America/New_York:20250417T153000
DTSTAMP:20260424T103332
CREATED:20250225T050000Z
LAST-MODIFIED:20250225T050000Z
UID:820973-1744903800-1744903800@www.dedhamcountryday.org
SUMMARY:Home VS Park
DESCRIPTION:
URL:https://www.dedhamcountryday.org/event/home-vs-park-14/
END:VEVENT
BEGIN:VEVENT
DTSTART;TZID=America/New_York:20250417T153000
DTEND;TZID=America/New_York:20250417T153000
DTSTAMP:20260424T103332
CREATED:20250225T050000Z
LAST-MODIFIED:20250225T050000Z
UID:821008-1744903800-1744903800@www.dedhamcountryday.org
SUMMARY:Home VS Carroll (Pickleball @ Boston Pickle Club)
DESCRIPTION:Location: 91-B Sprague St\, Boston\, MA 02136
URL:https://www.dedhamcountryday.org/event/home-vs-carroll-pickleball-boston-pickle-club-2/
END:VEVENT
BEGIN:VEVENT
DTSTART;TZID=America/New_York:20250417T153000
DTEND;TZID=America/New_York:20250417T153000
DTSTAMP:20260424T103332
CREATED:20250225T050000Z
LAST-MODIFIED:20250225T050000Z
UID:821040-1744903800-1744903800@www.dedhamcountryday.org
SUMMARY:Home VS Park
DESCRIPTION:
URL:https://www.dedhamcountryday.org/event/home-vs-park-16/
END:VEVENT
BEGIN:VEVENT
DTSTART;TZID=America/New_York:20250417T153000
DTEND;TZID=America/New_York:20250417T153000
DTSTAMP:20260424T103332
CREATED:20250225T050000Z
LAST-MODIFIED:20250225T050000Z
UID:821075-1744903800-1744903800@www.dedhamcountryday.org
SUMMARY:Home VS Carroll (Pickleball @ Boston Pickle Club)
DESCRIPTION:Location: 91-B Sprague St\, Boston\, MA 02136
URL:https://www.dedhamcountryday.org/event/home-vs-carroll-pickleball-boston-pickle-club-3/
END:VEVENT
BEGIN:VEVENT
DTSTART;TZID=America/New_York:20250417T153000
DTEND;TZID=America/New_York:20250417T153000
DTSTAMP:20260424T103332
CREATED:20250225T050000Z
LAST-MODIFIED:20250225T050000Z
UID:821104-1744903800-1744903800@www.dedhamcountryday.org
SUMMARY:Home VS Park
DESCRIPTION:
URL:https://www.dedhamcountryday.org/event/home-vs-park-18/
END:VEVENT
BEGIN:VEVENT
DTSTART;TZID=America/New_York:20250417T153000
DTEND;TZID=America/New_York:20250417T153000
DTSTAMP:20260424T103332
CREATED:20250225T050000Z
LAST-MODIFIED:20250225T050000Z
UID:821139-1744903800-1744903800@www.dedhamcountryday.org
SUMMARY:Home VS Carroll (Pickleball @ Boston Pickle Club)
DESCRIPTION:Location: 91-B Sprague St\, Boston\, MA 02136
URL:https://www.dedhamcountryday.org/event/home-vs-carroll-pickleball-boston-pickle-club-4/
END:VEVENT
BEGIN:VEVENT
DTSTART;TZID=America/New_York:20250417T153000
DTEND;TZID=America/New_York:20250417T153000
DTSTAMP:20260424T103332
CREATED:20250225T050000Z
LAST-MODIFIED:20250225T050000Z
UID:821165-1744903800-1744903800@www.dedhamcountryday.org
SUMMARY:Home VS Park
DESCRIPTION:
URL:https://www.dedhamcountryday.org/event/home-vs-park-20/
END:VEVENT
BEGIN:VEVENT
DTSTART;TZID=America/New_York:20250417T153000
DTEND;TZID=America/New_York:20250417T153000
DTSTAMP:20260424T103332
CREATED:20250225T050000Z
LAST-MODIFIED:20250225T050000Z
UID:821200-1744903800-1744903800@www.dedhamcountryday.org
SUMMARY:Home VS Carroll (Pickleball @ Boston Pickle Club)
DESCRIPTION:Location: 91-B Sprague St\, Boston\, MA 02136
URL:https://www.dedhamcountryday.org/event/home-vs-carroll-pickleball-boston-pickle-club-5/
END:VEVENT
END:VCALENDAR