BEGIN:VCALENDAR
VERSION:2.0
PRODID:-//Dedham Country Day School - ECPv5.6.0//NONSGML v1.0//EN
CALSCALE:GREGORIAN
METHOD:PUBLISH
X-WR-CALNAME:Dedham Country Day School
X-ORIGINAL-URL:https://www.dedhamcountryday.org
X-WR-CALDESC:Events for Dedham Country Day School
BEGIN:VTIMEZONE
TZID:America/New_York
BEGIN:DAYLIGHT
TZOFFSETFROM:-0500
TZOFFSETTO:-0400
TZNAME:EDT
DTSTART:20250309T070000
END:DAYLIGHT
BEGIN:STANDARD
TZOFFSETFROM:-0400
TZOFFSETTO:-0500
TZNAME:EST
DTSTART:20251102T060000
END:STANDARD
END:VTIMEZONE
BEGIN:VEVENT
DTSTART;TZID=America/New_York:20251017T183000
DTEND;TZID=America/New_York:20251017T203000
DTSTAMP:20260420T080956
CREATED:20251005T211200Z
LAST-MODIFIED:20251005T211200Z
UID:851636-1760725800-1760733000@www.dedhamcountryday.org
SUMMARY:Middle School Dance
DESCRIPTION:
URL:https://www.dedhamcountryday.org/event/middle-school-dance/
CATEGORIES:Events
END:VEVENT
BEGIN:VEVENT
DTSTART;TZID=America/New_York:20251017T123000
DTEND;TZID=America/New_York:20251017T150000
DTSTAMP:20260420T080956
CREATED:20250904T135000Z
LAST-MODIFIED:20250904T135000Z
UID:849185-1760704200-1760713200@www.dedhamcountryday.org
SUMMARY:SSAT Prep Session for Gr 8 Students
DESCRIPTION:
URL:https://www.dedhamcountryday.org/event/ssat-prep-session-for-gr-8-students-6/
CATEGORIES:Events
END:VEVENT
BEGIN:VEVENT
DTSTART;TZID=America/New_York:20251017T081000
DTEND;TZID=America/New_York:20251017T083000
DTSTAMP:20260420T080956
CREATED:20250711T150400Z
LAST-MODIFIED:20250711T150400Z
UID:843526-1760688600-1760689800@www.dedhamcountryday.org
SUMMARY:All-School Assembly
DESCRIPTION:
URL:https://www.dedhamcountryday.org/event/all-school-assembly-22/
CATEGORIES:Events
END:VEVENT
BEGIN:VEVENT
DTSTART;VALUE=DATE:20251017
DTEND;VALUE=DATE:20251018
DTSTAMP:20260420T080956
CREATED:20250710T194100Z
LAST-MODIFIED:20250710T194100Z
UID:843391-1760659200-1760745599@www.dedhamcountryday.org
SUMMARY:MS Arts: Day 2
DESCRIPTION:
URL:https://www.dedhamcountryday.org/event/ms-arts-day-2-10/
CATEGORIES:Events
END:VEVENT
BEGIN:VEVENT
DTSTART;TZID=America/New_York:20251016T180000
DTEND;TZID=America/New_York:20251016T200000
DTSTAMP:20260420T080956
CREATED:20250709T210600Z
LAST-MODIFIED:20250709T210600Z
UID:843229-1760637600-1760644800@www.dedhamcountryday.org
SUMMARY:DCD Annual Meeting
DESCRIPTION:
URL:https://www.dedhamcountryday.org/event/dcd-annual-meeting-2/
CATEGORIES:Events
END:VEVENT
BEGIN:VEVENT
DTSTART;TZID=America/New_York:20251016T153000
DTEND;TZID=America/New_York:20251016T153000
DTSTAMP:20260420T080956
CREATED:20260420T040000Z
LAST-MODIFIED:20260420T040000Z
UID:1001517-1760628600-1760628600@www.dedhamcountryday.org
SUMMARY:Away @ Nobles
DESCRIPTION:
URL:https://www.dedhamcountryday.org/event/away-nobles-65/
END:VEVENT
BEGIN:VEVENT
DTSTART;TZID=America/New_York:20251016T153000
DTEND;TZID=America/New_York:20251016T153000
DTSTAMP:20260420T080956
CREATED:20260420T040000Z
LAST-MODIFIED:20260420T040000Z
UID:1001552-1760628600-1760628600@www.dedhamcountryday.org
SUMMARY:Home VS Thayer Academy
DESCRIPTION:
URL:https://www.dedhamcountryday.org/event/home-vs-thayer-academy-14/
END:VEVENT
BEGIN:VEVENT
DTSTART;VALUE=DATE:20251016
DTEND;VALUE=DATE:20251017
DTSTAMP:20260420T080956
CREATED:20250710T194100Z
LAST-MODIFIED:20250710T194100Z
UID:843390-1760572800-1760659199@www.dedhamcountryday.org
SUMMARY:MS Arts: Day 1
DESCRIPTION:
URL:https://www.dedhamcountryday.org/event/ms-arts-day-1-10/
CATEGORIES:Events
END:VEVENT
BEGIN:VEVENT
DTSTART;TZID=America/New_York:20251015T153000
DTEND;TZID=America/New_York:20251015T153000
DTSTAMP:20260420T080956
CREATED:20260420T040000Z
LAST-MODIFIED:20260420T040000Z
UID:1001507-1760542200-1760542200@www.dedhamcountryday.org
SUMMARY:Home VS Brimmer and May
DESCRIPTION:
URL:https://www.dedhamcountryday.org/event/home-vs-brimmer-and-may-7/
END:VEVENT
BEGIN:VEVENT
DTSTART;TZID=America/New_York:20251015T153000
DTEND;TZID=America/New_York:20251015T153000
DTSTAMP:20260420T080956
CREATED:20260420T040000Z
LAST-MODIFIED:20260420T040000Z
UID:1001538-1760542200-1760542200@www.dedhamcountryday.org
SUMMARY:Away @ Derby
DESCRIPTION:
URL:https://www.dedhamcountryday.org/event/away-derby-61/
END:VEVENT
BEGIN:VEVENT
DTSTART;TZID=America/New_York:20251015T153000
DTEND;TZID=America/New_York:20251015T153000
DTSTAMP:20260420T080956
CREATED:20260420T040000Z
LAST-MODIFIED:20260420T040000Z
UID:1001551-1760542200-1760542200@www.dedhamcountryday.org
SUMMARY:Home VS Charles River School
DESCRIPTION:
URL:https://www.dedhamcountryday.org/event/home-vs-charles-river-school-25/
END:VEVENT
BEGIN:VEVENT
DTSTART;TZID=America/New_York:20251015T153000
DTEND;TZID=America/New_York:20251015T153000
DTSTAMP:20260420T080956
CREATED:20260420T040000Z
LAST-MODIFIED:20260420T040000Z
UID:1001567-1760542200-1760542200@www.dedhamcountryday.org
SUMMARY:Away @ Carroll School
DESCRIPTION:Location: Carroll Upper School – 45 Waltham Road\nWayland\, MA 01778
URL:https://www.dedhamcountryday.org/event/away-carroll-school-40/
END:VEVENT
BEGIN:VEVENT
DTSTART;TZID=America/New_York:20251015T151500
DTEND;TZID=America/New_York:20251015T151500
DTSTAMP:20260420T080956
CREATED:20260420T040000Z
LAST-MODIFIED:20260420T040000Z
UID:1001526-1760541300-1760541300@www.dedhamcountryday.org
SUMMARY:Home VS Southfield
DESCRIPTION:
URL:https://www.dedhamcountryday.org/event/home-vs-southfield/
END:VEVENT
BEGIN:VEVENT
DTSTART;VALUE=DATE:20251015
DTEND;VALUE=DATE:20251016
DTSTAMP:20260420T080956
CREATED:20250710T194100Z
LAST-MODIFIED:20250710T194100Z
UID:843389-1760486400-1760572799@www.dedhamcountryday.org
SUMMARY:MS Arts: Day 3
DESCRIPTION:
URL:https://www.dedhamcountryday.org/event/ms-arts-day-3-9/
CATEGORIES:Events
END:VEVENT
BEGIN:VEVENT
DTSTART;TZID=America/New_York:20251014T154500
DTEND;TZID=America/New_York:20251014T154500
DTSTAMP:20260420T080956
CREATED:20260420T040000Z
LAST-MODIFIED:20260420T040000Z
UID:1001550-1760456700-1760456700@www.dedhamcountryday.org
SUMMARY:Away @ Fay School
DESCRIPTION:Field Location: DCR Field – 41 Middle Road\, Southborough\, MA
URL:https://www.dedhamcountryday.org/event/away-fay-school-12/
END:VEVENT
BEGIN:VEVENT
DTSTART;TZID=America/New_York:20251014T153000
DTEND;TZID=America/New_York:20251014T153000
DTSTAMP:20260420T080956
CREATED:20260420T040000Z
LAST-MODIFIED:20260420T040000Z
UID:1001506-1760455800-1760455800@www.dedhamcountryday.org
SUMMARY:Away @ Thayer Academy
DESCRIPTION:Field location: Playing Fields – South Athletic Campus | Turf Field\n1535 Washington St\, Braintree\, MA 02184
URL:https://www.dedhamcountryday.org/event/away-thayer-academy-6/
END:VEVENT
BEGIN:VEVENT
DTSTART;TZID=America/New_York:20251014T153000
DTEND;TZID=America/New_York:20251014T153000
DTSTAMP:20260420T080956
CREATED:20260420T040000Z
LAST-MODIFIED:20260420T040000Z
UID:1001566-1760455800-1760455800@www.dedhamcountryday.org
SUMMARY:[RESCHEDULED] Away @ Carroll School
DESCRIPTION:
URL:https://www.dedhamcountryday.org/event/rescheduled-away-carroll-school-8/
END:VEVENT
BEGIN:VEVENT
DTSTART;TZID=America/New_York:20251014T081000
DTEND;TZID=America/New_York:20251014T083000
DTSTAMP:20260420T080956
CREATED:20251012T193600Z
LAST-MODIFIED:20251012T193600Z
UID:852677-1760429400-1760430600@www.dedhamcountryday.org
SUMMARY:Lower School Assembly
DESCRIPTION:
URL:https://www.dedhamcountryday.org/event/lower-school-assembly-32/
CATEGORIES:Events
END:VEVENT
BEGIN:VEVENT
DTSTART;VALUE=DATE:20251014
DTEND;VALUE=DATE:20251015
DTSTAMP:20260420T080956
CREATED:20250710T194100Z
LAST-MODIFIED:20250710T194100Z
UID:843388-1760400000-1760486399@www.dedhamcountryday.org
SUMMARY:MS Arts: Day 2
DESCRIPTION:
URL:https://www.dedhamcountryday.org/event/ms-arts-day-2-9/
CATEGORIES:Events
END:VEVENT
BEGIN:VEVENT
DTSTART;TZID=America/New_York:20251013T000000
DTEND;TZID=America/New_York:20251013T000000
DTSTAMP:20260420T080956
CREATED:20250709T210600Z
LAST-MODIFIED:20250709T210600Z
UID:844172-1760313600-1760313600@www.dedhamcountryday.org
SUMMARY:No School - Indigenous Peoples' Day / Columbus Day
DESCRIPTION:
URL:https://www.dedhamcountryday.org/event/no-school-indigenous-peoples-day-columbus-day/
CATEGORIES:Events
END:VEVENT
BEGIN:VEVENT
DTSTART;TZID=America/New_York:20251012T081000
DTEND;TZID=America/New_York:20251012T083000
DTSTAMP:20260420T080956
CREATED:20251012T193600Z
LAST-MODIFIED:20251012T193600Z
UID:852676-1760256600-1760257800@www.dedhamcountryday.org
SUMMARY:Lower School Assembly
DESCRIPTION:
URL:https://www.dedhamcountryday.org/event/lower-school-assembly-31/
CATEGORIES:Events
END:VEVENT
BEGIN:VEVENT
DTSTART;TZID=America/New_York:20251010T083000
DTEND;TZID=America/New_York:20251010T100000
DTSTAMP:20260420T080956
CREATED:20250711T132700Z
LAST-MODIFIED:20250711T132700Z
UID:843921-1760085000-1760090400@www.dedhamcountryday.org
SUMMARY:Admissions Middle School Classroom Observation for Current Families
DESCRIPTION:
URL:https://www.dedhamcountryday.org/event/admissions-middle-school-classroom-observation-for-current-families/
CATEGORIES:Events
END:VEVENT
BEGIN:VEVENT
DTSTART;TZID=America/New_York:20251010T081000
DTEND;TZID=America/New_York:20251010T083000
DTSTAMP:20260420T080956
CREATED:20250711T150400Z
LAST-MODIFIED:20250711T150400Z
UID:843525-1760083800-1760085000@www.dedhamcountryday.org
SUMMARY:All-School Assembly
DESCRIPTION:
URL:https://www.dedhamcountryday.org/event/all-school-assembly-21/
CATEGORIES:Events
END:VEVENT
BEGIN:VEVENT
DTSTART;VALUE=DATE:20251010
DTEND;VALUE=DATE:20251011
DTSTAMP:20260420T080956
CREATED:20250710T194100Z
LAST-MODIFIED:20250710T194100Z
UID:843387-1760054400-1760140799@www.dedhamcountryday.org
SUMMARY:MS Arts: Day 1
DESCRIPTION:
URL:https://www.dedhamcountryday.org/event/ms-arts-day-1-9/
CATEGORIES:Events
END:VEVENT
BEGIN:VEVENT
DTSTART;TZID=America/New_York:20251009T153000
DTEND;TZID=America/New_York:20251009T153000
DTSTAMP:20260420T080956
CREATED:20260420T040000Z
LAST-MODIFIED:20260420T040000Z
UID:1001537-1760023800-1760023800@www.dedhamcountryday.org
SUMMARY:Home VS Rashi School
DESCRIPTION:
URL:https://www.dedhamcountryday.org/event/home-vs-rashi-school-33/
END:VEVENT
BEGIN:VEVENT
DTSTART;TZID=America/New_York:20251009T131500
DTEND;TZID=America/New_York:20251009T140000
DTSTAMP:20260420T080956
CREATED:20250915T173300Z
LAST-MODIFIED:20250915T173300Z
UID:850019-1760015700-1760018400@www.dedhamcountryday.org
SUMMARY:Middle School Stroll for Gr 5 Students
DESCRIPTION:
URL:https://www.dedhamcountryday.org/event/middle-school-stroll-for-gr-5-students-3/
CATEGORIES:Events
END:VEVENT
BEGIN:VEVENT
DTSTART;TZID=America/New_York:20251009T083000
DTEND;TZID=America/New_York:20251009T104500
DTSTAMP:20260420T080956
CREATED:20250926T013100Z
LAST-MODIFIED:20250926T013100Z
UID:850312-1759998600-1760006700@www.dedhamcountryday.org
SUMMARY:Gr. 1 Field Trip to Volante Farms
DESCRIPTION:
URL:https://www.dedhamcountryday.org/event/gr-1-field-trip-to-volante-farms/
CATEGORIES:Events
END:VEVENT
BEGIN:VEVENT
DTSTART;VALUE=DATE:20251009
DTEND;VALUE=DATE:20251010
DTSTAMP:20260420T080956
CREATED:20250710T194100Z
LAST-MODIFIED:20250710T194100Z
UID:843386-1759968000-1760054399@www.dedhamcountryday.org
SUMMARY:MS Arts: Day 3
DESCRIPTION:
URL:https://www.dedhamcountryday.org/event/ms-arts-day-3-8/
CATEGORIES:Events
END:VEVENT
BEGIN:VEVENT
DTSTART;TZID=America/New_York:20251008T153000
DTEND;TZID=America/New_York:20251008T153000
DTSTAMP:20260420T080956
CREATED:20260420T040000Z
LAST-MODIFIED:20260420T040000Z
UID:1001516-1759937400-1759937400@www.dedhamcountryday.org
SUMMARY:[CANCELED] Away @ Milton
DESCRIPTION:
URL:https://www.dedhamcountryday.org/event/canceled-away-milton-18/
END:VEVENT
BEGIN:VEVENT
DTSTART;TZID=America/New_York:20251008T153000
DTEND;TZID=America/New_York:20251008T153000
DTSTAMP:20260420T080956
CREATED:20260420T040000Z
LAST-MODIFIED:20260420T040000Z
UID:1001525-1759937400-1759937400@www.dedhamcountryday.org
SUMMARY:[CANCELED] Away @ Rivers
DESCRIPTION:Field: Baker Field
URL:https://www.dedhamcountryday.org/event/canceled-away-rivers-2/
END:VEVENT
END:VCALENDAR