BEGIN:VCALENDAR
VERSION:2.0
PRODID:-//Dedham Country Day School - ECPv5.6.0//NONSGML v1.0//EN
CALSCALE:GREGORIAN
METHOD:PUBLISH
X-WR-CALNAME:Dedham Country Day School
X-ORIGINAL-URL:https://www.dedhamcountryday.org
X-WR-CALDESC:Events for Dedham Country Day School
BEGIN:VTIMEZONE
TZID:America/New_York
BEGIN:DAYLIGHT
TZOFFSETFROM:-0500
TZOFFSETTO:-0400
TZNAME:EDT
DTSTART:20260308T070000
END:DAYLIGHT
BEGIN:STANDARD
TZOFFSETFROM:-0400
TZOFFSETTO:-0500
TZNAME:EST
DTSTART:20261101T060000
END:STANDARD
END:VTIMEZONE
BEGIN:VEVENT
DTSTART;TZID=America/New_York:20260422T113714
DTEND;TZID=America/New_York:20260422T113714
DTSTAMP:20260422T113714
CREATED:20241225T050000Z
LAST-MODIFIED:20241225T050000Z
UID:785264-1776857834-1776857834@www.dedhamcountryday.org
SUMMARY:Away @ Tenacre Country Day
DESCRIPTION:
URL:https://www.dedhamcountryday.org/event/away-tenacre-country-day-9/
END:VEVENT
BEGIN:VEVENT
DTSTART;TZID=America/New_York:20260422T113714
DTEND;TZID=America/New_York:20260422T113714
DTSTAMP:20260422T113714
CREATED:20241221T050000Z
LAST-MODIFIED:20241221T050000Z
UID:777430-1776857834-1776857834@www.dedhamcountryday.org
SUMMARY:Away @ Fenn
DESCRIPTION:
URL:https://www.dedhamcountryday.org/event/away-fenn-21/
END:VEVENT
BEGIN:VEVENT
DTSTART;TZID=America/New_York:20260422T113714
DTEND;TZID=America/New_York:20260422T113714
DTSTAMP:20260422T113714
CREATED:20241206T050000Z
LAST-MODIFIED:20241206T050000Z
UID:750284-1776857834-1776857834@www.dedhamcountryday.org
SUMMARY:Away @ Fenn
DESCRIPTION:
URL:https://www.dedhamcountryday.org/event/away-fenn-25/
END:VEVENT
BEGIN:VEVENT
DTSTART;TZID=America/New_York:20260422T113714
DTEND;TZID=America/New_York:20260422T113714
DTSTAMP:20260422T113714
CREATED:20241205T050000Z
LAST-MODIFIED:20241205T050000Z
UID:748425-1776857834-1776857834@www.dedhamcountryday.org
SUMMARY:Away @ Fenn
DESCRIPTION:
URL:https://www.dedhamcountryday.org/event/away-fenn-24/
END:VEVENT
BEGIN:VEVENT
DTSTART;TZID=America/New_York:20260422T113714
DTEND;TZID=America/New_York:20260422T113714
DTSTAMP:20260422T113714
CREATED:20241203T050000Z
LAST-MODIFIED:20241203T050000Z
UID:744648-1776857834-1776857834@www.dedhamcountryday.org
SUMMARY:Away @ Fenn
DESCRIPTION:
URL:https://www.dedhamcountryday.org/event/away-fenn-12/
END:VEVENT
BEGIN:VEVENT
DTSTART;TZID=America/New_York:20260422T113714
DTEND;TZID=America/New_York:20260422T113714
DTSTAMP:20260422T113714
CREATED:20241203T050000Z
LAST-MODIFIED:20241203T050000Z
UID:744664-1776857834-1776857834@www.dedhamcountryday.org
SUMMARY:Away @ Tenacre Country Day
DESCRIPTION:
URL:https://www.dedhamcountryday.org/event/away-tenacre-country-day/
END:VEVENT
BEGIN:VEVENT
DTSTART;TZID=America/New_York:20260422T113714
DTEND;TZID=America/New_York:20260422T113714
DTSTAMP:20260422T113714
CREATED:20241203T050000Z
LAST-MODIFIED:20241203T050000Z
UID:744672-1776857834-1776857834@www.dedhamcountryday.org
SUMMARY:Home VS Charles River
DESCRIPTION:
URL:https://www.dedhamcountryday.org/event/home-vs-charles-river-10/
END:VEVENT
BEGIN:VEVENT
DTSTART;TZID=America/New_York:20260422T113714
DTEND;TZID=America/New_York:20260422T113714
DTSTAMP:20260422T113714
CREATED:20241203T050000Z
LAST-MODIFIED:20241203T050000Z
UID:744715-1776857834-1776857834@www.dedhamcountryday.org
SUMMARY:Away @ Fenn
DESCRIPTION:
URL:https://www.dedhamcountryday.org/event/away-fenn-13/
END:VEVENT
BEGIN:VEVENT
DTSTART;TZID=America/New_York:20260422T113714
DTEND;TZID=America/New_York:20260422T113714
DTSTAMP:20260422T113714
CREATED:20241203T050000Z
LAST-MODIFIED:20241203T050000Z
UID:744731-1776857834-1776857834@www.dedhamcountryday.org
SUMMARY:Away @ Tenacre Country Day
DESCRIPTION:
URL:https://www.dedhamcountryday.org/event/away-tenacre-country-day-2/
END:VEVENT
BEGIN:VEVENT
DTSTART;TZID=America/New_York:20260422T113714
DTEND;TZID=America/New_York:20260422T113714
DTSTAMP:20260422T113714
CREATED:20241203T050000Z
LAST-MODIFIED:20241203T050000Z
UID:744739-1776857834-1776857834@www.dedhamcountryday.org
SUMMARY:Home VS Charles River
DESCRIPTION:
URL:https://www.dedhamcountryday.org/event/home-vs-charles-river-15/
END:VEVENT
BEGIN:VEVENT
DTSTART;TZID=America/New_York:20260422T113714
DTEND;TZID=America/New_York:20260422T113714
DTSTAMP:20260422T113714
CREATED:20241203T050000Z
LAST-MODIFIED:20241203T050000Z
UID:744782-1776857834-1776857834@www.dedhamcountryday.org
SUMMARY:Away @ Fenn
DESCRIPTION:
URL:https://www.dedhamcountryday.org/event/away-fenn-15/
END:VEVENT
BEGIN:VEVENT
DTSTART;TZID=America/New_York:20260422T113714
DTEND;TZID=America/New_York:20260422T113714
DTSTAMP:20260422T113714
CREATED:20241203T050000Z
LAST-MODIFIED:20241203T050000Z
UID:744798-1776857834-1776857834@www.dedhamcountryday.org
SUMMARY:Away @ Tenacre Country Day
DESCRIPTION:
URL:https://www.dedhamcountryday.org/event/away-tenacre-country-day-3/
END:VEVENT
BEGIN:VEVENT
DTSTART;TZID=America/New_York:20260422T113714
DTEND;TZID=America/New_York:20260422T113714
DTSTAMP:20260422T113714
CREATED:20241203T050000Z
LAST-MODIFIED:20241203T050000Z
UID:744806-1776857834-1776857834@www.dedhamcountryday.org
SUMMARY:Home VS Charles River
DESCRIPTION:
URL:https://www.dedhamcountryday.org/event/home-vs-charles-river-17/
END:VEVENT
BEGIN:VEVENT
DTSTART;TZID=America/New_York:20260422T113714
DTEND;TZID=America/New_York:20260422T113714
DTSTAMP:20260422T113714
CREATED:20241203T050000Z
LAST-MODIFIED:20241203T050000Z
UID:744849-1776857834-1776857834@www.dedhamcountryday.org
SUMMARY:Away @ Fenn
DESCRIPTION:
URL:https://www.dedhamcountryday.org/event/away-fenn-18/
END:VEVENT
BEGIN:VEVENT
DTSTART;TZID=America/New_York:20260422T113714
DTEND;TZID=America/New_York:20260422T113714
DTSTAMP:20260422T113714
CREATED:20241203T050000Z
LAST-MODIFIED:20241203T050000Z
UID:744865-1776857834-1776857834@www.dedhamcountryday.org
SUMMARY:Away @ Tenacre Country Day
DESCRIPTION:
URL:https://www.dedhamcountryday.org/event/away-tenacre-country-day-4/
END:VEVENT
BEGIN:VEVENT
DTSTART;TZID=America/New_York:20260422T113714
DTEND;TZID=America/New_York:20260422T113714
DTSTAMP:20260422T113714
CREATED:20241203T050000Z
LAST-MODIFIED:20241203T050000Z
UID:744873-1776857834-1776857834@www.dedhamcountryday.org
SUMMARY:Home VS Charles River
DESCRIPTION:
URL:https://www.dedhamcountryday.org/event/home-vs-charles-river-19/
END:VEVENT
BEGIN:VEVENT
DTSTART;TZID=America/New_York:20260422T113714
DTEND;TZID=America/New_York:20260422T113714
DTSTAMP:20260422T113714
CREATED:20241203T050000Z
LAST-MODIFIED:20241203T050000Z
UID:744916-1776857834-1776857834@www.dedhamcountryday.org
SUMMARY:Away @ Fenn
DESCRIPTION:
URL:https://www.dedhamcountryday.org/event/away-fenn-19/
END:VEVENT
BEGIN:VEVENT
DTSTART;TZID=America/New_York:20260422T113714
DTEND;TZID=America/New_York:20260422T113714
DTSTAMP:20260422T113714
CREATED:20241203T050000Z
LAST-MODIFIED:20241203T050000Z
UID:744932-1776857834-1776857834@www.dedhamcountryday.org
SUMMARY:Away @ Tenacre Country Day
DESCRIPTION:
URL:https://www.dedhamcountryday.org/event/away-tenacre-country-day-5/
END:VEVENT
BEGIN:VEVENT
DTSTART;TZID=America/New_York:20260422T113714
DTEND;TZID=America/New_York:20260422T113714
DTSTAMP:20260422T113714
CREATED:20241203T050000Z
LAST-MODIFIED:20241203T050000Z
UID:744940-1776857834-1776857834@www.dedhamcountryday.org
SUMMARY:Home VS Charles River
DESCRIPTION:
URL:https://www.dedhamcountryday.org/event/home-vs-charles-river-22/
END:VEVENT
BEGIN:VEVENT
DTSTART;TZID=America/New_York:20260422T113714
DTEND;TZID=America/New_York:20260422T113714
DTSTAMP:20260422T113714
CREATED:20241130T050000Z
LAST-MODIFIED:20241130T050000Z
UID:739126-1776857834-1776857834@www.dedhamcountryday.org
SUMMARY:Home VS Charles River
DESCRIPTION:
URL:https://www.dedhamcountryday.org/event/home-vs-charles-river-21/
END:VEVENT
BEGIN:VEVENT
DTSTART;TZID=America/New_York:20260422T113714
DTEND;TZID=America/New_York:20260422T113714
DTSTAMP:20260422T113714
CREATED:20241124T050000Z
LAST-MODIFIED:20241124T050000Z
UID:727474-1776857834-1776857834@www.dedhamcountryday.org
SUMMARY:Away @ Fenn
DESCRIPTION:
URL:https://www.dedhamcountryday.org/event/away-fenn-14/
END:VEVENT
BEGIN:VEVENT
DTSTART;TZID=America/New_York:20260422T113714
DTEND;TZID=America/New_York:20260422T113714
DTSTAMP:20260422T113714
CREATED:20241115T050000Z
LAST-MODIFIED:20241115T050000Z
UID:712049-1776857834-1776857834@www.dedhamcountryday.org
SUMMARY:Away @ Fenn
DESCRIPTION:
URL:https://www.dedhamcountryday.org/event/away-fenn-17/
END:VEVENT
BEGIN:VEVENT
DTSTART;TZID=America/New_York:20260422T113714
DTEND;TZID=America/New_York:20260422T113714
DTSTAMP:20260422T113714
CREATED:20241114T050000Z
LAST-MODIFIED:20241114T050000Z
UID:710581-1776857834-1776857834@www.dedhamcountryday.org
SUMMARY:Away @ Fenn
DESCRIPTION:
URL:https://www.dedhamcountryday.org/event/away-fenn-16/
END:VEVENT
BEGIN:VEVENT
DTSTART;TZID=America/New_York:20260422T113714
DTEND;TZID=America/New_York:20260422T113714
DTSTAMP:20260422T113714
CREATED:20241113T050000Z
LAST-MODIFIED:20241113T050000Z
UID:708702-1776857834-1776857834@www.dedhamcountryday.org
SUMMARY:Away @ Fenn
DESCRIPTION:
URL:https://www.dedhamcountryday.org/event/away-fenn-9/
END:VEVENT
BEGIN:VEVENT
DTSTART;TZID=America/New_York:20260422T113714
DTEND;TZID=America/New_York:20260422T113714
DTSTAMP:20260422T113714
CREATED:20241215T050000Z
LAST-MODIFIED:20241215T050000Z
UID:766595-1776857834-1776857834@www.dedhamcountryday.org
SUMMARY:Home VS Carroll
DESCRIPTION:
URL:https://www.dedhamcountryday.org/event/home-vs-carroll-27/
END:VEVENT
BEGIN:VEVENT
DTSTART;TZID=America/New_York:20260422T113714
DTEND;TZID=America/New_York:20260422T113714
DTSTAMP:20260422T113714
CREATED:20241212T050000Z
LAST-MODIFIED:20241212T050000Z
UID:760975-1776857834-1776857834@www.dedhamcountryday.org
SUMMARY:Home VS Carroll
DESCRIPTION:
URL:https://www.dedhamcountryday.org/event/home-vs-carroll-30/
END:VEVENT
BEGIN:VEVENT
DTSTART;TZID=America/New_York:20260422T113714
DTEND;TZID=America/New_York:20260422T113714
DTSTAMP:20260422T113714
CREATED:20241208T050000Z
LAST-MODIFIED:20241208T050000Z
UID:753756-1776857834-1776857834@www.dedhamcountryday.org
SUMMARY:Home VS Carroll
DESCRIPTION:
URL:https://www.dedhamcountryday.org/event/home-vs-carroll-26/
END:VEVENT
BEGIN:VEVENT
DTSTART;TZID=America/New_York:20260422T113714
DTEND;TZID=America/New_York:20260422T113714
DTSTAMP:20260422T113714
CREATED:20241207T050000Z
LAST-MODIFIED:20241207T050000Z
UID:751921-1776857834-1776857834@www.dedhamcountryday.org
SUMMARY:Home VS Carroll
DESCRIPTION:
URL:https://www.dedhamcountryday.org/event/home-vs-carroll-28/
END:VEVENT
BEGIN:VEVENT
DTSTART;TZID=America/New_York:20260422T113714
DTEND;TZID=America/New_York:20260422T113714
DTSTAMP:20260422T113714
CREATED:20241203T050000Z
LAST-MODIFIED:20241203T050000Z
UID:744656-1776857834-1776857834@www.dedhamcountryday.org
SUMMARY:Home VS Carroll
DESCRIPTION:
URL:https://www.dedhamcountryday.org/event/home-vs-carroll-13/
END:VEVENT
BEGIN:VEVENT
DTSTART;TZID=America/New_York:20260422T113714
DTEND;TZID=America/New_York:20260422T113714
DTSTAMP:20260422T113714
CREATED:20241203T050000Z
LAST-MODIFIED:20241203T050000Z
UID:744723-1776857834-1776857834@www.dedhamcountryday.org
SUMMARY:Home VS Carroll
DESCRIPTION:
URL:https://www.dedhamcountryday.org/event/home-vs-carroll-15/
END:VEVENT
END:VCALENDAR