BEGIN:VCALENDAR
VERSION:2.0
PRODID:-//Dedham Country Day School - ECPv5.6.0//NONSGML v1.0//EN
CALSCALE:GREGORIAN
METHOD:PUBLISH
X-WR-CALNAME:Dedham Country Day School
X-ORIGINAL-URL:https://www.dedhamcountryday.org
X-WR-CALDESC:Events for Dedham Country Day School
BEGIN:VTIMEZONE
TZID:America/New_York
BEGIN:DAYLIGHT
TZOFFSETFROM:-0500
TZOFFSETTO:-0400
TZNAME:EDT
DTSTART:20260308T070000
END:DAYLIGHT
BEGIN:STANDARD
TZOFFSETFROM:-0400
TZOFFSETTO:-0500
TZNAME:EST
DTSTART:20261101T060000
END:STANDARD
END:VTIMEZONE
BEGIN:VEVENT
DTSTART;TZID=America/New_York:20260414T153000
DTEND;TZID=America/New_York:20260414T153000
DTSTAMP:20260424T072124
CREATED:20260422T040000Z
LAST-MODIFIED:20260422T040000Z
UID:1013993-1776180600-1776180600@www.dedhamcountryday.org
SUMMARY:Home VS The Fessenden School
DESCRIPTION:
URL:https://www.dedhamcountryday.org/event/home-vs-the-fessenden-school/
CATEGORIES:athletics
END:VEVENT
BEGIN:VEVENT
DTSTART;TZID=America/New_York:20260421T153000
DTEND;TZID=America/New_York:20260421T153000
DTSTAMP:20260424T072124
CREATED:20260422T040000Z
LAST-MODIFIED:20260422T040000Z
UID:1013994-1776785400-1776785400@www.dedhamcountryday.org
SUMMARY:Home VS Thayer Academy
DESCRIPTION:
URL:https://www.dedhamcountryday.org/event/home-vs-thayer-academy-23/
CATEGORIES:athletics
END:VEVENT
BEGIN:VEVENT
DTSTART;TZID=America/New_York:20260423T153000
DTEND;TZID=America/New_York:20260423T153000
DTSTAMP:20260424T072124
CREATED:20260422T040000Z
LAST-MODIFIED:20260422T040000Z
UID:1013995-1776958200-1776958200@www.dedhamcountryday.org
SUMMARY:Away @ Tenacre Country Day School
DESCRIPTION:
URL:https://www.dedhamcountryday.org/event/away-tenacre-country-day-school-2/
CATEGORIES:athletics
END:VEVENT
BEGIN:VEVENT
DTSTART;TZID=America/New_York:20260505T153000
DTEND;TZID=America/New_York:20260505T153000
DTSTAMP:20260424T072124
CREATED:20260422T040000Z
LAST-MODIFIED:20260422T040000Z
UID:1013996-1777995000-1777995000@www.dedhamcountryday.org
SUMMARY:Away @ The Fessenden School
DESCRIPTION:
URL:https://www.dedhamcountryday.org/event/away-the-fessenden-school/
CATEGORIES:athletics
END:VEVENT
BEGIN:VEVENT
DTSTART;TZID=America/New_York:20260506T153000
DTEND;TZID=America/New_York:20260506T153000
DTSTAMP:20260424T072124
CREATED:20260422T040000Z
LAST-MODIFIED:20260422T040000Z
UID:1013997-1778081400-1778081400@www.dedhamcountryday.org
SUMMARY:Home VS Tenacre Country Day School
DESCRIPTION:
URL:https://www.dedhamcountryday.org/event/home-vs-tenacre-country-day-school-17/
CATEGORIES:athletics
END:VEVENT
BEGIN:VEVENT
DTSTART;TZID=America/New_York:20260512T153000
DTEND;TZID=America/New_York:20260512T153000
DTSTAMP:20260424T072124
CREATED:20260422T040000Z
LAST-MODIFIED:20260422T040000Z
UID:1013998-1778599800-1778599800@www.dedhamcountryday.org
SUMMARY:Away @ Derby Academy
DESCRIPTION:
URL:https://www.dedhamcountryday.org/event/away-derby-academy-7/
CATEGORIES:athletics
END:VEVENT
BEGIN:VEVENT
DTSTART;TZID=America/New_York:20260513T154500
DTEND;TZID=America/New_York:20260513T154500
DTSTAMP:20260424T072124
CREATED:20260422T040000Z
LAST-MODIFIED:20260422T040000Z
UID:1013999-1778687100-1778687100@www.dedhamcountryday.org
SUMMARY:Home VS Fay School
DESCRIPTION:
URL:https://www.dedhamcountryday.org/event/home-vs-fay-school/
CATEGORIES:athletics
END:VEVENT
END:VCALENDAR