BEGIN:VCALENDAR
VERSION:2.0
PRODID:-//Dedham Country Day School - ECPv5.6.0//NONSGML v1.0//EN
CALSCALE:GREGORIAN
METHOD:PUBLISH
X-WR-CALNAME:Dedham Country Day School
X-ORIGINAL-URL:https://www.dedhamcountryday.org
X-WR-CALDESC:Events for Dedham Country Day School
BEGIN:VTIMEZONE
TZID:America/New_York
BEGIN:DAYLIGHT
TZOFFSETFROM:-0500
TZOFFSETTO:-0400
TZNAME:EDT
DTSTART:20260308T070000
END:DAYLIGHT
BEGIN:STANDARD
TZOFFSETFROM:-0400
TZOFFSETTO:-0500
TZNAME:EST
DTSTART:20261101T060000
END:STANDARD
END:VTIMEZONE
BEGIN:VEVENT
DTSTART;TZID=America/New_York:20260108T154500
DTEND;TZID=America/New_York:20260108T154500
DTSTAMP:20260423T091348
CREATED:20260422T040000Z
LAST-MODIFIED:20260422T040000Z
UID:1013943-1767887100-1767887100@www.dedhamcountryday.org
SUMMARY:Away @ Derby
DESCRIPTION:
URL:https://www.dedhamcountryday.org/event/away-derby-64/
CATEGORIES:athletics
END:VEVENT
BEGIN:VEVENT
DTSTART;TZID=America/New_York:20260115T151500
DTEND;TZID=America/New_York:20260115T151500
DTSTAMP:20260423T091348
CREATED:20260422T040000Z
LAST-MODIFIED:20260422T040000Z
UID:1013944-1768490100-1768490100@www.dedhamcountryday.org
SUMMARY:Home VS Beaver
DESCRIPTION:
URL:https://www.dedhamcountryday.org/event/home-vs-beaver-31/
CATEGORIES:athletics
END:VEVENT
BEGIN:VEVENT
DTSTART;TZID=America/New_York:20260122T161500
DTEND;TZID=America/New_York:20260122T161500
DTSTAMP:20260423T091348
CREATED:20260422T040000Z
LAST-MODIFIED:20260422T040000Z
UID:1013945-1769098500-1769098500@www.dedhamcountryday.org
SUMMARY:[RESCHEDULED] Home VS Carroll School
DESCRIPTION:
URL:https://www.dedhamcountryday.org/event/rescheduled-home-vs-carroll-school-9/
CATEGORIES:athletics
END:VEVENT
BEGIN:VEVENT
DTSTART;TZID=America/New_York:20260128T160000
DTEND;TZID=America/New_York:20260128T160000
DTSTAMP:20260423T091348
CREATED:20260422T040000Z
LAST-MODIFIED:20260422T040000Z
UID:1013946-1769616000-1769616000@www.dedhamcountryday.org
SUMMARY:Away @ Rashi
DESCRIPTION:
URL:https://www.dedhamcountryday.org/event/away-rashi-29/
CATEGORIES:athletics
END:VEVENT
BEGIN:VEVENT
DTSTART;TZID=America/New_York:20260129T151500
DTEND;TZID=America/New_York:20260129T151500
DTSTAMP:20260423T091348
CREATED:20260422T040000Z
LAST-MODIFIED:20260422T040000Z
UID:1013947-1769699700-1769699700@www.dedhamcountryday.org
SUMMARY:Home VS Carroll School
DESCRIPTION:
URL:https://www.dedhamcountryday.org/event/home-vs-carroll-school-28/
CATEGORIES:athletics
END:VEVENT
BEGIN:VEVENT
DTSTART;TZID=America/New_York:20260204T161500
DTEND;TZID=America/New_York:20260204T161500
DTSTAMP:20260423T091348
CREATED:20260422T040000Z
LAST-MODIFIED:20260422T040000Z
UID:1013948-1770221700-1770221700@www.dedhamcountryday.org
SUMMARY:Away @ Milton Academy
DESCRIPTION:
URL:https://www.dedhamcountryday.org/event/away-milton-academy-58/
CATEGORIES:athletics
END:VEVENT
BEGIN:VEVENT
DTSTART;TZID=America/New_York:20260211T154500
DTEND;TZID=America/New_York:20260211T154500
DTSTAMP:20260423T091348
CREATED:20260422T040000Z
LAST-MODIFIED:20260422T040000Z
UID:1013949-1770824700-1770824700@www.dedhamcountryday.org
SUMMARY:Home VS Belmont Day School
DESCRIPTION:
URL:https://www.dedhamcountryday.org/event/home-vs-belmont-day-school-26/
CATEGORIES:athletics
END:VEVENT
BEGIN:VEVENT
DTSTART;TZID=America/New_York:20260219T154500
DTEND;TZID=America/New_York:20260219T154500
DTSTAMP:20260423T091348
CREATED:20260422T040000Z
LAST-MODIFIED:20260422T040000Z
UID:1013950-1771515900-1771515900@www.dedhamcountryday.org
SUMMARY:Away @ Fenn School
DESCRIPTION:
URL:https://www.dedhamcountryday.org/event/away-fenn-school-7/
CATEGORIES:athletics
END:VEVENT
BEGIN:VEVENT
DTSTART;TZID=America/New_York:20260225T160000
DTEND;TZID=America/New_York:20260225T160000
DTSTAMP:20260423T091348
CREATED:20260422T040000Z
LAST-MODIFIED:20260422T040000Z
UID:1013951-1772035200-1772035200@www.dedhamcountryday.org
SUMMARY:Away @ Charles River School
DESCRIPTION:
URL:https://www.dedhamcountryday.org/event/away-charles-river-school-63/
CATEGORIES:athletics
END:VEVENT
END:VCALENDAR