BEGIN:VCALENDAR
VERSION:2.0
PRODID:-//Dedham Country Day School - ECPv5.6.0//NONSGML v1.0//EN
CALSCALE:GREGORIAN
METHOD:PUBLISH
X-WR-CALNAME:Dedham Country Day School
X-ORIGINAL-URL:https://www.dedhamcountryday.org
X-WR-CALDESC:Events for Dedham Country Day School
BEGIN:VTIMEZONE
TZID:America/New_York
BEGIN:DAYLIGHT
TZOFFSETFROM:-0500
TZOFFSETTO:-0400
TZNAME:EDT
DTSTART:20250309T070000
END:DAYLIGHT
BEGIN:STANDARD
TZOFFSETFROM:-0400
TZOFFSETTO:-0500
TZNAME:EST
DTSTART:20251102T060000
END:STANDARD
END:VTIMEZONE
BEGIN:VEVENT
DTSTART;TZID=America/New_York:20250420T000000
DTEND;TZID=America/New_York:20250420T000000
DTSTAMP:20260424T085835
CREATED:20240701T182900Z
LAST-MODIFIED:20240701T182900Z
UID:701237-1745107200-1745107200@www.dedhamcountryday.org
SUMMARY:Easter
DESCRIPTION:
URL:https://www.dedhamcountryday.org/event/easter-2/
CATEGORIES:Events
END:VEVENT
BEGIN:VEVENT
DTSTART;VALUE=DATE:20250421
DTEND;VALUE=DATE:20250422
DTSTAMP:20260424T085835
CREATED:20240403T231400Z
LAST-MODIFIED:20240403T231400Z
UID:1006295-1745193600-1745279999@www.dedhamcountryday.org
SUMMARY:Patriots' Day - No School
DESCRIPTION:
URL:https://www.dedhamcountryday.org/event/patriots-day-no-school-2/
CATEGORIES:Events
END:VEVENT
BEGIN:VEVENT
DTSTART;TZID=America/New_York:20250422T081000
DTEND;TZID=America/New_York:20250422T083000
DTSTAMP:20260424T085835
CREATED:20240910T142200Z
LAST-MODIFIED:20240910T142200Z
UID:701469-1745309400-1745310600@www.dedhamcountryday.org
SUMMARY:Lower School Assembly
DESCRIPTION:
URL:https://www.dedhamcountryday.org/event/lower-school-assembly-26/
CATEGORIES:Events
END:VEVENT
BEGIN:VEVENT
DTSTART;TZID=America/New_York:20250422T151500
DTEND;TZID=America/New_York:20250422T151500
DTSTAMP:20260424T085835
CREATED:20250225T050000Z
LAST-MODIFIED:20250225T050000Z
UID:820909-1745334900-1745334900@www.dedhamcountryday.org
SUMMARY:Home VS Derby
DESCRIPTION:
URL:https://www.dedhamcountryday.org/event/home-vs-derby-31/
END:VEVENT
BEGIN:VEVENT
DTSTART;TZID=America/New_York:20250422T151500
DTEND;TZID=America/New_York:20250422T151500
DTSTAMP:20260424T085835
CREATED:20250225T050000Z
LAST-MODIFIED:20250225T050000Z
UID:820974-1745334900-1745334900@www.dedhamcountryday.org
SUMMARY:Home VS Derby
DESCRIPTION:
URL:https://www.dedhamcountryday.org/event/home-vs-derby-36/
END:VEVENT
BEGIN:VEVENT
DTSTART;TZID=America/New_York:20250422T151500
DTEND;TZID=America/New_York:20250422T151500
DTSTAMP:20260424T085835
CREATED:20250225T050000Z
LAST-MODIFIED:20250225T050000Z
UID:821041-1745334900-1745334900@www.dedhamcountryday.org
SUMMARY:Home VS Derby
DESCRIPTION:
URL:https://www.dedhamcountryday.org/event/home-vs-derby-40/
END:VEVENT
BEGIN:VEVENT
DTSTART;TZID=America/New_York:20250422T151500
DTEND;TZID=America/New_York:20250422T151500
DTSTAMP:20260424T085835
CREATED:20250225T050000Z
LAST-MODIFIED:20250225T050000Z
UID:821105-1745334900-1745334900@www.dedhamcountryday.org
SUMMARY:Home VS Derby
DESCRIPTION:
URL:https://www.dedhamcountryday.org/event/home-vs-derby-44/
END:VEVENT
BEGIN:VEVENT
DTSTART;TZID=America/New_York:20250422T151500
DTEND;TZID=America/New_York:20250422T151500
DTSTAMP:20260424T085835
CREATED:20250225T050000Z
LAST-MODIFIED:20250225T050000Z
UID:821166-1745334900-1745334900@www.dedhamcountryday.org
SUMMARY:Home VS Derby
DESCRIPTION:
URL:https://www.dedhamcountryday.org/event/home-vs-derby-48/
END:VEVENT
BEGIN:VEVENT
DTSTART;TZID=America/New_York:20250422T153000
DTEND;TZID=America/New_York:20250422T153000
DTSTAMP:20260424T085835
CREATED:20250221T050000Z
LAST-MODIFIED:20250221T050000Z
UID:813976-1745335800-1745335800@www.dedhamcountryday.org
SUMMARY:Home VS Park
DESCRIPTION:
URL:https://www.dedhamcountryday.org/event/home-vs-park-11/
END:VEVENT
BEGIN:VEVENT
DTSTART;TZID=America/New_York:20250422T153000
DTEND;TZID=America/New_York:20250422T153000
DTSTAMP:20260424T085835
CREATED:20250225T050000Z
LAST-MODIFIED:20250225T050000Z
UID:820936-1745335800-1745335800@www.dedhamcountryday.org
SUMMARY:Home VS Park
DESCRIPTION:
URL:https://www.dedhamcountryday.org/event/home-vs-park-12/
END:VEVENT
BEGIN:VEVENT
DTSTART;TZID=America/New_York:20250422T153000
DTEND;TZID=America/New_York:20250422T153000
DTSTAMP:20260424T085835
CREATED:20250225T050000Z
LAST-MODIFIED:20250225T050000Z
UID:820944-1745335800-1745335800@www.dedhamcountryday.org
SUMMARY:Away @ Nobles (Tennis)
DESCRIPTION:
URL:https://www.dedhamcountryday.org/event/away-nobles-tennis/
END:VEVENT
BEGIN:VEVENT
DTSTART;TZID=America/New_York:20250422T153000
DTEND;TZID=America/New_York:20250422T153000
DTSTAMP:20260424T085835
CREATED:20250225T050000Z
LAST-MODIFIED:20250225T050000Z
UID:821001-1745335800-1745335800@www.dedhamcountryday.org
SUMMARY:Home VS Park
DESCRIPTION:
URL:https://www.dedhamcountryday.org/event/home-vs-park-15/
END:VEVENT
BEGIN:VEVENT
DTSTART;TZID=America/New_York:20250422T153000
DTEND;TZID=America/New_York:20250422T153000
DTSTAMP:20260424T085835
CREATED:20250225T050000Z
LAST-MODIFIED:20250225T050000Z
UID:821009-1745335800-1745335800@www.dedhamcountryday.org
SUMMARY:Away @ Nobles (Tennis)
DESCRIPTION:
URL:https://www.dedhamcountryday.org/event/away-nobles-tennis-2/
END:VEVENT
BEGIN:VEVENT
DTSTART;TZID=America/New_York:20250422T153000
DTEND;TZID=America/New_York:20250422T153000
DTSTAMP:20260424T085835
CREATED:20250225T050000Z
LAST-MODIFIED:20250225T050000Z
UID:821068-1745335800-1745335800@www.dedhamcountryday.org
SUMMARY:Home VS Park
DESCRIPTION:
URL:https://www.dedhamcountryday.org/event/home-vs-park-17/
END:VEVENT
BEGIN:VEVENT
DTSTART;TZID=America/New_York:20250422T153000
DTEND;TZID=America/New_York:20250422T153000
DTSTAMP:20260424T085835
CREATED:20250225T050000Z
LAST-MODIFIED:20250225T050000Z
UID:821076-1745335800-1745335800@www.dedhamcountryday.org
SUMMARY:Away @ Nobles (Tennis)
DESCRIPTION:
URL:https://www.dedhamcountryday.org/event/away-nobles-tennis-3/
END:VEVENT
BEGIN:VEVENT
DTSTART;TZID=America/New_York:20250422T153000
DTEND;TZID=America/New_York:20250422T153000
DTSTAMP:20260424T085835
CREATED:20250225T050000Z
LAST-MODIFIED:20250225T050000Z
UID:821132-1745335800-1745335800@www.dedhamcountryday.org
SUMMARY:Home VS Park
DESCRIPTION:
URL:https://www.dedhamcountryday.org/event/home-vs-park-19/
END:VEVENT
BEGIN:VEVENT
DTSTART;TZID=America/New_York:20250422T153000
DTEND;TZID=America/New_York:20250422T153000
DTSTAMP:20260424T085835
CREATED:20250225T050000Z
LAST-MODIFIED:20250225T050000Z
UID:821140-1745335800-1745335800@www.dedhamcountryday.org
SUMMARY:Away @ Nobles (Tennis)
DESCRIPTION:
URL:https://www.dedhamcountryday.org/event/away-nobles-tennis-4/
END:VEVENT
BEGIN:VEVENT
DTSTART;TZID=America/New_York:20250422T153000
DTEND;TZID=America/New_York:20250422T153000
DTSTAMP:20260424T085835
CREATED:20250225T050000Z
LAST-MODIFIED:20250225T050000Z
UID:821193-1745335800-1745335800@www.dedhamcountryday.org
SUMMARY:Home VS Park
DESCRIPTION:
URL:https://www.dedhamcountryday.org/event/home-vs-park-21/
END:VEVENT
BEGIN:VEVENT
DTSTART;TZID=America/New_York:20250422T153000
DTEND;TZID=America/New_York:20250422T153000
DTSTAMP:20260424T085835
CREATED:20250225T050000Z
LAST-MODIFIED:20250225T050000Z
UID:821201-1745335800-1745335800@www.dedhamcountryday.org
SUMMARY:Away @ Nobles (Tennis)
DESCRIPTION:
URL:https://www.dedhamcountryday.org/event/away-nobles-tennis-5/
END:VEVENT
BEGIN:VEVENT
DTSTART;TZID=America/New_York:20250422T153000
DTEND;TZID=America/New_York:20250422T153000
DTSTAMP:20260424T085835
CREATED:20250304T050000Z
LAST-MODIFIED:20250304T050000Z
UID:833235-1745335800-1745335800@www.dedhamcountryday.org
SUMMARY:Home VS Park
DESCRIPTION:
URL:https://www.dedhamcountryday.org/event/home-vs-park-25/
END:VEVENT
BEGIN:VEVENT
DTSTART;TZID=America/New_York:20250422T153000
DTEND;TZID=America/New_York:20250422T153000
DTSTAMP:20260424T085835
CREATED:20250305T050000Z
LAST-MODIFIED:20250305T050000Z
UID:835461-1745335800-1745335800@www.dedhamcountryday.org
SUMMARY:Home VS Park
DESCRIPTION:
URL:https://www.dedhamcountryday.org/event/home-vs-park-32/
END:VEVENT
BEGIN:VEVENT
DTSTART;TZID=America/New_York:20250423T151500
DTEND;TZID=America/New_York:20250423T151500
DTSTAMP:20260424T085835
CREATED:20250225T050000Z
LAST-MODIFIED:20250225T050000Z
UID:820915-1745421300-1745421300@www.dedhamcountryday.org
SUMMARY:Away @ Dexter Southfield
DESCRIPTION:
URL:https://www.dedhamcountryday.org/event/away-dexter-southfield-52/
END:VEVENT
BEGIN:VEVENT
DTSTART;TZID=America/New_York:20250423T151500
DTEND;TZID=America/New_York:20250423T151500
DTSTAMP:20260424T085835
CREATED:20250225T050000Z
LAST-MODIFIED:20250225T050000Z
UID:820926-1745421300-1745421300@www.dedhamcountryday.org
SUMMARY:Home VS Dexter Southfield
DESCRIPTION:
URL:https://www.dedhamcountryday.org/event/home-vs-dexter-southfield/
END:VEVENT
BEGIN:VEVENT
DTSTART;TZID=America/New_York:20250423T151500
DTEND;TZID=America/New_York:20250423T151500
DTSTAMP:20260424T085835
CREATED:20250225T050000Z
LAST-MODIFIED:20250225T050000Z
UID:820980-1745421300-1745421300@www.dedhamcountryday.org
SUMMARY:Away @ Dexter Southfield
DESCRIPTION:
URL:https://www.dedhamcountryday.org/event/away-dexter-southfield-54/
END:VEVENT
BEGIN:VEVENT
DTSTART;TZID=America/New_York:20250423T151500
DTEND;TZID=America/New_York:20250423T151500
DTSTAMP:20260424T085835
CREATED:20250225T050000Z
LAST-MODIFIED:20250225T050000Z
UID:820991-1745421300-1745421300@www.dedhamcountryday.org
SUMMARY:Home VS Dexter Southfield
DESCRIPTION:
URL:https://www.dedhamcountryday.org/event/home-vs-dexter-southfield-2/
END:VEVENT
BEGIN:VEVENT
DTSTART;TZID=America/New_York:20250423T151500
DTEND;TZID=America/New_York:20250423T151500
DTSTAMP:20260424T085835
CREATED:20250225T050000Z
LAST-MODIFIED:20250225T050000Z
UID:821047-1745421300-1745421300@www.dedhamcountryday.org
SUMMARY:Away @ Dexter Southfield
DESCRIPTION:
URL:https://www.dedhamcountryday.org/event/away-dexter-southfield-55/
END:VEVENT
BEGIN:VEVENT
DTSTART;TZID=America/New_York:20250423T151500
DTEND;TZID=America/New_York:20250423T151500
DTSTAMP:20260424T085835
CREATED:20250225T050000Z
LAST-MODIFIED:20250225T050000Z
UID:821058-1745421300-1745421300@www.dedhamcountryday.org
SUMMARY:Home VS Dexter Southfield
DESCRIPTION:
URL:https://www.dedhamcountryday.org/event/home-vs-dexter-southfield-3/
END:VEVENT
BEGIN:VEVENT
DTSTART;TZID=America/New_York:20250423T151500
DTEND;TZID=America/New_York:20250423T151500
DTSTAMP:20260424T085835
CREATED:20250225T050000Z
LAST-MODIFIED:20250225T050000Z
UID:821111-1745421300-1745421300@www.dedhamcountryday.org
SUMMARY:Away @ Dexter Southfield
DESCRIPTION:
URL:https://www.dedhamcountryday.org/event/away-dexter-southfield-57/
END:VEVENT
BEGIN:VEVENT
DTSTART;TZID=America/New_York:20250423T151500
DTEND;TZID=America/New_York:20250423T151500
DTSTAMP:20260424T085835
CREATED:20250225T050000Z
LAST-MODIFIED:20250225T050000Z
UID:821122-1745421300-1745421300@www.dedhamcountryday.org
SUMMARY:Home VS Dexter Southfield
DESCRIPTION:
URL:https://www.dedhamcountryday.org/event/home-vs-dexter-southfield-4/
END:VEVENT
BEGIN:VEVENT
DTSTART;TZID=America/New_York:20250423T151500
DTEND;TZID=America/New_York:20250423T151500
DTSTAMP:20260424T085835
CREATED:20250225T050000Z
LAST-MODIFIED:20250225T050000Z
UID:821172-1745421300-1745421300@www.dedhamcountryday.org
SUMMARY:Away @ Dexter Southfield
DESCRIPTION:
URL:https://www.dedhamcountryday.org/event/away-dexter-southfield-58/
END:VEVENT
END:VCALENDAR