BEGIN:VCALENDAR
VERSION:2.0
PRODID:-//Dedham Country Day School - ECPv5.6.0//NONSGML v1.0//EN
CALSCALE:GREGORIAN
METHOD:PUBLISH
X-WR-CALNAME:Dedham Country Day School
X-ORIGINAL-URL:https://www.dedhamcountryday.org
X-WR-CALDESC:Events for Dedham Country Day School
BEGIN:VTIMEZONE
TZID:America/New_York
BEGIN:DAYLIGHT
TZOFFSETFROM:-0500
TZOFFSETTO:-0400
TZNAME:EDT
DTSTART:20250309T070000
END:DAYLIGHT
BEGIN:STANDARD
TZOFFSETFROM:-0400
TZOFFSETTO:-0500
TZNAME:EST
DTSTART:20251102T060000
END:STANDARD
END:VTIMEZONE
BEGIN:VEVENT
DTSTART;TZID=America/New_York:20251106T153000
DTEND;TZID=America/New_York:20251106T153000
DTSTAMP:20260423T153849
CREATED:20260422T040000Z
LAST-MODIFIED:20260422T040000Z
UID:1013898-1762443000-1762443000@www.dedhamcountryday.org
SUMMARY:Home VS Shady Hill School
DESCRIPTION:
URL:https://www.dedhamcountryday.org/event/home-vs-shady-hill-school-24/
CATEGORIES:athletics
END:VEVENT
BEGIN:VEVENT
DTSTART;TZID=America/New_York:20251104T153000
DTEND;TZID=America/New_York:20251104T153000
DTSTAMP:20260423T153849
CREATED:20260422T040000Z
LAST-MODIFIED:20260422T040000Z
UID:1013897-1762270200-1762270200@www.dedhamcountryday.org
SUMMARY:Away @ Park School
DESCRIPTION:
URL:https://www.dedhamcountryday.org/event/away-park-school-26/
CATEGORIES:athletics
END:VEVENT
BEGIN:VEVENT
DTSTART;TZID=America/New_York:20251030T153000
DTEND;TZID=America/New_York:20251030T153000
DTSTAMP:20260423T153849
CREATED:20260422T040000Z
LAST-MODIFIED:20260422T040000Z
UID:1013896-1761838200-1761838200@www.dedhamcountryday.org
SUMMARY:Away @ Solomon Schecter
DESCRIPTION:
URL:https://www.dedhamcountryday.org/event/away-solomon-schecter-7/
CATEGORIES:athletics
END:VEVENT
BEGIN:VEVENT
DTSTART;TZID=America/New_York:20251028T153000
DTEND;TZID=America/New_York:20251028T153000
DTSTAMP:20260423T153849
CREATED:20260422T040000Z
LAST-MODIFIED:20260422T040000Z
UID:1013895-1761665400-1761665400@www.dedhamcountryday.org
SUMMARY:Home VS Park School
DESCRIPTION:
URL:https://www.dedhamcountryday.org/event/home-vs-park-school-23/
CATEGORIES:athletics
END:VEVENT
BEGIN:VEVENT
DTSTART;TZID=America/New_York:20251022T153000
DTEND;TZID=America/New_York:20251022T153000
DTSTAMP:20260423T153849
CREATED:20260422T040000Z
LAST-MODIFIED:20260422T040000Z
UID:1013894-1761147000-1761147000@www.dedhamcountryday.org
SUMMARY:Away @ Belmont Day School
DESCRIPTION:
URL:https://www.dedhamcountryday.org/event/away-belmont-day-school-23/
CATEGORIES:athletics
END:VEVENT
BEGIN:VEVENT
DTSTART;TZID=America/New_York:20251015T153000
DTEND;TZID=America/New_York:20251015T153000
DTSTAMP:20260423T153849
CREATED:20260422T040000Z
LAST-MODIFIED:20260422T040000Z
UID:1013893-1760542200-1760542200@www.dedhamcountryday.org
SUMMARY:Away @ Derby
DESCRIPTION:
URL:https://www.dedhamcountryday.org/event/away-derby-61/
CATEGORIES:athletics
END:VEVENT
BEGIN:VEVENT
DTSTART;TZID=America/New_York:20251009T153000
DTEND;TZID=America/New_York:20251009T153000
DTSTAMP:20260423T153849
CREATED:20260422T040000Z
LAST-MODIFIED:20260422T040000Z
UID:1013892-1760023800-1760023800@www.dedhamcountryday.org
SUMMARY:Home VS Rashi School
DESCRIPTION:
URL:https://www.dedhamcountryday.org/event/home-vs-rashi-school-33/
CATEGORIES:athletics
END:VEVENT
BEGIN:VEVENT
DTSTART;TZID=America/New_York:20251008T153000
DTEND;TZID=America/New_York:20251008T153000
DTSTAMP:20260423T153849
CREATED:20260422T040000Z
LAST-MODIFIED:20260422T040000Z
UID:1013891-1759937400-1759937400@www.dedhamcountryday.org
SUMMARY:[CANCELED] Away @ Milton
DESCRIPTION:
URL:https://www.dedhamcountryday.org/event/canceled-away-milton-19/
CATEGORIES:athletics
END:VEVENT
BEGIN:VEVENT
DTSTART;TZID=America/New_York:20251003T170000
DTEND;TZID=America/New_York:20251003T170000
DTSTAMP:20260423T153849
CREATED:20260422T040000Z
LAST-MODIFIED:20260422T040000Z
UID:1013890-1759510800-1759510800@www.dedhamcountryday.org
SUMMARY:Away @ Charles River School
DESCRIPTION:
URL:https://www.dedhamcountryday.org/event/away-charles-river-school-66/
CATEGORIES:athletics
END:VEVENT
BEGIN:VEVENT
DTSTART;TZID=America/New_York:20250930T153000
DTEND;TZID=America/New_York:20250930T153000
DTSTAMP:20260423T153849
CREATED:20260422T040000Z
LAST-MODIFIED:20260422T040000Z
UID:1013889-1759246200-1759246200@www.dedhamcountryday.org
SUMMARY:Home VS Solomon Schecter School
DESCRIPTION:
URL:https://www.dedhamcountryday.org/event/home-vs-solomon-schecter-school-8/
CATEGORIES:athletics
END:VEVENT
BEGIN:VEVENT
DTSTART;TZID=America/New_York:20250924T153000
DTEND;TZID=America/New_York:20250924T153000
DTSTAMP:20260423T153849
CREATED:20260422T040000Z
LAST-MODIFIED:20260422T040000Z
UID:1013888-1758727800-1758727800@www.dedhamcountryday.org
SUMMARY:Away @ Carroll School
DESCRIPTION:Location: Carroll Middle School – 25 Baker Bridge Road\nLincoln\, MA 01773
URL:https://www.dedhamcountryday.org/event/away-carroll-school-37/
CATEGORIES:athletics
END:VEVENT
BEGIN:VEVENT
DTSTART;TZID=America/New_York:20250917T153000
DTEND;TZID=America/New_York:20250917T153000
DTSTAMP:20260423T153849
CREATED:20260422T040000Z
LAST-MODIFIED:20260422T040000Z
UID:1013887-1758123000-1758123000@www.dedhamcountryday.org
SUMMARY:Home VS Rivers School
DESCRIPTION:
URL:https://www.dedhamcountryday.org/event/home-vs-rivers-school-26/
CATEGORIES:athletics
END:VEVENT
END:VCALENDAR