BEGIN:VCALENDAR
VERSION:2.0
PRODID:-//Dedham Country Day School - ECPv5.6.0//NONSGML v1.0//EN
CALSCALE:GREGORIAN
METHOD:PUBLISH
X-WR-CALNAME:Dedham Country Day School
X-ORIGINAL-URL:https://www.dedhamcountryday.org
X-WR-CALDESC:Events for Dedham Country Day School
BEGIN:VTIMEZONE
TZID:America/New_York
BEGIN:DAYLIGHT
TZOFFSETFROM:-0500
TZOFFSETTO:-0400
TZNAME:EDT
DTSTART:20240310T070000
END:DAYLIGHT
BEGIN:STANDARD
TZOFFSETFROM:-0400
TZOFFSETTO:-0500
TZNAME:EST
DTSTART:20241103T060000
END:STANDARD
BEGIN:DAYLIGHT
TZOFFSETFROM:-0500
TZOFFSETTO:-0400
TZNAME:EDT
DTSTART:20250309T070000
END:DAYLIGHT
BEGIN:STANDARD
TZOFFSETFROM:-0400
TZOFFSETTO:-0500
TZNAME:EST
DTSTART:20251102T060000
END:STANDARD
BEGIN:DAYLIGHT
TZOFFSETFROM:-0500
TZOFFSETTO:-0400
TZNAME:EDT
DTSTART:20260308T070000
END:DAYLIGHT
BEGIN:STANDARD
TZOFFSETFROM:-0400
TZOFFSETTO:-0500
TZNAME:EST
DTSTART:20261101T060000
END:STANDARD
END:VTIMEZONE
BEGIN:VEVENT
DTSTART;TZID=America/New_York:20260402T083000
DTEND;TZID=America/New_York:20260402T094500
DTSTAMP:20260421T084610
CREATED:20250711T134000Z
LAST-MODIFIED:20250711T134000Z
UID:888326-1775118600-1775123100@www.dedhamcountryday.org
SUMMARY:Admission Event for Accepted Students and Families
DESCRIPTION:
URL:https://www.dedhamcountryday.org/event/admission-event-for-accepted-students-and-families/
CATEGORIES:Events
END:VEVENT
BEGIN:VEVENT
DTSTART;TZID=America/New_York:20260310T000000
DTEND;TZID=America/New_York:20260310T000000
DTSTAMP:20260421T084610
CREATED:20250711T133900Z
LAST-MODIFIED:20250711T133900Z
UID:843482-1773100800-1773100800@www.dedhamcountryday.org
SUMMARY:DCD Admissions Decisions Released
DESCRIPTION:
URL:https://www.dedhamcountryday.org/event/dcd-admissions-decisions-released/
CATEGORIES:Events
END:VEVENT
BEGIN:VEVENT
DTSTART;TZID=America/New_York:20260213T131500
DTEND;TZID=America/New_York:20260213T141500
DTSTAMP:20260421T084610
CREATED:20250711T133800Z
LAST-MODIFIED:20250711T133800Z
UID:888325-1770988500-1770992100@www.dedhamcountryday.org
SUMMARY:Admissions Playgroup
DESCRIPTION:
URL:https://www.dedhamcountryday.org/event/admissions-playgroup-5/
CATEGORIES:Events
END:VEVENT
BEGIN:VEVENT
DTSTART;TZID=America/New_York:20260207T103000
DTEND;TZID=America/New_York:20260207T113000
DTSTAMP:20260421T084610
CREATED:20250711T133800Z
LAST-MODIFIED:20250711T133800Z
UID:843480-1770460200-1770463800@www.dedhamcountryday.org
SUMMARY:Admissions Playgroup
DESCRIPTION:
URL:https://www.dedhamcountryday.org/event/admissions-playgroup-4/
CATEGORIES:Events
END:VEVENT
BEGIN:VEVENT
DTSTART;TZID=America/New_York:20260206T083000
DTEND;TZID=America/New_York:20260206T093000
DTSTAMP:20260421T084610
CREATED:20250711T133700Z
LAST-MODIFIED:20250711T133700Z
UID:849424-1770366600-1770370200@www.dedhamcountryday.org
SUMMARY:Admissions Playgroup
DESCRIPTION:
URL:https://www.dedhamcountryday.org/event/admissions-playgroup-3/
CATEGORIES:Events
END:VEVENT
BEGIN:VEVENT
DTSTART;TZID=America/New_York:20260130T131500
DTEND;TZID=America/New_York:20260130T141500
DTSTAMP:20260421T084610
CREATED:20250711T133700Z
LAST-MODIFIED:20250711T133700Z
UID:843478-1769778900-1769782500@www.dedhamcountryday.org
SUMMARY:Admissions Playgroup
DESCRIPTION:
URL:https://www.dedhamcountryday.org/event/admissions-playgroup-2/
CATEGORIES:Events
END:VEVENT
BEGIN:VEVENT
DTSTART;TZID=America/New_York:20260123T131500
DTEND;TZID=America/New_York:20260123T141500
DTSTAMP:20260421T084610
CREATED:20250711T133600Z
LAST-MODIFIED:20250711T133600Z
UID:843477-1769174100-1769177700@www.dedhamcountryday.org
SUMMARY:Admissions Playgroup
DESCRIPTION:
URL:https://www.dedhamcountryday.org/event/admissions-playgroup/
CATEGORIES:Events
END:VEVENT
BEGIN:VEVENT
DTSTART;TZID=America/New_York:20260122T083000
DTEND;TZID=America/New_York:20260122T100000
DTSTAMP:20260421T084610
CREATED:20250711T133400Z
LAST-MODIFIED:20250711T133400Z
UID:843476-1769070600-1769076000@www.dedhamcountryday.org
SUMMARY:Admissions Coffee and Conversation
DESCRIPTION:
URL:https://www.dedhamcountryday.org/event/admissions-coffee-and-conversation-3/
CATEGORIES:Events
END:VEVENT
BEGIN:VEVENT
DTSTART;TZID=America/New_York:20260115T000000
DTEND;TZID=America/New_York:20260115T000000
DTSTAMP:20260421T084610
CREATED:20250711T133300Z
LAST-MODIFIED:20250711T133300Z
UID:843475-1768435200-1768435200@www.dedhamcountryday.org
SUMMARY:DCD Admission Application Deadline
DESCRIPTION:
URL:https://www.dedhamcountryday.org/event/dcd-admission-application-deadline/
CATEGORIES:Events
END:VEVENT
BEGIN:VEVENT
DTSTART;TZID=America/New_York:20260109T083000
DTEND;TZID=America/New_York:20260109T103000
DTSTAMP:20260421T084610
CREATED:20250711T133200Z
LAST-MODIFIED:20250711T133200Z
UID:843474-1767947400-1767954600@www.dedhamcountryday.org
SUMMARY:Admissions Classroom Observation
DESCRIPTION:
URL:https://www.dedhamcountryday.org/event/admissions-classroom-observation-3/
CATEGORIES:Events
END:VEVENT
BEGIN:VEVENT
DTSTART;TZID=America/New_York:20251210T083000
DTEND;TZID=America/New_York:20251210T100000
DTSTAMP:20260421T084610
CREATED:20250711T133200Z
LAST-MODIFIED:20250711T133200Z
UID:843473-1765355400-1765360800@www.dedhamcountryday.org
SUMMARY:Admissions Coffee and Conversation
DESCRIPTION:
URL:https://www.dedhamcountryday.org/event/admissions-coffee-and-conversation-2/
CATEGORIES:Events
END:VEVENT
BEGIN:VEVENT
DTSTART;TZID=America/New_York:20251205T131500
DTEND;TZID=America/New_York:20251205T141500
DTSTAMP:20260421T084610
CREATED:20250711T133100Z
LAST-MODIFIED:20250711T133100Z
UID:843472-1764940500-1764944100@www.dedhamcountryday.org
SUMMARY:Admissions Playgroup Visit for Affiliated Families
DESCRIPTION:
URL:https://www.dedhamcountryday.org/event/admissions-playgroup-visit-for-affiliated-families/
CATEGORIES:Events
END:VEVENT
BEGIN:VEVENT
DTSTART;TZID=America/New_York:20251121T083000
DTEND;TZID=America/New_York:20251121T100000
DTSTAMP:20260421T084610
CREATED:20250711T133000Z
LAST-MODIFIED:20250711T133000Z
UID:843471-1763713800-1763719200@www.dedhamcountryday.org
SUMMARY:Admissions Coffee and Conversation
DESCRIPTION:
URL:https://www.dedhamcountryday.org/event/admissions-coffee-and-conversation/
CATEGORIES:Events
END:VEVENT
BEGIN:VEVENT
DTSTART;TZID=America/New_York:20251113T190000
DTEND;TZID=America/New_York:20251113T200000
DTSTAMP:20260421T084610
CREATED:20250711T132800Z
LAST-MODIFIED:20250711T132800Z
UID:844152-1763060400-1763064000@www.dedhamcountryday.org
SUMMARY:Virtual Admissions Event: Celebrating our Diversity @ DCD
DESCRIPTION:Learn about DCD’s ongoing commitment to Diversity\, Equity\, and Inclusion through this informative live session with DEI Director Ivy Alphonse-Crean\, who will explore our efforts to ensure that every student feels seen\, heard\, and safe at DCD.
URL:https://www.dedhamcountryday.org/event/virtual-admissions-event-celebrating-our-diversity-dcd/
CATEGORIES:Events
END:VEVENT
BEGIN:VEVENT
DTSTART;TZID=America/New_York:20251106T083000
DTEND;TZID=America/New_York:20251106T103000
DTSTAMP:20260421T084610
CREATED:20250711T133000Z
LAST-MODIFIED:20250711T133000Z
UID:851635-1762417800-1762425000@www.dedhamcountryday.org
SUMMARY:Admissions Classroom Observation
DESCRIPTION:
URL:https://www.dedhamcountryday.org/event/admissions-classroom-observation-2/
CATEGORIES:Events
END:VEVENT
BEGIN:VEVENT
DTSTART;TZID=America/New_York:20251029T123000
DTEND;TZID=America/New_York:20251029T133000
DTSTAMP:20260421T084610
CREATED:20250918T183100Z
LAST-MODIFIED:20250918T183100Z
UID:850180-1761741000-1761744600@www.dedhamcountryday.org
SUMMARY:Admissions Luncheon with Educational Consultants
DESCRIPTION:
URL:https://www.dedhamcountryday.org/event/admissions-luncheon-with-educational-consultants/
CATEGORIES:Events
END:VEVENT
BEGIN:VEVENT
DTSTART;TZID=America/New_York:20251029T120000
DTEND;TZID=America/New_York:20251029T133000
DTSTAMP:20260421T084610
CREATED:20250926T191300Z
LAST-MODIFIED:20250926T191300Z
UID:850430-1761739200-1761744600@www.dedhamcountryday.org
SUMMARY:Admissions Educational Consultants Luncheon
DESCRIPTION:
URL:https://www.dedhamcountryday.org/event/admissions-educational-consultants-luncheon/
CATEGORIES:Events
END:VEVENT
BEGIN:VEVENT
DTSTART;TZID=America/New_York:20251024T083000
DTEND;TZID=America/New_York:20251024T103000
DTSTAMP:20260421T084610
CREATED:20250711T132800Z
LAST-MODIFIED:20250711T132800Z
UID:843922-1761294600-1761301800@www.dedhamcountryday.org
SUMMARY:Admissions Classroom Observation
DESCRIPTION:
URL:https://www.dedhamcountryday.org/event/admissions-classroom-observation/
CATEGORIES:Events
END:VEVENT
BEGIN:VEVENT
DTSTART;TZID=America/New_York:20251010T083000
DTEND;TZID=America/New_York:20251010T100000
DTSTAMP:20260421T084610
CREATED:20250711T132700Z
LAST-MODIFIED:20250711T132700Z
UID:843921-1760085000-1760090400@www.dedhamcountryday.org
SUMMARY:Admissions Middle School Classroom Observation for Current Families
DESCRIPTION:
URL:https://www.dedhamcountryday.org/event/admissions-middle-school-classroom-observation-for-current-families/
CATEGORIES:Events
END:VEVENT
BEGIN:VEVENT
DTSTART;TZID=America/New_York:20251003T083000
DTEND;TZID=America/New_York:20251003T090000
DTSTAMP:20260421T084610
CREATED:20250917T172300Z
LAST-MODIFIED:20250917T172300Z
UID:850114-1759480200-1759482000@www.dedhamcountryday.org
SUMMARY:Admissions Ambassadors Meeting
DESCRIPTION:Location: Lower School Science Classroom
URL:https://www.dedhamcountryday.org/event/admissions-ambassadors-meeting/
CATEGORIES:Events
END:VEVENT
BEGIN:VEVENT
DTSTART;TZID=America/New_York:20250528T170000
DTEND;TZID=America/New_York:20250528T180000
DTSTAMP:20260421T084610
CREATED:20240701T183600Z
LAST-MODIFIED:20240701T183600Z
UID:701571-1748451600-1748455200@www.dedhamcountryday.org
SUMMARY:Admitted Student Ice Cream Social
DESCRIPTION:
URL:https://www.dedhamcountryday.org/event/admitted-student-ice-cream-social/
CATEGORIES:Events
END:VEVENT
BEGIN:VEVENT
DTSTART;TZID=America/New_York:20250404T083000
DTEND;TZID=America/New_York:20250404T094500
DTSTAMP:20260421T084610
CREATED:20240701T180200Z
LAST-MODIFIED:20240701T180200Z
UID:837056-1743755400-1743759900@www.dedhamcountryday.org
SUMMARY:Admitted Student Event
DESCRIPTION:
URL:https://www.dedhamcountryday.org/event/admitted-student-event-2/
CATEGORIES:Events
END:VEVENT
BEGIN:VEVENT
DTSTART;TZID=America/New_York:20250207T131500
DTEND;TZID=America/New_York:20250207T141500
DTSTAMP:20260421T084610
CREATED:20240701T174600Z
LAST-MODIFIED:20240701T174600Z
UID:701569-1738934100-1738937700@www.dedhamcountryday.org
SUMMARY:Admission Playgroup Visit
DESCRIPTION:
URL:https://www.dedhamcountryday.org/event/admission-playgroup-visit-8/
CATEGORIES:Events
END:VEVENT
BEGIN:VEVENT
DTSTART;TZID=America/New_York:20250131T131500
DTEND;TZID=America/New_York:20250131T141500
DTSTAMP:20260421T084610
CREATED:20240701T174700Z
LAST-MODIFIED:20240701T174700Z
UID:701568-1738329300-1738332900@www.dedhamcountryday.org
SUMMARY:Admission Playgroup Visit
DESCRIPTION:
URL:https://www.dedhamcountryday.org/event/admission-playgroup-visit-7/
CATEGORIES:Events
END:VEVENT
BEGIN:VEVENT
DTSTART;TZID=America/New_York:20250130T083000
DTEND;TZID=America/New_York:20250130T093000
DTSTAMP:20260421T084610
CREATED:20240701T191500Z
LAST-MODIFIED:20240701T191500Z
UID:701567-1738225800-1738229400@www.dedhamcountryday.org
SUMMARY:Admission Playgroup Visit
DESCRIPTION:
URL:https://www.dedhamcountryday.org/event/admission-playgroup-visit-6/
CATEGORIES:Events
END:VEVENT
BEGIN:VEVENT
DTSTART;TZID=America/New_York:20250124T131500
DTEND;TZID=America/New_York:20250124T141500
DTSTAMP:20260421T084610
CREATED:20240701T165100Z
LAST-MODIFIED:20240701T165100Z
UID:701566-1737724500-1737728100@www.dedhamcountryday.org
SUMMARY:Admission Playgroup Visit
DESCRIPTION:
URL:https://www.dedhamcountryday.org/event/admission-playgroup-visit-5/
CATEGORIES:Events
END:VEVENT
BEGIN:VEVENT
DTSTART;TZID=America/New_York:20250123T083000
DTEND;TZID=America/New_York:20250123T103000
DTSTAMP:20260421T084610
CREATED:20240701T164800Z
LAST-MODIFIED:20240701T164800Z
UID:701565-1737621000-1737628200@www.dedhamcountryday.org
SUMMARY:Admission Event: Classroom Observation
DESCRIPTION:
URL:https://www.dedhamcountryday.org/event/admission-event-classroom-observation-3/
CATEGORIES:Events
END:VEVENT
BEGIN:VEVENT
DTSTART;TZID=America/New_York:20250110T083000
DTEND;TZID=America/New_York:20250110T100000
DTSTAMP:20260421T084610
CREATED:20240701T164600Z
LAST-MODIFIED:20240701T164600Z
UID:701564-1736497800-1736503200@www.dedhamcountryday.org
SUMMARY:Admission Event: Coffee and Conversation at Hale House
DESCRIPTION:
URL:https://www.dedhamcountryday.org/event/admission-event-coffee-and-conversation-at-hale-house-2/
CATEGORIES:Events
END:VEVENT
BEGIN:VEVENT
DTSTART;TZID=America/New_York:20241211T083000
DTEND;TZID=America/New_York:20241211T100000
DTSTAMP:20260421T084610
CREATED:20240701T164100Z
LAST-MODIFIED:20240701T164100Z
UID:701563-1733905800-1733911200@www.dedhamcountryday.org
SUMMARY:Admission Event: Coffee and Conversation at Hale House
DESCRIPTION:
URL:https://www.dedhamcountryday.org/event/admission-event-coffee-and-conversation-at-hale-house/
CATEGORIES:Events
END:VEVENT
BEGIN:VEVENT
DTSTART;TZID=America/New_York:20241206T131500
DTEND;TZID=America/New_York:20241206T141500
DTSTAMP:20260421T084610
CREATED:20240701T174800Z
LAST-MODIFIED:20240701T174800Z
UID:701562-1733490900-1733494500@www.dedhamcountryday.org
SUMMARY:Admission Playgroup Visit for Affiliated Families
DESCRIPTION:
URL:https://www.dedhamcountryday.org/event/admission-playgroup-visit-for-affiliated-families-2/
CATEGORIES:Events
END:VEVENT
END:VCALENDAR