BEGIN:VCALENDAR
VERSION:2.0
PRODID:-//Dedham Country Day School - ECPv5.6.0//NONSGML v1.0//EN
CALSCALE:GREGORIAN
METHOD:PUBLISH
X-WR-CALNAME:Dedham Country Day School
X-ORIGINAL-URL:https://www.dedhamcountryday.org
X-WR-CALDESC:Events for Dedham Country Day School
BEGIN:VTIMEZONE
TZID:America/New_York
BEGIN:DAYLIGHT
TZOFFSETFROM:-0500
TZOFFSETTO:-0400
TZNAME:EDT
DTSTART:20250309T070000
END:DAYLIGHT
BEGIN:STANDARD
TZOFFSETFROM:-0400
TZOFFSETTO:-0500
TZNAME:EST
DTSTART:20251102T060000
END:STANDARD
BEGIN:DAYLIGHT
TZOFFSETFROM:-0500
TZOFFSETTO:-0400
TZNAME:EDT
DTSTART:20260308T070000
END:DAYLIGHT
BEGIN:STANDARD
TZOFFSETFROM:-0400
TZOFFSETTO:-0500
TZNAME:EST
DTSTART:20261101T060000
END:STANDARD
END:VTIMEZONE
BEGIN:VEVENT
DTSTART;TZID=America/New_York:20251022T153000
DTEND;TZID=America/New_York:20251022T153000
DTSTAMP:20260426T002757
CREATED:20260422T040000Z
LAST-MODIFIED:20260422T040000Z
UID:1013873-1761147000-1761147000@www.dedhamcountryday.org
SUMMARY:Away @ Carroll School
DESCRIPTION:Location: Carroll School 25 Baker Bridge Road\nLincoln\, MA 01773
URL:https://www.dedhamcountryday.org/event/away-carroll-school-36/
CATEGORIES:athletics
END:VEVENT
BEGIN:VEVENT
DTSTART;TZID=America/New_York:20251022T153000
DTEND;TZID=America/New_York:20251022T153000
DTSTAMP:20260426T002757
CREATED:20260422T040000Z
LAST-MODIFIED:20260422T040000Z
UID:1013894-1761147000-1761147000@www.dedhamcountryday.org
SUMMARY:Away @ Belmont Day School
DESCRIPTION:
URL:https://www.dedhamcountryday.org/event/away-belmont-day-school-23/
CATEGORIES:athletics
END:VEVENT
BEGIN:VEVENT
DTSTART;TZID=America/New_York:20251022T153000
DTEND;TZID=America/New_York:20251022T153000
DTSTAMP:20260426T002757
CREATED:20260422T040000Z
LAST-MODIFIED:20260422T040000Z
UID:1013909-1761147000-1761147000@www.dedhamcountryday.org
SUMMARY:Home VS Belmont Day School
DESCRIPTION:
URL:https://www.dedhamcountryday.org/event/home-vs-belmont-day-school-24/
CATEGORIES:athletics
END:VEVENT
BEGIN:VEVENT
DTSTART;TZID=America/New_York:20251022T153000
DTEND;TZID=America/New_York:20251022T153000
DTSTAMP:20260426T002757
CREATED:20260422T040000Z
LAST-MODIFIED:20260422T040000Z
UID:1013910-1761147000-1761147000@www.dedhamcountryday.org
SUMMARY:Away @ Fessenden
DESCRIPTION:
URL:https://www.dedhamcountryday.org/event/away-fessenden-36/
CATEGORIES:athletics
END:VEVENT
BEGIN:VEVENT
DTSTART;TZID=America/New_York:20251022T153000
DTEND;TZID=America/New_York:20251022T153000
DTSTAMP:20260426T002757
CREATED:20260422T040000Z
LAST-MODIFIED:20260422T040000Z
UID:1013923-1761147000-1761147000@www.dedhamcountryday.org
SUMMARY:Home VS British International School of Boston
DESCRIPTION:
URL:https://www.dedhamcountryday.org/event/home-vs-british-international-school-of-boston-13/
CATEGORIES:athletics
END:VEVENT
BEGIN:VEVENT
DTSTART;TZID=America/New_York:20251028T153000
DTEND;TZID=America/New_York:20251028T153000
DTSTAMP:20260426T002757
CREATED:20260422T040000Z
LAST-MODIFIED:20260422T040000Z
UID:1013895-1761665400-1761665400@www.dedhamcountryday.org
SUMMARY:Home VS Park School
DESCRIPTION:
URL:https://www.dedhamcountryday.org/event/home-vs-park-school-23/
CATEGORIES:athletics
END:VEVENT
BEGIN:VEVENT
DTSTART;TZID=America/New_York:20251028T153000
DTEND;TZID=America/New_York:20251028T153000
DTSTAMP:20260426T002757
CREATED:20260422T040000Z
LAST-MODIFIED:20260422T040000Z
UID:1013911-1761665400-1761665400@www.dedhamcountryday.org
SUMMARY:Home VS Park School
DESCRIPTION:
URL:https://www.dedhamcountryday.org/event/home-vs-park-school-24/
CATEGORIES:athletics
END:VEVENT
BEGIN:VEVENT
DTSTART;TZID=America/New_York:20251029T153000
DTEND;TZID=America/New_York:20251029T153000
DTSTAMP:20260426T002757
CREATED:20260422T040000Z
LAST-MODIFIED:20260422T040000Z
UID:1013864-1761751800-1761751800@www.dedhamcountryday.org
SUMMARY:Away @ Belmont Day School
DESCRIPTION:
URL:https://www.dedhamcountryday.org/event/away-belmont-day-school-22/
CATEGORIES:athletics
END:VEVENT
BEGIN:VEVENT
DTSTART;TZID=America/New_York:20251029T153000
DTEND;TZID=America/New_York:20251029T153000
DTSTAMP:20260426T002757
CREATED:20260422T040000Z
LAST-MODIFIED:20260422T040000Z
UID:1013883-1761751800-1761751800@www.dedhamcountryday.org
SUMMARY:Home VS Belmont Day School
DESCRIPTION:
URL:https://www.dedhamcountryday.org/event/home-vs-belmont-day-school/
CATEGORIES:athletics
END:VEVENT
BEGIN:VEVENT
DTSTART;TZID=America/New_York:20251029T153000
DTEND;TZID=America/New_York:20251029T153000
DTSTAMP:20260426T002757
CREATED:20260422T040000Z
LAST-MODIFIED:20260422T040000Z
UID:1013912-1761751800-1761751800@www.dedhamcountryday.org
SUMMARY:Home VS Carroll School
DESCRIPTION:
URL:https://www.dedhamcountryday.org/event/home-vs-carroll-school-22/
CATEGORIES:athletics
END:VEVENT
BEGIN:VEVENT
DTSTART;TZID=America/New_York:20251029T153000
DTEND;TZID=America/New_York:20251029T153000
DTSTAMP:20260426T002757
CREATED:20260422T040000Z
LAST-MODIFIED:20260422T040000Z
UID:1013924-1761751800-1761751800@www.dedhamcountryday.org
SUMMARY:Home VS Belmont Day School
DESCRIPTION:
URL:https://www.dedhamcountryday.org/event/home-vs-belmont-day-school-28/
CATEGORIES:athletics
END:VEVENT
BEGIN:VEVENT
DTSTART;TZID=America/New_York:20251030T153000
DTEND;TZID=America/New_York:20251030T153000
DTSTAMP:20260426T002757
CREATED:20260422T040000Z
LAST-MODIFIED:20260422T040000Z
UID:1013896-1761838200-1761838200@www.dedhamcountryday.org
SUMMARY:Away @ Solomon Schecter
DESCRIPTION:
URL:https://www.dedhamcountryday.org/event/away-solomon-schecter-7/
CATEGORIES:athletics
END:VEVENT
BEGIN:VEVENT
DTSTART;TZID=America/New_York:20251030T154500
DTEND;TZID=America/New_York:20251030T154500
DTSTAMP:20260426T002757
CREATED:20260422T040000Z
LAST-MODIFIED:20260422T040000Z
UID:1013884-1761839100-1761839100@www.dedhamcountryday.org
SUMMARY:Home VS Nashoba Brooks School
DESCRIPTION:
URL:https://www.dedhamcountryday.org/event/home-vs-nashoba-brooks-school/
CATEGORIES:athletics
END:VEVENT
BEGIN:VEVENT
DTSTART;TZID=America/New_York:20251104T151500
DTEND;TZID=America/New_York:20251104T151500
DTSTAMP:20260426T002757
CREATED:20260422T040000Z
LAST-MODIFIED:20260422T040000Z
UID:1013885-1762269300-1762269300@www.dedhamcountryday.org
SUMMARY:Away @ Noble and Greenough
DESCRIPTION:Loaction: The Turf – located down the path towards the Bridge Street entrance to campus.
URL:https://www.dedhamcountryday.org/event/away-noble-and-greenough-25/
CATEGORIES:athletics
END:VEVENT
BEGIN:VEVENT
DTSTART;TZID=America/New_York:20251104T153000
DTEND;TZID=America/New_York:20251104T153000
DTSTAMP:20260426T002757
CREATED:20260422T040000Z
LAST-MODIFIED:20260422T040000Z
UID:1013865-1762270200-1762270200@www.dedhamcountryday.org
SUMMARY:Away @ Derby Academy
DESCRIPTION:
URL:https://www.dedhamcountryday.org/event/away-derby-academy-6/
CATEGORIES:athletics
END:VEVENT
BEGIN:VEVENT
DTSTART;TZID=America/New_York:20251104T153000
DTEND;TZID=America/New_York:20251104T153000
DTSTAMP:20260426T002757
CREATED:20260422T040000Z
LAST-MODIFIED:20260422T040000Z
UID:1013897-1762270200-1762270200@www.dedhamcountryday.org
SUMMARY:Away @ Park School
DESCRIPTION:
URL:https://www.dedhamcountryday.org/event/away-park-school-26/
CATEGORIES:athletics
END:VEVENT
BEGIN:VEVENT
DTSTART;TZID=America/New_York:20251105T151500
DTEND;TZID=America/New_York:20251105T151500
DTSTAMP:20260426T002757
CREATED:20260422T040000Z
LAST-MODIFIED:20260422T040000Z
UID:1013886-1762355700-1762355700@www.dedhamcountryday.org
SUMMARY:Home VS Dana Hall School
DESCRIPTION:
URL:https://www.dedhamcountryday.org/event/home-vs-dana-hall-school-13/
CATEGORIES:athletics
END:VEVENT
BEGIN:VEVENT
DTSTART;TZID=America/New_York:20251105T151500
DTEND;TZID=America/New_York:20251105T151500
DTSTAMP:20260426T002757
CREATED:20260422T040000Z
LAST-MODIFIED:20260422T040000Z
UID:1013925-1762355700-1762355700@www.dedhamcountryday.org
SUMMARY:Home VS Dana Hall School
DESCRIPTION:
URL:https://www.dedhamcountryday.org/event/home-vs-dana-hall-school-15/
CATEGORIES:athletics
END:VEVENT
BEGIN:VEVENT
DTSTART;TZID=America/New_York:20251105T153000
DTEND;TZID=America/New_York:20251105T153000
DTSTAMP:20260426T002757
CREATED:20260422T040000Z
LAST-MODIFIED:20260422T040000Z
UID:1013874-1762356600-1762356600@www.dedhamcountryday.org
SUMMARY:Away @ Newton Country Day
DESCRIPTION:
URL:https://www.dedhamcountryday.org/event/away-newton-country-day-21/
CATEGORIES:athletics
END:VEVENT
BEGIN:VEVENT
DTSTART;TZID=America/New_York:20251105T153000
DTEND;TZID=America/New_York:20251105T153000
DTSTAMP:20260426T002757
CREATED:20260422T040000Z
LAST-MODIFIED:20260422T040000Z
UID:1013913-1762356600-1762356600@www.dedhamcountryday.org
SUMMARY:Home VS Rashi School
DESCRIPTION:
URL:https://www.dedhamcountryday.org/event/home-vs-rashi-school-34/
CATEGORIES:athletics
END:VEVENT
BEGIN:VEVENT
DTSTART;TZID=America/New_York:20251106T153000
DTEND;TZID=America/New_York:20251106T153000
DTSTAMP:20260426T002757
CREATED:20260422T040000Z
LAST-MODIFIED:20260422T040000Z
UID:1013866-1762443000-1762443000@www.dedhamcountryday.org
SUMMARY:Home VS Shady Hill School
DESCRIPTION:
URL:https://www.dedhamcountryday.org/event/home-vs-shady-hill-school-23/
CATEGORIES:athletics
END:VEVENT
BEGIN:VEVENT
DTSTART;TZID=America/New_York:20251106T153000
DTEND;TZID=America/New_York:20251106T153000
DTSTAMP:20260426T002757
CREATED:20260422T040000Z
LAST-MODIFIED:20260422T040000Z
UID:1013898-1762443000-1762443000@www.dedhamcountryday.org
SUMMARY:Home VS Shady Hill School
DESCRIPTION:
URL:https://www.dedhamcountryday.org/event/home-vs-shady-hill-school-24/
CATEGORIES:athletics
END:VEVENT
BEGIN:VEVENT
DTSTART;TZID=America/New_York:20251106T153000
DTEND;TZID=America/New_York:20251106T153000
DTSTAMP:20260426T002758
CREATED:20260422T040000Z
LAST-MODIFIED:20260422T040000Z
UID:1013914-1762443000-1762443000@www.dedhamcountryday.org
SUMMARY:Away @ Shady Hill School
DESCRIPTION:
URL:https://www.dedhamcountryday.org/event/away-shady-hill-school-13/
CATEGORIES:athletics
END:VEVENT
BEGIN:VEVENT
DTSTART;TZID=America/New_York:20251106T153000
DTEND;TZID=America/New_York:20251106T153000
DTSTAMP:20260426T002758
CREATED:20260422T040000Z
LAST-MODIFIED:20260422T040000Z
UID:1013926-1762443000-1762443000@www.dedhamcountryday.org
SUMMARY:Away @ Shady Hill
DESCRIPTION:
URL:https://www.dedhamcountryday.org/event/away-shady-hill-34/
CATEGORIES:athletics
END:VEVENT
BEGIN:VEVENT
DTSTART;TZID=America/New_York:20260107T154500
DTEND;TZID=America/New_York:20260107T154500
DTSTAMP:20260426T002758
CREATED:20260422T040000Z
LAST-MODIFIED:20260422T040000Z
UID:1013935-1767800700-1767800700@www.dedhamcountryday.org
SUMMARY:Home VS Rashi School
DESCRIPTION:
URL:https://www.dedhamcountryday.org/event/home-vs-rashi-school-36/
CATEGORIES:athletics
END:VEVENT
BEGIN:VEVENT
DTSTART;TZID=America/New_York:20260107T160000
DTEND;TZID=America/New_York:20260107T160000
DTSTAMP:20260426T002758
CREATED:20260422T040000Z
LAST-MODIFIED:20260422T040000Z
UID:1013952-1767801600-1767801600@www.dedhamcountryday.org
SUMMARY:Away @ Rashi School
DESCRIPTION:
URL:https://www.dedhamcountryday.org/event/away-rashi-school-27/
CATEGORIES:athletics
END:VEVENT
BEGIN:VEVENT
DTSTART;TZID=America/New_York:20260108T151500
DTEND;TZID=America/New_York:20260108T151500
DTSTAMP:20260426T002758
CREATED:20260422T040000Z
LAST-MODIFIED:20260422T040000Z
UID:1013967-1767885300-1767885300@www.dedhamcountryday.org
SUMMARY:Home VS Derby Academy
DESCRIPTION:
URL:https://www.dedhamcountryday.org/event/home-vs-derby-academy-15/
CATEGORIES:athletics
END:VEVENT
BEGIN:VEVENT
DTSTART;TZID=America/New_York:20260108T154500
DTEND;TZID=America/New_York:20260108T154500
DTSTAMP:20260426T002758
CREATED:20260422T040000Z
LAST-MODIFIED:20260422T040000Z
UID:1013927-1767887100-1767887100@www.dedhamcountryday.org
SUMMARY:Away @ Derby School
DESCRIPTION:
URL:https://www.dedhamcountryday.org/event/away-derby-school-8/
CATEGORIES:athletics
END:VEVENT
BEGIN:VEVENT
DTSTART;TZID=America/New_York:20260108T154500
DTEND;TZID=America/New_York:20260108T154500
DTSTAMP:20260426T002758
CREATED:20260422T040000Z
LAST-MODIFIED:20260422T040000Z
UID:1013943-1767887100-1767887100@www.dedhamcountryday.org
SUMMARY:Away @ Derby
DESCRIPTION:
URL:https://www.dedhamcountryday.org/event/away-derby-64/
CATEGORIES:athletics
END:VEVENT
BEGIN:VEVENT
DTSTART;TZID=America/New_York:20260108T154500
DTEND;TZID=America/New_York:20260108T154500
DTSTAMP:20260426T002758
CREATED:20260422T040000Z
LAST-MODIFIED:20260422T040000Z
UID:1013960-1767887100-1767887100@www.dedhamcountryday.org
SUMMARY:Away @ Derbry Academy
DESCRIPTION:
URL:https://www.dedhamcountryday.org/event/away-derbry-academy-7/
CATEGORIES:athletics
END:VEVENT
END:VCALENDAR