BEGIN:VCALENDAR
VERSION:2.0
PRODID:-//Dedham Country Day School - ECPv5.6.0//NONSGML v1.0//EN
CALSCALE:GREGORIAN
METHOD:PUBLISH
X-WR-CALNAME:Dedham Country Day School
X-ORIGINAL-URL:https://www.dedhamcountryday.org
X-WR-CALDESC:Events for Dedham Country Day School
BEGIN:VTIMEZONE
TZID:America/New_York
BEGIN:DAYLIGHT
TZOFFSETFROM:-0500
TZOFFSETTO:-0400
TZNAME:EDT
DTSTART:20260308T070000
END:DAYLIGHT
BEGIN:STANDARD
TZOFFSETFROM:-0400
TZOFFSETTO:-0500
TZNAME:EST
DTSTART:20261101T060000
END:STANDARD
END:VTIMEZONE
BEGIN:VEVENT
DTSTART;TZID=America/New_York:20260218T154500
DTEND;TZID=America/New_York:20260218T154500
DTSTAMP:20260423T061442
CREATED:20260422T040000Z
LAST-MODIFIED:20260422T040000Z
UID:1013933-1771429500-1771429500@www.dedhamcountryday.org
SUMMARY:Home VS Meadowbrook School
DESCRIPTION:
URL:https://www.dedhamcountryday.org/event/home-vs-meadowbrook-school-8/
CATEGORIES:athletics
END:VEVENT
BEGIN:VEVENT
DTSTART;TZID=America/New_York:20260219T151500
DTEND;TZID=America/New_York:20260219T151500
DTSTAMP:20260423T061442
CREATED:20260422T040000Z
LAST-MODIFIED:20260422T040000Z
UID:1013941-1771514100-1771514100@www.dedhamcountryday.org
SUMMARY:Home VS Beaver School
DESCRIPTION:
URL:https://www.dedhamcountryday.org/event/home-vs-beaver-school-10/
CATEGORIES:athletics
END:VEVENT
BEGIN:VEVENT
DTSTART;TZID=America/New_York:20260219T153000
DTEND;TZID=America/New_York:20260219T153000
DTSTAMP:20260423T061442
CREATED:20260422T040000Z
LAST-MODIFIED:20260422T040000Z
UID:1013958-1771515000-1771515000@www.dedhamcountryday.org
SUMMARY:Away @ Charles River School
DESCRIPTION:
URL:https://www.dedhamcountryday.org/event/away-charles-river-school-64/
CATEGORIES:athletics
END:VEVENT
BEGIN:VEVENT
DTSTART;TZID=America/New_York:20260219T153000
DTEND;TZID=America/New_York:20260219T153000
DTSTAMP:20260423T061442
CREATED:20260422T040000Z
LAST-MODIFIED:20260422T040000Z
UID:1013965-1771515000-1771515000@www.dedhamcountryday.org
SUMMARY:Away @ Park School
DESCRIPTION:
URL:https://www.dedhamcountryday.org/event/away-park-school-27/
CATEGORIES:athletics
END:VEVENT
BEGIN:VEVENT
DTSTART;TZID=America/New_York:20260219T153000
DTEND;TZID=America/New_York:20260219T153000
DTSTAMP:20260423T061442
CREATED:20260422T040000Z
LAST-MODIFIED:20260422T040000Z
UID:1013981-1771515000-1771515000@www.dedhamcountryday.org
SUMMARY:Away @ Nobles
DESCRIPTION:
URL:https://www.dedhamcountryday.org/event/away-nobles-71/
CATEGORIES:athletics
END:VEVENT
BEGIN:VEVENT
DTSTART;TZID=America/New_York:20260219T154500
DTEND;TZID=America/New_York:20260219T154500
DTSTAMP:20260423T061442
CREATED:20260422T040000Z
LAST-MODIFIED:20260422T040000Z
UID:1013950-1771515900-1771515900@www.dedhamcountryday.org
SUMMARY:Away @ Fenn School
DESCRIPTION:
URL:https://www.dedhamcountryday.org/event/away-fenn-school-7/
CATEGORIES:athletics
END:VEVENT
BEGIN:VEVENT
DTSTART;TZID=America/New_York:20260219T160000
DTEND;TZID=America/New_York:20260219T160000
DTSTAMP:20260423T061442
CREATED:20260422T040000Z
LAST-MODIFIED:20260422T040000Z
UID:1013989-1771516800-1771516800@www.dedhamcountryday.org
SUMMARY:[CANCELED] Away @ St. Sebastian's
DESCRIPTION:
URL:https://www.dedhamcountryday.org/event/canceled-away-st-sebastians-8/
CATEGORIES:athletics
END:VEVENT
BEGIN:VEVENT
DTSTART;TZID=America/New_York:20260219T161500
DTEND;TZID=America/New_York:20260219T161500
DTSTAMP:20260423T061442
CREATED:20260422T040000Z
LAST-MODIFIED:20260422T040000Z
UID:1013973-1771517700-1771517700@www.dedhamcountryday.org
SUMMARY:Home VS Charles River School
DESCRIPTION:
URL:https://www.dedhamcountryday.org/event/home-vs-charles-river-school-20/
CATEGORIES:athletics
END:VEVENT
BEGIN:VEVENT
DTSTART;TZID=America/New_York:20260220T150000
DTEND;TZID=America/New_York:20260220T150000
DTSTAMP:20260423T061442
CREATED:20260422T040000Z
LAST-MODIFIED:20260422T040000Z
UID:1013990-1771599600-1771599600@www.dedhamcountryday.org
SUMMARY:Away @ Newton Country Day School
DESCRIPTION:
URL:https://www.dedhamcountryday.org/event/away-newton-country-day-school-22/
CATEGORIES:athletics
END:VEVENT
BEGIN:VEVENT
DTSTART;TZID=America/New_York:20260220T151500
DTEND;TZID=America/New_York:20260220T151500
DTSTAMP:20260423T061442
CREATED:20260422T040000Z
LAST-MODIFIED:20260422T040000Z
UID:1013982-1771600500-1771600500@www.dedhamcountryday.org
SUMMARY:Away @ Milton Academy
DESCRIPTION:
URL:https://www.dedhamcountryday.org/event/away-milton-academy-61/
CATEGORIES:athletics
END:VEVENT
BEGIN:VEVENT
DTSTART;TZID=America/New_York:20260225T154500
DTEND;TZID=America/New_York:20260225T154500
DTSTAMP:20260423T061442
CREATED:20260422T040000Z
LAST-MODIFIED:20260422T040000Z
UID:1013966-1772034300-1772034300@www.dedhamcountryday.org
SUMMARY:Home VS Milton Academy
DESCRIPTION:
URL:https://www.dedhamcountryday.org/event/home-vs-milton-academy-34/
CATEGORIES:athletics
END:VEVENT
BEGIN:VEVENT
DTSTART;TZID=America/New_York:20260225T160000
DTEND;TZID=America/New_York:20260225T160000
DTSTAMP:20260423T061442
CREATED:20260422T040000Z
LAST-MODIFIED:20260422T040000Z
UID:1013942-1772035200-1772035200@www.dedhamcountryday.org
SUMMARY:Away @ Charles River School
DESCRIPTION:
URL:https://www.dedhamcountryday.org/event/away-charles-river-school-68/
CATEGORIES:athletics
END:VEVENT
BEGIN:VEVENT
DTSTART;TZID=America/New_York:20260225T160000
DTEND;TZID=America/New_York:20260225T160000
DTSTAMP:20260423T061442
CREATED:20260422T040000Z
LAST-MODIFIED:20260422T040000Z
UID:1013951-1772035200-1772035200@www.dedhamcountryday.org
SUMMARY:Away @ Charles River School
DESCRIPTION:
URL:https://www.dedhamcountryday.org/event/away-charles-river-school-63/
CATEGORIES:athletics
END:VEVENT
BEGIN:VEVENT
DTSTART;TZID=America/New_York:20260226T151500
DTEND;TZID=America/New_York:20260226T151500
DTSTAMP:20260423T061442
CREATED:20260422T040000Z
LAST-MODIFIED:20260422T040000Z
UID:1013974-1772118900-1772118900@www.dedhamcountryday.org
SUMMARY:Away @ Rashi School
DESCRIPTION:
URL:https://www.dedhamcountryday.org/event/away-rashi-school-36/
CATEGORIES:athletics
END:VEVENT
BEGIN:VEVENT
DTSTART;TZID=America/New_York:20260226T153000
DTEND;TZID=America/New_York:20260226T153000
DTSTAMP:20260423T061442
CREATED:20260422T040000Z
LAST-MODIFIED:20260422T040000Z
UID:1013934-1772119800-1772119800@www.dedhamcountryday.org
SUMMARY:Home VS Solomon Schechter School
DESCRIPTION:
URL:https://www.dedhamcountryday.org/event/home-vs-solomon-schechter-school-10/
CATEGORIES:athletics
END:VEVENT
BEGIN:VEVENT
DTSTART;TZID=America/New_York:20260226T153000
DTEND;TZID=America/New_York:20260226T153000
DTSTAMP:20260423T061442
CREATED:20260422T040000Z
LAST-MODIFIED:20260422T040000Z
UID:1013959-1772119800-1772119800@www.dedhamcountryday.org
SUMMARY:Away @ Salomon Schechter School
DESCRIPTION:
URL:https://www.dedhamcountryday.org/event/away-salomon-schechter-school-11/
CATEGORIES:athletics
END:VEVENT
BEGIN:VEVENT
DTSTART;TZID=America/New_York:20260226T153000
DTEND;TZID=America/New_York:20260226T153000
DTSTAMP:20260423T061442
CREATED:20260422T040000Z
LAST-MODIFIED:20260422T040000Z
UID:1013991-1772119800-1772119800@www.dedhamcountryday.org
SUMMARY:Away @ Nobles
DESCRIPTION:
URL:https://www.dedhamcountryday.org/event/away-nobles-76/
CATEGORIES:athletics
END:VEVENT
BEGIN:VEVENT
DTSTART;TZID=America/New_York:20260227T151500
DTEND;TZID=America/New_York:20260227T151500
DTSTAMP:20260423T061442
CREATED:20260422T040000Z
LAST-MODIFIED:20260422T040000Z
UID:1013992-1772205300-1772205300@www.dedhamcountryday.org
SUMMARY:[CANCELED] Away @ Winsor School
DESCRIPTION:
URL:https://www.dedhamcountryday.org/event/canceled-away-winsor-school-17/
CATEGORIES:athletics
END:VEVENT
BEGIN:VEVENT
DTSTART;TZID=America/New_York:20260227T153000
DTEND;TZID=America/New_York:20260227T153000
DTSTAMP:20260423T061442
CREATED:20260422T040000Z
LAST-MODIFIED:20260422T040000Z
UID:1013983-1772206200-1772206200@www.dedhamcountryday.org
SUMMARY:Away @ Fessenden School
DESCRIPTION:
URL:https://www.dedhamcountryday.org/event/away-fessenden-school-51/
CATEGORIES:athletics
END:VEVENT
BEGIN:VEVENT
DTSTART;TZID=America/New_York:20260408T153000
DTEND;TZID=America/New_York:20260408T153000
DTSTAMP:20260423T061442
CREATED:20260422T040000Z
LAST-MODIFIED:20260422T040000Z
UID:1014000-1775662200-1775662200@www.dedhamcountryday.org
SUMMARY:[CANCELED] Away @ Rivers
DESCRIPTION:Location – Paul Litch Field – 333 Winter St\, Weston\, MA 02493
URL:https://www.dedhamcountryday.org/event/canceled-away-rivers-5/
CATEGORIES:athletics
END:VEVENT
BEGIN:VEVENT
DTSTART;TZID=America/New_York:20260408T153000
DTEND;TZID=America/New_York:20260408T153000
DTSTAMP:20260423T061442
CREATED:20260422T040000Z
LAST-MODIFIED:20260422T040000Z
UID:1014010-1775662200-1775662200@www.dedhamcountryday.org
SUMMARY:Home VS Belmont Day School
DESCRIPTION:
URL:https://www.dedhamcountryday.org/event/home-vs-belmont-day-school-31/
CATEGORIES:athletics
END:VEVENT
BEGIN:VEVENT
DTSTART;TZID=America/New_York:20260408T154500
DTEND;TZID=America/New_York:20260408T154500
DTSTAMP:20260423T061442
CREATED:20260422T040000Z
LAST-MODIFIED:20260422T040000Z
UID:1014020-1775663100-1775663100@www.dedhamcountryday.org
SUMMARY:Home VS Fay School
DESCRIPTION:
URL:https://www.dedhamcountryday.org/event/home-vs-fay-school-2/
CATEGORIES:athletics
END:VEVENT
BEGIN:VEVENT
DTSTART;TZID=America/New_York:20260409T151500
DTEND;TZID=America/New_York:20260409T151500
DTSTAMP:20260423T061442
CREATED:20260422T040000Z
LAST-MODIFIED:20260422T040000Z
UID:1014034-1775747700-1775747700@www.dedhamcountryday.org
SUMMARY:Home VS Derby Academy
DESCRIPTION:
URL:https://www.dedhamcountryday.org/event/home-vs-derby-academy-21/
CATEGORIES:athletics
END:VEVENT
BEGIN:VEVENT
DTSTART;TZID=America/New_York:20260409T153000
DTEND;TZID=America/New_York:20260409T153000
DTSTAMP:20260423T061442
CREATED:20260422T040000Z
LAST-MODIFIED:20260422T040000Z
UID:1014021-1775748600-1775748600@www.dedhamcountryday.org
SUMMARY:Away @ Belmont Day School
DESCRIPTION:
URL:https://www.dedhamcountryday.org/event/away-belmont-day-school-26/
CATEGORIES:athletics
END:VEVENT
BEGIN:VEVENT
DTSTART;TZID=America/New_York:20260409T153000
DTEND;TZID=America/New_York:20260409T153000
DTSTAMP:20260423T061442
CREATED:20260422T040000Z
LAST-MODIFIED:20260422T040000Z
UID:1014043-1775748600-1775748600@www.dedhamcountryday.org
SUMMARY:Away @ Charles River School (Pickleball)
DESCRIPTION:
URL:https://www.dedhamcountryday.org/event/away-charles-river-school-pickleball-5/
CATEGORIES:athletics
END:VEVENT
BEGIN:VEVENT
DTSTART;TZID=America/New_York:20260409T153000
DTEND;TZID=America/New_York:20260409T153000
DTSTAMP:20260423T061442
CREATED:20260422T040000Z
LAST-MODIFIED:20260422T040000Z
UID:1014044-1775748600-1775748600@www.dedhamcountryday.org
SUMMARY:Away @ Nashoba Brooks School (Tennis)
DESCRIPTION:
URL:https://www.dedhamcountryday.org/event/away-nashoba-brooks-school-tennis-3/
CATEGORIES:athletics
END:VEVENT
BEGIN:VEVENT
DTSTART;TZID=America/New_York:20260414T151500
DTEND;TZID=America/New_York:20260414T151500
DTSTAMP:20260423T061442
CREATED:20260422T040000Z
LAST-MODIFIED:20260422T040000Z
UID:1014045-1776179700-1776179700@www.dedhamcountryday.org
SUMMARY:Away @ Beaver Country Day School (Tennis)
DESCRIPTION:Location: Baker Tennis Courts 227 Gerry Rd Chestnut Hill\, MA 02467
URL:https://www.dedhamcountryday.org/event/away-beaver-country-day-school-tennis/
CATEGORIES:athletics
END:VEVENT
BEGIN:VEVENT
DTSTART;TZID=America/New_York:20260414T153000
DTEND;TZID=America/New_York:20260414T153000
DTSTAMP:20260423T061442
CREATED:20260422T040000Z
LAST-MODIFIED:20260422T040000Z
UID:1013993-1776180600-1776180600@www.dedhamcountryday.org
SUMMARY:Home VS The Fessenden School
DESCRIPTION:
URL:https://www.dedhamcountryday.org/event/home-vs-the-fessenden-school/
CATEGORIES:athletics
END:VEVENT
BEGIN:VEVENT
DTSTART;TZID=America/New_York:20260414T153000
DTEND;TZID=America/New_York:20260414T153000
DTSTAMP:20260423T061442
CREATED:20260422T040000Z
LAST-MODIFIED:20260422T040000Z
UID:1014011-1776180600-1776180600@www.dedhamcountryday.org
SUMMARY:Away @ Thayer Academy
DESCRIPTION:@ Playing Fields – South Athletic Campus | Turf Field
URL:https://www.dedhamcountryday.org/event/away-thayer-academy-11/
CATEGORIES:athletics
END:VEVENT
BEGIN:VEVENT
DTSTART;TZID=America/New_York:20260414T153000
DTEND;TZID=America/New_York:20260414T153000
DTSTAMP:20260423T061442
CREATED:20260422T040000Z
LAST-MODIFIED:20260422T040000Z
UID:1014022-1776180600-1776180600@www.dedhamcountryday.org
SUMMARY:Away @ The Rivers School
DESCRIPTION:
URL:https://www.dedhamcountryday.org/event/away-the-rivers-school/
CATEGORIES:athletics
END:VEVENT
END:VCALENDAR