BEGIN:VCALENDAR
VERSION:2.0
PRODID:-//Dedham Country Day School - ECPv5.6.0//NONSGML v1.0//EN
CALSCALE:GREGORIAN
METHOD:PUBLISH
X-WR-CALNAME:Dedham Country Day School
X-ORIGINAL-URL:https://www.dedhamcountryday.org
X-WR-CALDESC:Events for Dedham Country Day School
BEGIN:VTIMEZONE
TZID:America/New_York
BEGIN:DAYLIGHT
TZOFFSETFROM:-0500
TZOFFSETTO:-0400
TZNAME:EDT
DTSTART:20260308T070000
END:DAYLIGHT
BEGIN:STANDARD
TZOFFSETFROM:-0400
TZOFFSETTO:-0500
TZNAME:EST
DTSTART:20261101T060000
END:STANDARD
END:VTIMEZONE
BEGIN:VEVENT
DTSTART;TZID=America/New_York:20260506T153000
DTEND;TZID=America/New_York:20260506T153000
DTSTAMP:20260425T190044
CREATED:20260422T040000Z
LAST-MODIFIED:20260422T040000Z
UID:1013997-1778081400-1778081400@www.dedhamcountryday.org
SUMMARY:Home VS Tenacre Country Day School
DESCRIPTION:
URL:https://www.dedhamcountryday.org/event/home-vs-tenacre-country-day-school-17/
CATEGORIES:athletics
END:VEVENT
BEGIN:VEVENT
DTSTART;TZID=America/New_York:20260506T153000
DTEND;TZID=America/New_York:20260506T153000
DTSTAMP:20260425T190044
CREATED:20260422T040000Z
LAST-MODIFIED:20260422T040000Z
UID:1014040-1778081400-1778081400@www.dedhamcountryday.org
SUMMARY:Home VS Meadowbrook School
DESCRIPTION:
URL:https://www.dedhamcountryday.org/event/home-vs-meadowbrook-school-10/
CATEGORIES:athletics
END:VEVENT
BEGIN:VEVENT
DTSTART;TZID=America/New_York:20260506T153000
DTEND;TZID=America/New_York:20260506T153000
DTSTAMP:20260425T190044
CREATED:20260422T040000Z
LAST-MODIFIED:20260422T040000Z
UID:1014054-1778081400-1778081400@www.dedhamcountryday.org
SUMMARY:Away @ Belmont Day School (Tennis)
DESCRIPTION:
URL:https://www.dedhamcountryday.org/event/away-belmont-day-school-tennis-3/
CATEGORIES:athletics
END:VEVENT
BEGIN:VEVENT
DTSTART;TZID=America/New_York:20260506T153000
DTEND;TZID=America/New_York:20260506T153000
DTSTAMP:20260425T190044
CREATED:20260422T040000Z
LAST-MODIFIED:20260422T040000Z
UID:1014055-1778081400-1778081400@www.dedhamcountryday.org
SUMMARY:Away @ Nashoba Brooks School (Tennis)
DESCRIPTION:
URL:https://www.dedhamcountryday.org/event/away-nashoba-brooks-school-tennis-2/
CATEGORIES:athletics
END:VEVENT
END:VCALENDAR