BEGIN:VCALENDAR
VERSION:2.0
PRODID:-//Dedham Country Day School - ECPv5.6.0//NONSGML v1.0//EN
CALSCALE:GREGORIAN
METHOD:PUBLISH
X-WR-CALNAME:Dedham Country Day School
X-ORIGINAL-URL:https://www.dedhamcountryday.org
X-WR-CALDESC:Events for Dedham Country Day School
BEGIN:VTIMEZONE
TZID:America/New_York
BEGIN:DAYLIGHT
TZOFFSETFROM:-0500
TZOFFSETTO:-0400
TZNAME:EDT
DTSTART:20260308T070000
END:DAYLIGHT
BEGIN:STANDARD
TZOFFSETFROM:-0400
TZOFFSETTO:-0500
TZNAME:EST
DTSTART:20261101T060000
END:STANDARD
END:VTIMEZONE
BEGIN:VEVENT
DTSTART;TZID=America/New_York:20260512T081000
DTEND;TZID=America/New_York:20260512T083000
DTSTAMP:20260420T111056
CREATED:20251012T193600Z
LAST-MODIFIED:20251012T193600Z
UID:852695-1778573400-1778574600@www.dedhamcountryday.org
SUMMARY:Lower School Assembly
DESCRIPTION:
URL:https://www.dedhamcountryday.org/event/lower-school-assembly-49/
CATEGORIES:Events
END:VEVENT
BEGIN:VEVENT
DTSTART;TZID=America/New_York:20260512T151500
DTEND;TZID=America/New_York:20260512T151500
DTSTAMP:20260420T111056
CREATED:20260420T040000Z
LAST-MODIFIED:20260420T040000Z
UID:1002067-1778598900-1778598900@www.dedhamcountryday.org
SUMMARY:Away @ Nobles and Greenough
DESCRIPTION:
URL:https://www.dedhamcountryday.org/event/away-nobles-and-greenough/
END:VEVENT
BEGIN:VEVENT
DTSTART;TZID=America/New_York:20260512T153000
DTEND;TZID=America/New_York:20260512T153000
DTSTAMP:20260420T111056
CREATED:20260324T040000Z
LAST-MODIFIED:20260324T040000Z
UID:982698-1778599800-1778599800@www.dedhamcountryday.org
SUMMARY:Home VS Thayer Academy
DESCRIPTION:@ Playing Fields – South Athletic Campus | Turf Field
URL:https://www.dedhamcountryday.org/event/home-vs-thayer-academy-19/
END:VEVENT
BEGIN:VEVENT
DTSTART;TZID=America/New_York:20260512T153000
DTEND;TZID=America/New_York:20260512T153000
DTSTAMP:20260420T111056
CREATED:20260420T040000Z
LAST-MODIFIED:20260420T040000Z
UID:1002059-1778599800-1778599800@www.dedhamcountryday.org
SUMMARY:Away @ Derby Academy
DESCRIPTION:
URL:https://www.dedhamcountryday.org/event/away-derby-academy-7/
END:VEVENT
BEGIN:VEVENT
DTSTART;TZID=America/New_York:20260512T153000
DTEND;TZID=America/New_York:20260512T153000
DTSTAMP:20260420T111056
CREATED:20260420T040000Z
LAST-MODIFIED:20260420T040000Z
UID:1002100-1778599800-1778599800@www.dedhamcountryday.org
SUMMARY:Away @ Deby Academy
DESCRIPTION:
URL:https://www.dedhamcountryday.org/event/away-deby-academy/
END:VEVENT
BEGIN:VEVENT
DTSTART;TZID=America/New_York:20260512T153000
DTEND;TZID=America/New_York:20260512T153000
DTSTAMP:20260420T111056
CREATED:20260420T040000Z
LAST-MODIFIED:20260420T040000Z
UID:1002116-1778599800-1778599800@www.dedhamcountryday.org
SUMMARY:Away @ Carroll School (Pickleball)
DESCRIPTION:Carroll School – Middle School – 25 Baker Bridge Road\nLincoln\, MA 01773
URL:https://www.dedhamcountryday.org/event/away-carroll-school-pickleball/
END:VEVENT
BEGIN:VEVENT
DTSTART;TZID=America/New_York:20260512T154500
DTEND;TZID=America/New_York:20260512T154500
DTSTAMP:20260420T111056
CREATED:20260420T040000Z
LAST-MODIFIED:20260420T040000Z
UID:1002077-1778600700-1778600700@www.dedhamcountryday.org
SUMMARY:Away @ Shady Hill School
DESCRIPTION:
URL:https://www.dedhamcountryday.org/event/away-shady-hill-school-18/
END:VEVENT
BEGIN:VEVENT
DTSTART;TZID=America/New_York:20260512T154500
DTEND;TZID=America/New_York:20260512T154500
DTSTAMP:20260420T111056
CREATED:20260420T040000Z
LAST-MODIFIED:20260420T040000Z
UID:1002089-1778600700-1778600700@www.dedhamcountryday.org
SUMMARY:Home VS Shady Hill School
DESCRIPTION:
URL:https://www.dedhamcountryday.org/event/home-vs-shady-hill-school-28/
END:VEVENT
END:VCALENDAR