BEGIN:VCALENDAR
VERSION:2.0
PRODID:-//Dedham Country Day School - ECPv5.6.0//NONSGML v1.0//EN
CALSCALE:GREGORIAN
METHOD:PUBLISH
X-WR-CALNAME:Dedham Country Day School
X-ORIGINAL-URL:https://www.dedhamcountryday.org
X-WR-CALDESC:Events for Dedham Country Day School
BEGIN:VTIMEZONE
TZID:America/New_York
BEGIN:DAYLIGHT
TZOFFSETFROM:-0500
TZOFFSETTO:-0400
TZNAME:EDT
DTSTART:20260308T070000
END:DAYLIGHT
BEGIN:STANDARD
TZOFFSETFROM:-0400
TZOFFSETTO:-0500
TZNAME:EST
DTSTART:20261101T060000
END:STANDARD
END:VTIMEZONE
BEGIN:VEVENT
DTSTART;TZID=America/New_York:20260505T153000
DTEND;TZID=America/New_York:20260505T153000
DTSTAMP:20260423T150427
CREATED:20260422T040000Z
LAST-MODIFIED:20260422T040000Z
UID:1014028-1777995000-1777995000@www.dedhamcountryday.org
SUMMARY:Away @ Thayer Academy
DESCRIPTION:Playing Fields – South Athletic Campus | Turf Field
URL:https://www.dedhamcountryday.org/event/away-thayer-academy-12/
CATEGORIES:athletics
END:VEVENT
END:VCALENDAR