BEGIN:VCALENDAR
VERSION:2.0
PRODID:-//Dedham Country Day School - ECPv5.6.0//NONSGML v1.0//EN
CALSCALE:GREGORIAN
METHOD:PUBLISH
X-WR-CALNAME:Dedham Country Day School
X-ORIGINAL-URL:https://www.dedhamcountryday.org
X-WR-CALDESC:Events for Dedham Country Day School
BEGIN:VTIMEZONE
TZID:America/New_York
BEGIN:DAYLIGHT
TZOFFSETFROM:-0500
TZOFFSETTO:-0400
TZNAME:EDT
DTSTART:20260308T070000
END:DAYLIGHT
BEGIN:STANDARD
TZOFFSETFROM:-0400
TZOFFSETTO:-0500
TZNAME:EST
DTSTART:20261101T060000
END:STANDARD
END:VTIMEZONE
BEGIN:VEVENT
DTSTART;TZID=America/New_York:20260416T083000
DTEND;TZID=America/New_York:20260416T090000
DTSTAMP:20260423T135819
CREATED:20250709T222500Z
LAST-MODIFIED:20250709T222500Z
UID:843305-1776328200-1776330000@www.dedhamcountryday.org
SUMMARY:PreK Class Play
DESCRIPTION:
URL:https://www.dedhamcountryday.org/event/prek-class-play-6/
CATEGORIES:Events
END:VEVENT
BEGIN:VEVENT
DTSTART;TZID=America/New_York:20260416T153000
DTEND;TZID=America/New_York:20260416T153000
DTSTAMP:20260423T135819
CREATED:20260422T040000Z
LAST-MODIFIED:20260422T040000Z
UID:1014001-1776353400-1776353400@www.dedhamcountryday.org
SUMMARY:[CANCELED] Away @ The Fenn School
DESCRIPTION:Location:\nFenn School – Reynolds Athletic Fields\n516 Monument Street\nConcord\, MA 01742
URL:https://www.dedhamcountryday.org/event/canceled-away-the-fenn-school/
CATEGORIES:athletics
END:VEVENT
BEGIN:VEVENT
DTSTART;TZID=America/New_York:20260416T153000
DTEND;TZID=America/New_York:20260416T153000
DTSTAMP:20260423T135819
CREATED:20260422T040000Z
LAST-MODIFIED:20260422T040000Z
UID:1014012-1776353400-1776353400@www.dedhamcountryday.org
SUMMARY:Home VS The Park School
DESCRIPTION:
URL:https://www.dedhamcountryday.org/event/home-vs-the-park-school-3/
CATEGORIES:athletics
END:VEVENT
BEGIN:VEVENT
DTSTART;TZID=America/New_York:20260416T153000
DTEND;TZID=America/New_York:20260416T153000
DTSTAMP:20260423T135819
CREATED:20260422T040000Z
LAST-MODIFIED:20260422T040000Z
UID:1014023-1776353400-1776353400@www.dedhamcountryday.org
SUMMARY:Away @ Beaver Country Day School
DESCRIPTION:
URL:https://www.dedhamcountryday.org/event/away-beaver-country-day-school-7/
CATEGORIES:athletics
END:VEVENT
BEGIN:VEVENT
DTSTART;TZID=America/New_York:20260416T153000
DTEND;TZID=America/New_York:20260416T153000
DTSTAMP:20260423T135819
CREATED:20260422T040000Z
LAST-MODIFIED:20260422T040000Z
UID:1014035-1776353400-1776353400@www.dedhamcountryday.org
SUMMARY:Away @ Tenacre Country Day School
DESCRIPTION:Field Location: 160 Grove Street\, Wellesley\, MA 02482
URL:https://www.dedhamcountryday.org/event/away-tenacre-country-day-school/
CATEGORIES:athletics
END:VEVENT
BEGIN:VEVENT
DTSTART;TZID=America/New_York:20260416T153000
DTEND;TZID=America/New_York:20260416T153000
DTSTAMP:20260423T135819
CREATED:20260422T040000Z
LAST-MODIFIED:20260422T040000Z
UID:1014047-1776353400-1776353400@www.dedhamcountryday.org
SUMMARY:Away @ Tenacre Country Day School (Pickleball)
DESCRIPTION:
URL:https://www.dedhamcountryday.org/event/away-tenacre-country-day-school-pickleball/
CATEGORIES:athletics
END:VEVENT
END:VCALENDAR