BEGIN:VCALENDAR
VERSION:2.0
PRODID:-//Dedham Country Day School - ECPv5.6.0//NONSGML v1.0//EN
CALSCALE:GREGORIAN
METHOD:PUBLISH
X-WR-CALNAME:Dedham Country Day School
X-ORIGINAL-URL:https://www.dedhamcountryday.org
X-WR-CALDESC:Events for Dedham Country Day School
BEGIN:VTIMEZONE
TZID:America/New_York
BEGIN:DAYLIGHT
TZOFFSETFROM:-0500
TZOFFSETTO:-0400
TZNAME:EDT
DTSTART:20260308T070000
END:DAYLIGHT
BEGIN:STANDARD
TZOFFSETFROM:-0400
TZOFFSETTO:-0500
TZNAME:EST
DTSTART:20261101T060000
END:STANDARD
END:VTIMEZONE
BEGIN:VEVENT
DTSTART;TZID=America/New_York:20260406T000000
DTEND;TZID=America/New_York:20260410T000000
DTSTAMP:20260424T112025
CREATED:20260327T003400Z
LAST-MODIFIED:20260327T003400Z
UID:982944-1775433600-1775779200@www.dedhamcountryday.org
SUMMARY:Middle School Spirit Week
DESCRIPTION:
URL:https://www.dedhamcountryday.org/event/middle-school-spirit-week/
CATEGORIES:Events
END:VEVENT
BEGIN:VEVENT
DTSTART;TZID=America/New_York:20260408T073000
DTEND;TZID=America/New_York:20260408T080000
DTSTAMP:20260424T112025
CREATED:20250805T174700Z
LAST-MODIFIED:20250805T174700Z
UID:844340-1775633400-1775635200@www.dedhamcountryday.org
SUMMARY:Heritage Month Breakfast
DESCRIPTION:Parents\, faculty and staff are welcome to join together to celebrate April heritage and holidays.
URL:https://www.dedhamcountryday.org/event/heritage-month-breakfast/
CATEGORIES:Events
END:VEVENT
BEGIN:VEVENT
DTSTART;TZID=America/New_York:20260408T090000
DTEND;TZID=America/New_York:20260408T105000
DTSTAMP:20260424T112025
CREATED:20250711T144300Z
LAST-MODIFIED:20250711T144300Z
UID:983658-1775638800-1775645400@www.dedhamcountryday.org
SUMMARY:Gr 7 Health and Wellness (Sex Ed with Juanita Kingsley)
DESCRIPTION:
URL:https://www.dedhamcountryday.org/event/gr-7-health-and-wellness-sex-ed-with-juanita-kingsley-2/
CATEGORIES:Events
END:VEVENT
BEGIN:VEVENT
DTSTART;TZID=America/New_York:20260408T093000
DTEND;TZID=America/New_York:20260408T124500
DTSTAMP:20260424T112025
CREATED:20260223T175100Z
LAST-MODIFIED:20260223T175100Z
UID:935048-1775640600-1775652300@www.dedhamcountryday.org
SUMMARY:Gr 1 & 2 Field Trip to Wheelock Family Theater
DESCRIPTION:
URL:https://www.dedhamcountryday.org/event/gr-1-2-field-trip-to-wheelock-family-theater/
CATEGORIES:Events
END:VEVENT
BEGIN:VEVENT
DTSTART;TZID=America/New_York:20260408T153000
DTEND;TZID=America/New_York:20260408T153000
DTSTAMP:20260424T112025
CREATED:20260422T040000Z
LAST-MODIFIED:20260422T040000Z
UID:1014000-1775662200-1775662200@www.dedhamcountryday.org
SUMMARY:[CANCELED] Away @ Rivers
DESCRIPTION:Location – Paul Litch Field – 333 Winter St\, Weston\, MA 02493
URL:https://www.dedhamcountryday.org/event/canceled-away-rivers-5/
CATEGORIES:athletics
END:VEVENT
BEGIN:VEVENT
DTSTART;TZID=America/New_York:20260408T153000
DTEND;TZID=America/New_York:20260408T153000
DTSTAMP:20260424T112025
CREATED:20260422T040000Z
LAST-MODIFIED:20260422T040000Z
UID:1014010-1775662200-1775662200@www.dedhamcountryday.org
SUMMARY:Home VS Belmont Day School
DESCRIPTION:
URL:https://www.dedhamcountryday.org/event/home-vs-belmont-day-school-31/
CATEGORIES:athletics
END:VEVENT
BEGIN:VEVENT
DTSTART;TZID=America/New_York:20260408T154500
DTEND;TZID=America/New_York:20260408T154500
DTSTAMP:20260424T112025
CREATED:20260422T040000Z
LAST-MODIFIED:20260422T040000Z
UID:1014020-1775663100-1775663100@www.dedhamcountryday.org
SUMMARY:Home VS Fay School
DESCRIPTION:
URL:https://www.dedhamcountryday.org/event/home-vs-fay-school-2/
CATEGORIES:athletics
END:VEVENT
BEGIN:VEVENT
DTSTART;TZID=America/New_York:20260408T190000
DTEND;TZID=America/New_York:20260408T200000
DTSTAMP:20260424T112025
CREATED:20260224T181900Z
LAST-MODIFIED:20260224T181900Z
UID:935051-1775674800-1775678400@www.dedhamcountryday.org
SUMMARY:Gr 7 Parent Secondary School Kick-off Meeting (Virtual)
DESCRIPTION:
URL:https://www.dedhamcountryday.org/event/gr-7-parent-secondary-school-kick-off-meeting-virtual/
CATEGORIES:Events
END:VEVENT
END:VCALENDAR