BEGIN:VCALENDAR
VERSION:2.0
PRODID:-//Dedham Country Day School - ECPv5.6.0//NONSGML v1.0//EN
CALSCALE:GREGORIAN
METHOD:PUBLISH
X-WR-CALNAME:Dedham Country Day School
X-ORIGINAL-URL:https://www.dedhamcountryday.org
X-WR-CALDESC:Events for Dedham Country Day School
BEGIN:VTIMEZONE
TZID:America/New_York
BEGIN:DAYLIGHT
TZOFFSETFROM:-0500
TZOFFSETTO:-0400
TZNAME:EDT
DTSTART:20250309T070000
END:DAYLIGHT
BEGIN:STANDARD
TZOFFSETFROM:-0400
TZOFFSETTO:-0500
TZNAME:EST
DTSTART:20251102T060000
END:STANDARD
END:VTIMEZONE
BEGIN:VEVENT
DTSTART;TZID=America/New_York:20250430T090000
DTEND;TZID=America/New_York:20250430T105000
DTSTAMP:20260424T074250
CREATED:20250407T182200Z
LAST-MODIFIED:20250407T182200Z
UID:839130-1746003600-1746010200@www.dedhamcountryday.org
SUMMARY:Gr 8 Students with Will Slotnik\, Wellness Collaborative
DESCRIPTION:
URL:https://www.dedhamcountryday.org/event/gr-8-students-with-will-slotnik-wellness-collaborative-2/
CATEGORIES:Events
END:VEVENT
BEGIN:VEVENT
DTSTART;TZID=America/New_York:20250430T153000
DTEND;TZID=America/New_York:20250430T153000
DTSTAMP:20260424T074250
CREATED:20250224T050000Z
LAST-MODIFIED:20250224T050000Z
UID:819149-1746027000-1746027000@www.dedhamcountryday.org
SUMMARY:Away @ Milton
DESCRIPTION:
URL:https://www.dedhamcountryday.org/event/away-milton-14/
END:VEVENT
BEGIN:VEVENT
DTSTART;TZID=America/New_York:20250430T153000
DTEND;TZID=America/New_York:20250430T153000
DTSTAMP:20260424T074250
CREATED:20250225T050000Z
LAST-MODIFIED:20250225T050000Z
UID:820901-1746027000-1746027000@www.dedhamcountryday.org
SUMMARY:Away @ Milton
DESCRIPTION:
URL:https://www.dedhamcountryday.org/event/away-milton-15/
END:VEVENT
BEGIN:VEVENT
DTSTART;TZID=America/New_York:20250430T153000
DTEND;TZID=America/New_York:20250430T153000
DTSTAMP:20260424T074250
CREATED:20250225T050000Z
LAST-MODIFIED:20250225T050000Z
UID:821203-1746027000-1746027000@www.dedhamcountryday.org
SUMMARY:Away @ Newton Country Day (Tennis)
DESCRIPTION:
URL:https://www.dedhamcountryday.org/event/away-newton-country-day-tennis-5/
END:VEVENT
BEGIN:VEVENT
DTSTART;TZID=America/New_York:20250430T153000
DTEND;TZID=America/New_York:20250430T153000
DTSTAMP:20260424T074250
CREATED:20250225T050000Z
LAST-MODIFIED:20250225T050000Z
UID:821194-1746027000-1746027000@www.dedhamcountryday.org
SUMMARY:Home VS Fay
DESCRIPTION:
URL:https://www.dedhamcountryday.org/event/home-vs-fay-20/
END:VEVENT
BEGIN:VEVENT
DTSTART;TZID=America/New_York:20250430T153000
DTEND;TZID=America/New_York:20250430T153000
DTSTAMP:20260424T074250
CREATED:20250225T050000Z
LAST-MODIFIED:20250225T050000Z
UID:821184-1746027000-1746027000@www.dedhamcountryday.org
SUMMARY:Away @ Dana Hall
DESCRIPTION:
URL:https://www.dedhamcountryday.org/event/away-dana-hall-12/
END:VEVENT
BEGIN:VEVENT
DTSTART;TZID=America/New_York:20250430T153000
DTEND;TZID=America/New_York:20250430T153000
DTSTAMP:20260424T074250
CREATED:20250225T050000Z
LAST-MODIFIED:20250225T050000Z
UID:821174-1746027000-1746027000@www.dedhamcountryday.org
SUMMARY:Away @ Beaver Country Day School
DESCRIPTION:
URL:https://www.dedhamcountryday.org/event/away-beaver-country-day-school-5/
END:VEVENT
BEGIN:VEVENT
DTSTART;TZID=America/New_York:20250430T153000
DTEND;TZID=America/New_York:20250430T153000
DTSTAMP:20260424T074250
CREATED:20250225T050000Z
LAST-MODIFIED:20250225T050000Z
UID:821158-1746027000-1746027000@www.dedhamcountryday.org
SUMMARY:Away @ Milton
DESCRIPTION:
URL:https://www.dedhamcountryday.org/event/away-milton-20/
END:VEVENT
BEGIN:VEVENT
DTSTART;TZID=America/New_York:20250430T153000
DTEND;TZID=America/New_York:20250430T153000
DTSTAMP:20260424T074250
CREATED:20250225T050000Z
LAST-MODIFIED:20250225T050000Z
UID:821142-1746027000-1746027000@www.dedhamcountryday.org
SUMMARY:Away @ Newton Country Day (Tennis)
DESCRIPTION:
URL:https://www.dedhamcountryday.org/event/away-newton-country-day-tennis-4/
END:VEVENT
BEGIN:VEVENT
DTSTART;TZID=America/New_York:20250430T153000
DTEND;TZID=America/New_York:20250430T153000
DTSTAMP:20260424T074250
CREATED:20250225T050000Z
LAST-MODIFIED:20250225T050000Z
UID:821133-1746027000-1746027000@www.dedhamcountryday.org
SUMMARY:Home VS Fay
DESCRIPTION:
URL:https://www.dedhamcountryday.org/event/home-vs-fay-18/
END:VEVENT
BEGIN:VEVENT
DTSTART;TZID=America/New_York:20250430T153000
DTEND;TZID=America/New_York:20250430T153000
DTSTAMP:20260424T074250
CREATED:20250225T050000Z
LAST-MODIFIED:20250225T050000Z
UID:821123-1746027000-1746027000@www.dedhamcountryday.org
SUMMARY:Away @ Dana Hall
DESCRIPTION:
URL:https://www.dedhamcountryday.org/event/away-dana-hall-10/
END:VEVENT
BEGIN:VEVENT
DTSTART;TZID=America/New_York:20250430T153000
DTEND;TZID=America/New_York:20250430T153000
DTSTAMP:20260424T074250
CREATED:20250225T050000Z
LAST-MODIFIED:20250225T050000Z
UID:821113-1746027000-1746027000@www.dedhamcountryday.org
SUMMARY:Away @ Beaver Country Day School
DESCRIPTION:
URL:https://www.dedhamcountryday.org/event/away-beaver-country-day-school-4/
END:VEVENT
BEGIN:VEVENT
DTSTART;TZID=America/New_York:20250430T153000
DTEND;TZID=America/New_York:20250430T153000
DTSTAMP:20260424T074250
CREATED:20250225T050000Z
LAST-MODIFIED:20250225T050000Z
UID:821097-1746027000-1746027000@www.dedhamcountryday.org
SUMMARY:Away @ Milton
DESCRIPTION:
URL:https://www.dedhamcountryday.org/event/away-milton-19/
END:VEVENT
BEGIN:VEVENT
DTSTART;TZID=America/New_York:20250430T153000
DTEND;TZID=America/New_York:20250430T153000
DTSTAMP:20260424T074250
CREATED:20250225T050000Z
LAST-MODIFIED:20250225T050000Z
UID:821078-1746027000-1746027000@www.dedhamcountryday.org
SUMMARY:Away @ Newton Country Day (Tennis)
DESCRIPTION:
URL:https://www.dedhamcountryday.org/event/away-newton-country-day-tennis-3/
END:VEVENT
BEGIN:VEVENT
DTSTART;TZID=America/New_York:20250430T153000
DTEND;TZID=America/New_York:20250430T153000
DTSTAMP:20260424T074250
CREATED:20250225T050000Z
LAST-MODIFIED:20250225T050000Z
UID:821059-1746027000-1746027000@www.dedhamcountryday.org
SUMMARY:Away @ Dana Hall
DESCRIPTION:
URL:https://www.dedhamcountryday.org/event/away-dana-hall-8/
END:VEVENT
BEGIN:VEVENT
DTSTART;TZID=America/New_York:20250430T153000
DTEND;TZID=America/New_York:20250430T153000
DTSTAMP:20260424T074250
CREATED:20250225T050000Z
LAST-MODIFIED:20250225T050000Z
UID:820917-1746027000-1746027000@www.dedhamcountryday.org
SUMMARY:Away @ Beaver Country Day School
DESCRIPTION:
URL:https://www.dedhamcountryday.org/event/away-beaver-country-day-school/
END:VEVENT
BEGIN:VEVENT
DTSTART;TZID=America/New_York:20250430T153000
DTEND;TZID=America/New_York:20250430T153000
DTSTAMP:20260424T074250
CREATED:20250225T050000Z
LAST-MODIFIED:20250225T050000Z
UID:820927-1746027000-1746027000@www.dedhamcountryday.org
SUMMARY:Away @ Dana Hall
DESCRIPTION:
URL:https://www.dedhamcountryday.org/event/away-dana-hall-4/
END:VEVENT
BEGIN:VEVENT
DTSTART;TZID=America/New_York:20250430T153000
DTEND;TZID=America/New_York:20250430T153000
DTSTAMP:20260424T074250
CREATED:20250225T050000Z
LAST-MODIFIED:20250225T050000Z
UID:820937-1746027000-1746027000@www.dedhamcountryday.org
SUMMARY:Home VS Fay
DESCRIPTION:
URL:https://www.dedhamcountryday.org/event/home-vs-fay-11/
END:VEVENT
BEGIN:VEVENT
DTSTART;TZID=America/New_York:20250430T153000
DTEND;TZID=America/New_York:20250430T153000
DTSTAMP:20260424T074250
CREATED:20250225T050000Z
LAST-MODIFIED:20250225T050000Z
UID:820946-1746027000-1746027000@www.dedhamcountryday.org
SUMMARY:Away @ Newton Country Day (Tennis)
DESCRIPTION:
URL:https://www.dedhamcountryday.org/event/away-newton-country-day-tennis/
END:VEVENT
BEGIN:VEVENT
DTSTART;TZID=America/New_York:20250430T153000
DTEND;TZID=America/New_York:20250430T153000
DTSTAMP:20260424T074250
CREATED:20250225T050000Z
LAST-MODIFIED:20250225T050000Z
UID:820966-1746027000-1746027000@www.dedhamcountryday.org
SUMMARY:Away @ Milton
DESCRIPTION:
URL:https://www.dedhamcountryday.org/event/away-milton-17/
END:VEVENT
BEGIN:VEVENT
DTSTART;TZID=America/New_York:20250430T153000
DTEND;TZID=America/New_York:20250430T153000
DTSTAMP:20260424T074250
CREATED:20250225T050000Z
LAST-MODIFIED:20250225T050000Z
UID:820982-1746027000-1746027000@www.dedhamcountryday.org
SUMMARY:Away @ Beaver Country Day School
DESCRIPTION:
URL:https://www.dedhamcountryday.org/event/away-beaver-country-day-school-2/
END:VEVENT
BEGIN:VEVENT
DTSTART;TZID=America/New_York:20250430T153000
DTEND;TZID=America/New_York:20250430T153000
DTSTAMP:20260424T074250
CREATED:20250225T050000Z
LAST-MODIFIED:20250225T050000Z
UID:820992-1746027000-1746027000@www.dedhamcountryday.org
SUMMARY:Away @ Dana Hall
DESCRIPTION:
URL:https://www.dedhamcountryday.org/event/away-dana-hall-6/
END:VEVENT
BEGIN:VEVENT
DTSTART;TZID=America/New_York:20250430T153000
DTEND;TZID=America/New_York:20250430T153000
DTSTAMP:20260424T074250
CREATED:20250225T050000Z
LAST-MODIFIED:20250225T050000Z
UID:821002-1746027000-1746027000@www.dedhamcountryday.org
SUMMARY:Home VS Fay
DESCRIPTION:
URL:https://www.dedhamcountryday.org/event/home-vs-fay-14/
END:VEVENT
BEGIN:VEVENT
DTSTART;TZID=America/New_York:20250430T153000
DTEND;TZID=America/New_York:20250430T153000
DTSTAMP:20260424T074250
CREATED:20250225T050000Z
LAST-MODIFIED:20250225T050000Z
UID:821011-1746027000-1746027000@www.dedhamcountryday.org
SUMMARY:Away @ Newton Country Day (Tennis)
DESCRIPTION:
URL:https://www.dedhamcountryday.org/event/away-newton-country-day-tennis-2/
END:VEVENT
BEGIN:VEVENT
DTSTART;TZID=America/New_York:20250430T153000
DTEND;TZID=America/New_York:20250430T153000
DTSTAMP:20260424T074250
CREATED:20250225T050000Z
LAST-MODIFIED:20250225T050000Z
UID:821033-1746027000-1746027000@www.dedhamcountryday.org
SUMMARY:Away @ Milton
DESCRIPTION:
URL:https://www.dedhamcountryday.org/event/away-milton-18/
END:VEVENT
BEGIN:VEVENT
DTSTART;TZID=America/New_York:20250430T153000
DTEND;TZID=America/New_York:20250430T153000
DTSTAMP:20260424T074250
CREATED:20250225T050000Z
LAST-MODIFIED:20250225T050000Z
UID:821049-1746027000-1746027000@www.dedhamcountryday.org
SUMMARY:Away @ Beaver Country Day School
DESCRIPTION:
URL:https://www.dedhamcountryday.org/event/away-beaver-country-day-school-3/
END:VEVENT
BEGIN:VEVENT
DTSTART;TZID=America/New_York:20250430T153000
DTEND;TZID=America/New_York:20250430T153000
DTSTAMP:20260424T074250
CREATED:20250225T050000Z
LAST-MODIFIED:20250225T050000Z
UID:821069-1746027000-1746027000@www.dedhamcountryday.org
SUMMARY:Home VS Fay
DESCRIPTION:
URL:https://www.dedhamcountryday.org/event/home-vs-fay-16/
END:VEVENT
BEGIN:VEVENT
DTSTART;TZID=America/New_York:20250430T153000
DTEND;TZID=America/New_York:20250430T153000
DTSTAMP:20260424T074250
CREATED:20250301T050000Z
LAST-MODIFIED:20250301T050000Z
UID:827865-1746027000-1746027000@www.dedhamcountryday.org
SUMMARY:Away @ Beaver Country Day School
DESCRIPTION:
URL:https://www.dedhamcountryday.org/event/away-beaver-country-day-school-10/
END:VEVENT
BEGIN:VEVENT
DTSTART;TZID=America/New_York:20250430T153000
DTEND;TZID=America/New_York:20250430T153000
DTSTAMP:20260424T074250
CREATED:20250304T050000Z
LAST-MODIFIED:20250304T050000Z
UID:833155-1746027000-1746027000@www.dedhamcountryday.org
SUMMARY:Away @ Dana Hall
DESCRIPTION:
URL:https://www.dedhamcountryday.org/event/away-dana-hall-14/
END:VEVENT
BEGIN:VEVENT
DTSTART;TZID=America/New_York:20250430T153000
DTEND;TZID=America/New_York:20250430T153000
DTSTAMP:20260424T074250
CREATED:20250304T050000Z
LAST-MODIFIED:20250304T050000Z
UID:833236-1746027000-1746027000@www.dedhamcountryday.org
SUMMARY:Home VS Fay
DESCRIPTION:
URL:https://www.dedhamcountryday.org/event/home-vs-fay-24/
END:VEVENT
END:VCALENDAR