BEGIN:VCALENDAR
VERSION:2.0
PRODID:-//Dedham Country Day School - ECPv5.6.0//NONSGML v1.0//EN
CALSCALE:GREGORIAN
METHOD:PUBLISH
X-WR-CALNAME:Dedham Country Day School
X-ORIGINAL-URL:https://www.dedhamcountryday.org
X-WR-CALDESC:Events for Dedham Country Day School
BEGIN:VTIMEZONE
TZID:America/New_York
BEGIN:DAYLIGHT
TZOFFSETFROM:-0500
TZOFFSETTO:-0400
TZNAME:EDT
DTSTART:20250309T070000
END:DAYLIGHT
BEGIN:STANDARD
TZOFFSETFROM:-0400
TZOFFSETTO:-0500
TZNAME:EST
DTSTART:20251102T060000
END:STANDARD
END:VTIMEZONE
BEGIN:VEVENT
DTSTART;TZID=America/New_York:20250425T081000
DTEND;TZID=America/New_York:20250425T083000
DTSTAMP:20260424T061521
CREATED:20240901T135900Z
LAST-MODIFIED:20240901T135900Z
UID:701471-1745568600-1745569800@www.dedhamcountryday.org
SUMMARY:Assembly for Gr 1-5
DESCRIPTION:
URL:https://www.dedhamcountryday.org/event/assembly-for-gr-1-5-2/
CATEGORIES:Events
END:VEVENT
BEGIN:VEVENT
DTSTART;TZID=America/New_York:20250425T083000
DTEND;TZID=America/New_York:20250425T090000
DTSTAMP:20260424T061521
CREATED:20240701T182800Z
LAST-MODIFIED:20240701T182800Z
UID:618871-1745569800-1745571600@www.dedhamcountryday.org
SUMMARY:Kindergarten Class Play
DESCRIPTION:
URL:https://www.dedhamcountryday.org/event/kindergarten-class-play-856/
END:VEVENT
BEGIN:VEVENT
DTSTART;TZID=America/New_York:20250425T083000
DTEND;TZID=America/New_York:20250425T090000
DTSTAMP:20260424T061521
CREATED:20240701T182800Z
LAST-MODIFIED:20240701T182800Z
UID:1006330-1745569800-1745571600@www.dedhamcountryday.org
SUMMARY:Kindergarten Class Play
DESCRIPTION:
URL:https://www.dedhamcountryday.org/event/kindergarten-class-play-4/
CATEGORIES:Events
END:VEVENT
BEGIN:VEVENT
DTSTART;TZID=America/New_York:20250425T123000
DTEND;TZID=America/New_York:20250425T143000
DTSTAMP:20260424T061521
CREATED:20240725T151100Z
LAST-MODIFIED:20240725T151100Z
UID:1006265-1745584200-1745591400@www.dedhamcountryday.org
SUMMARY:Middle School Service Afternoon
DESCRIPTION:
URL:https://www.dedhamcountryday.org/event/middle-school-service-afternoon-5/
CATEGORIES:Events
END:VEVENT
END:VCALENDAR