BEGIN:VCALENDAR
VERSION:2.0
PRODID:-//Dedham Country Day School - ECPv5.6.0//NONSGML v1.0//EN
CALSCALE:GREGORIAN
METHOD:PUBLISH
X-WR-CALNAME:Dedham Country Day School
X-ORIGINAL-URL:https://www.dedhamcountryday.org
X-WR-CALDESC:Events for Dedham Country Day School
BEGIN:VTIMEZONE
TZID:America/New_York
BEGIN:DAYLIGHT
TZOFFSETFROM:-0500
TZOFFSETTO:-0400
TZNAME:EDT
DTSTART:20250309T070000
END:DAYLIGHT
BEGIN:STANDARD
TZOFFSETFROM:-0400
TZOFFSETTO:-0500
TZNAME:EST
DTSTART:20251102T060000
END:STANDARD
END:VTIMEZONE
BEGIN:VEVENT
DTSTART;TZID=America/New_York:20250205T150000
DTEND;TZID=America/New_York:20250205T163000
DTSTAMP:20260425T095805
CREATED:20240722T152100Z
LAST-MODIFIED:20240722T152100Z
UID:701424-1738767600-1738773000@www.dedhamcountryday.org
SUMMARY:Culture Club (Gr 1-5)
DESCRIPTION:
URL:https://www.dedhamcountryday.org/event/culture-club-gr-1-5-4/
CATEGORIES:Events
END:VEVENT
BEGIN:VEVENT
DTSTART;TZID=America/New_York:20250205T154500
DTEND;TZID=America/New_York:20250205T154500
DTSTAMP:20260425T095805
CREATED:20241120T050000Z
LAST-MODIFIED:20241120T050000Z
UID:720676-1738770300-1738770300@www.dedhamcountryday.org
SUMMARY:Home VS Lexington Christian Academy
DESCRIPTION:
URL:https://www.dedhamcountryday.org/event/home-vs-lexington-christian-academy-5/
END:VEVENT
BEGIN:VEVENT
DTSTART;TZID=America/New_York:20250205T154500
DTEND;TZID=America/New_York:20250205T154500
DTSTAMP:20260425T095805
CREATED:20241121T050000Z
LAST-MODIFIED:20241121T050000Z
UID:722361-1738770300-1738770300@www.dedhamcountryday.org
SUMMARY:Home VS Beaver Country Day
DESCRIPTION:
URL:https://www.dedhamcountryday.org/event/home-vs-beaver-country-day/
END:VEVENT
BEGIN:VEVENT
DTSTART;TZID=America/New_York:20250205T154500
DTEND;TZID=America/New_York:20250205T154500
DTSTAMP:20260425T095805
CREATED:20241127T050000Z
LAST-MODIFIED:20241127T050000Z
UID:733175-1738770300-1738770300@www.dedhamcountryday.org
SUMMARY:Home VS Beaver Country Day
DESCRIPTION:
URL:https://www.dedhamcountryday.org/event/home-vs-beaver-country-day-2/
END:VEVENT
BEGIN:VEVENT
DTSTART;TZID=America/New_York:20250205T154500
DTEND;TZID=America/New_York:20250205T154500
DTSTAMP:20260425T095805
CREATED:20241127T050000Z
LAST-MODIFIED:20241127T050000Z
UID:733360-1738770300-1738770300@www.dedhamcountryday.org
SUMMARY:Home VS Lexington Christian Academy
DESCRIPTION:
URL:https://www.dedhamcountryday.org/event/home-vs-lexington-christian-academy-4/
END:VEVENT
BEGIN:VEVENT
DTSTART;TZID=America/New_York:20250205T154500
DTEND;TZID=America/New_York:20250205T154500
DTSTAMP:20260425T095805
CREATED:20241202T050000Z
LAST-MODIFIED:20241202T050000Z
UID:742990-1738770300-1738770300@www.dedhamcountryday.org
SUMMARY:Home VS Lexington Christian Academy
DESCRIPTION:
URL:https://www.dedhamcountryday.org/event/home-vs-lexington-christian-academy-7/
END:VEVENT
BEGIN:VEVENT
DTSTART;TZID=America/New_York:20250205T154500
DTEND;TZID=America/New_York:20250205T154500
DTSTAMP:20260425T095805
CREATED:20241203T050000Z
LAST-MODIFIED:20241203T050000Z
UID:744808-1738770300-1738770300@www.dedhamcountryday.org
SUMMARY:Home VS Beaver Country Day
DESCRIPTION:
URL:https://www.dedhamcountryday.org/event/home-vs-beaver-country-day-5/
END:VEVENT
BEGIN:VEVENT
DTSTART;TZID=America/New_York:20250205T154500
DTEND;TZID=America/New_York:20250205T154500
DTSTAMP:20260425T095805
CREATED:20241203T050000Z
LAST-MODIFIED:20241203T050000Z
UID:744942-1738770300-1738770300@www.dedhamcountryday.org
SUMMARY:Home VS Beaver Country Day
DESCRIPTION:
URL:https://www.dedhamcountryday.org/event/home-vs-beaver-country-day-7/
END:VEVENT
BEGIN:VEVENT
DTSTART;TZID=America/New_York:20250205T154500
DTEND;TZID=America/New_York:20250205T154500
DTSTAMP:20260425T095805
CREATED:20241203T050000Z
LAST-MODIFIED:20241203T050000Z
UID:744926-1738770300-1738770300@www.dedhamcountryday.org
SUMMARY:Home VS Lexington Christian Academy
DESCRIPTION:
URL:https://www.dedhamcountryday.org/event/home-vs-lexington-christian-academy-8/
END:VEVENT
BEGIN:VEVENT
DTSTART;TZID=America/New_York:20250205T154500
DTEND;TZID=America/New_York:20250205T154500
DTSTAMP:20260425T095805
CREATED:20241203T050000Z
LAST-MODIFIED:20241203T050000Z
UID:744875-1738770300-1738770300@www.dedhamcountryday.org
SUMMARY:Home VS Beaver Country Day
DESCRIPTION:
URL:https://www.dedhamcountryday.org/event/home-vs-beaver-country-day-6/
END:VEVENT
BEGIN:VEVENT
DTSTART;TZID=America/New_York:20250205T154500
DTEND;TZID=America/New_York:20250205T154500
DTSTAMP:20260425T095805
CREATED:20241203T050000Z
LAST-MODIFIED:20241203T050000Z
UID:744859-1738770300-1738770300@www.dedhamcountryday.org
SUMMARY:Home VS Lexington Christian Academy
DESCRIPTION:
URL:https://www.dedhamcountryday.org/event/home-vs-lexington-christian-academy-6/
END:VEVENT
BEGIN:VEVENT
DTSTART;TZID=America/New_York:20250205T154500
DTEND;TZID=America/New_York:20250205T154500
DTSTAMP:20260425T095805
CREATED:20241203T050000Z
LAST-MODIFIED:20241203T050000Z
UID:744792-1738770300-1738770300@www.dedhamcountryday.org
SUMMARY:Home VS Lexington Christian Academy
DESCRIPTION:
URL:https://www.dedhamcountryday.org/event/home-vs-lexington-christian-academy-3/
END:VEVENT
BEGIN:VEVENT
DTSTART;TZID=America/New_York:20250205T154500
DTEND;TZID=America/New_York:20250205T154500
DTSTAMP:20260425T095805
CREATED:20241203T050000Z
LAST-MODIFIED:20241203T050000Z
UID:744741-1738770300-1738770300@www.dedhamcountryday.org
SUMMARY:Home VS Beaver Country Day
DESCRIPTION:
URL:https://www.dedhamcountryday.org/event/home-vs-beaver-country-day-4/
END:VEVENT
BEGIN:VEVENT
DTSTART;TZID=America/New_York:20250205T154500
DTEND;TZID=America/New_York:20250205T154500
DTSTAMP:20260425T095805
CREATED:20241203T050000Z
LAST-MODIFIED:20241203T050000Z
UID:744725-1738770300-1738770300@www.dedhamcountryday.org
SUMMARY:Home VS Lexington Christian Academy
DESCRIPTION:
URL:https://www.dedhamcountryday.org/event/home-vs-lexington-christian-academy-2/
END:VEVENT
BEGIN:VEVENT
DTSTART;TZID=America/New_York:20250205T154500
DTEND;TZID=America/New_York:20250205T154500
DTSTAMP:20260425T095805
CREATED:20241203T050000Z
LAST-MODIFIED:20241203T050000Z
UID:744674-1738770300-1738770300@www.dedhamcountryday.org
SUMMARY:Home VS Beaver Country Day
DESCRIPTION:
URL:https://www.dedhamcountryday.org/event/home-vs-beaver-country-day-3/
END:VEVENT
BEGIN:VEVENT
DTSTART;TZID=America/New_York:20250205T154500
DTEND;TZID=America/New_York:20250205T154500
DTSTAMP:20260425T095805
CREATED:20241203T050000Z
LAST-MODIFIED:20241203T050000Z
UID:744658-1738770300-1738770300@www.dedhamcountryday.org
SUMMARY:Home VS Lexington Christian Academy
DESCRIPTION:
URL:https://www.dedhamcountryday.org/event/home-vs-lexington-christian-academy/
END:VEVENT
BEGIN:VEVENT
DTSTART;TZID=America/New_York:20250205T154500
DTEND;TZID=America/New_York:20250205T154500
DTSTAMP:20260425T095805
CREATED:20241219T050000Z
LAST-MODIFIED:20241219T050000Z
UID:774021-1738770300-1738770300@www.dedhamcountryday.org
SUMMARY:Home VS Lexington Christian Academy
DESCRIPTION:
URL:https://www.dedhamcountryday.org/event/home-vs-lexington-christian-academy-10/
END:VEVENT
BEGIN:VEVENT
DTSTART;TZID=America/New_York:20250205T154500
DTEND;TZID=America/New_York:20250205T154500
DTSTAMP:20260425T095805
CREATED:20241222T050000Z
LAST-MODIFIED:20241222T050000Z
UID:779148-1738770300-1738770300@www.dedhamcountryday.org
SUMMARY:Home VS Lexington Christian Academy
DESCRIPTION:
URL:https://www.dedhamcountryday.org/event/home-vs-lexington-christian-academy-9/
END:VEVENT
BEGIN:VEVENT
DTSTART;TZID=America/New_York:20250205T154500
DTEND;TZID=America/New_York:20250205T154500
DTSTAMP:20260425T095805
CREATED:20241224T050000Z
LAST-MODIFIED:20241224T050000Z
UID:783153-1738770300-1738770300@www.dedhamcountryday.org
SUMMARY:Home VS Lexington Christian Academy
DESCRIPTION:
URL:https://www.dedhamcountryday.org/event/home-vs-lexington-christian-academy-12/
END:VEVENT
BEGIN:VEVENT
DTSTART;TZID=America/New_York:20250205T154500
DTEND;TZID=America/New_York:20250205T154500
DTSTAMP:20260425T095805
CREATED:20241229T050000Z
LAST-MODIFIED:20241229T050000Z
UID:792841-1738770300-1738770300@www.dedhamcountryday.org
SUMMARY:Home VS Beaver Country Day
DESCRIPTION:
URL:https://www.dedhamcountryday.org/event/home-vs-beaver-country-day-11/
END:VEVENT
BEGIN:VEVENT
DTSTART;TZID=America/New_York:20250205T154500
DTEND;TZID=America/New_York:20250205T154500
DTSTAMP:20260425T095805
CREATED:20241230T050000Z
LAST-MODIFIED:20241230T050000Z
UID:794678-1738770300-1738770300@www.dedhamcountryday.org
SUMMARY:Home VS Beaver Country Day
DESCRIPTION:
URL:https://www.dedhamcountryday.org/event/home-vs-beaver-country-day-10/
END:VEVENT
BEGIN:VEVENT
DTSTART;TZID=America/New_York:20250205T160000
DTEND;TZID=America/New_York:20250205T160000
DTSTAMP:20260425T095805
CREATED:20241203T050000Z
LAST-MODIFIED:20241203T050000Z
UID:744749-1738771200-1738771200@www.dedhamcountryday.org
SUMMARY:Away @ Ursuline
DESCRIPTION:
URL:https://www.dedhamcountryday.org/event/away-ursuline-4/
END:VEVENT
BEGIN:VEVENT
DTSTART;TZID=America/New_York:20250205T160000
DTEND;TZID=America/New_York:20250205T160000
DTSTAMP:20260425T095805
CREATED:20241203T050000Z
LAST-MODIFIED:20241203T050000Z
UID:744816-1738771200-1738771200@www.dedhamcountryday.org
SUMMARY:Away @ Ursuline
DESCRIPTION:
URL:https://www.dedhamcountryday.org/event/away-ursuline-5/
END:VEVENT
BEGIN:VEVENT
DTSTART;TZID=America/New_York:20250205T160000
DTEND;TZID=America/New_York:20250205T160000
DTSTAMP:20260425T095805
CREATED:20241203T050000Z
LAST-MODIFIED:20241203T050000Z
UID:744682-1738771200-1738771200@www.dedhamcountryday.org
SUMMARY:Away @ Ursuline
DESCRIPTION:
URL:https://www.dedhamcountryday.org/event/away-ursuline-2/
END:VEVENT
BEGIN:VEVENT
DTSTART;TZID=America/New_York:20250205T160000
DTEND;TZID=America/New_York:20250205T160000
DTSTAMP:20260425T095805
CREATED:20241203T050000Z
LAST-MODIFIED:20241203T050000Z
UID:744883-1738771200-1738771200@www.dedhamcountryday.org
SUMMARY:Away @ Ursuline
DESCRIPTION:
URL:https://www.dedhamcountryday.org/event/away-ursuline-6/
END:VEVENT
BEGIN:VEVENT
DTSTART;TZID=America/New_York:20250205T160000
DTEND;TZID=America/New_York:20250205T160000
DTSTAMP:20260425T095805
CREATED:20241203T050000Z
LAST-MODIFIED:20241203T050000Z
UID:744950-1738771200-1738771200@www.dedhamcountryday.org
SUMMARY:Away @ Ursuline
DESCRIPTION:
URL:https://www.dedhamcountryday.org/event/away-ursuline-7/
END:VEVENT
BEGIN:VEVENT
DTSTART;TZID=America/New_York:20250205T160000
DTEND;TZID=America/New_York:20250205T160000
DTSTAMP:20260425T095805
CREATED:20241217T050000Z
LAST-MODIFIED:20241217T050000Z
UID:770780-1738771200-1738771200@www.dedhamcountryday.org
SUMMARY:Away @ Ursuline
DESCRIPTION:
URL:https://www.dedhamcountryday.org/event/away-ursuline-11/
END:VEVENT
END:VCALENDAR