BEGIN:VCALENDAR
VERSION:2.0
PRODID:-//Dedham Country Day School - ECPv5.6.0//NONSGML v1.0//EN
CALSCALE:GREGORIAN
METHOD:PUBLISH
X-WR-CALNAME:Dedham Country Day School
X-ORIGINAL-URL:https://www.dedhamcountryday.org
X-WR-CALDESC:Events for Dedham Country Day School
BEGIN:VTIMEZONE
TZID:America/New_York
BEGIN:DAYLIGHT
TZOFFSETFROM:-0500
TZOFFSETTO:-0400
TZNAME:EDT
DTSTART:20240310T070000
END:DAYLIGHT
BEGIN:STANDARD
TZOFFSETFROM:-0400
TZOFFSETTO:-0500
TZNAME:EST
DTSTART:20241103T060000
END:STANDARD
END:VTIMEZONE
BEGIN:VEVENT
DTSTART;TZID=America/New_York:20240918T080000
DTEND;TZID=America/New_York:20240918T150000
DTSTAMP:20260424T080924
CREATED:20240816T161900Z
LAST-MODIFIED:20240816T161900Z
UID:701186-1726646400-1726671600@www.dedhamcountryday.org
SUMMARY:School Visit from Bryan Skavnak: "Be the Nice Kid"
DESCRIPTION:
URL:https://www.dedhamcountryday.org/event/school-visit-from-bryan-skavnak-be-the-nice-kid/
CATEGORIES:Events
END:VEVENT
BEGIN:VEVENT
DTSTART;TZID=America/New_York:20240918T150000
DTEND;TZID=America/New_York:20240918T163000
DTSTAMP:20260424T080924
CREATED:20240719T192300Z
LAST-MODIFIED:20240719T192300Z
UID:701352-1726671600-1726677000@www.dedhamcountryday.org
SUMMARY:Culture Club (Gr 1-5)
DESCRIPTION:
URL:https://www.dedhamcountryday.org/event/culture-club-gr-1-5/
CATEGORIES:Events
END:VEVENT
BEGIN:VEVENT
DTSTART;TZID=America/New_York:20240918T151500
DTEND;TZID=America/New_York:20240918T151500
DTSTAMP:20260424T080924
CREATED:20240928T040000Z
LAST-MODIFIED:20240928T040000Z
UID:538887-1726672500-1726672500@www.dedhamcountryday.org
SUMMARY:Home VS Rivers
DESCRIPTION:
URL:https://www.dedhamcountryday.org/event/home-vs-rivers-59/
END:VEVENT
END:VCALENDAR