BEGIN:VCALENDAR
VERSION:2.0
PRODID:-//Dedham Country Day School - ECPv5.6.0//NONSGML v1.0//EN
CALSCALE:GREGORIAN
METHOD:PUBLISH
X-WR-CALNAME:Dedham Country Day School
X-ORIGINAL-URL:https://www.dedhamcountryday.org
X-WR-CALDESC:Events for Dedham Country Day School
BEGIN:VTIMEZONE
TZID:America/New_York
BEGIN:DAYLIGHT
TZOFFSETFROM:-0500
TZOFFSETTO:-0400
TZNAME:EDT
DTSTART:20240310T070000
END:DAYLIGHT
BEGIN:STANDARD
TZOFFSETFROM:-0400
TZOFFSETTO:-0500
TZNAME:EST
DTSTART:20241103T060000
END:STANDARD
END:VTIMEZONE
BEGIN:VEVENT
DTSTART;TZID=America/New_York:20240906T080000
DTEND;TZID=America/New_York:20240906T123000
DTSTAMP:20260424T092752
CREATED:20240403T020300Z
LAST-MODIFIED:20240403T020300Z
UID:688230-1725609600-1725625800@www.dedhamcountryday.org
SUMMARY:Gr 6 & Gr 7 Field Trip to Hale Reservation
DESCRIPTION:
URL:https://www.dedhamcountryday.org/event/gr-6-gr-7-field-trip-to-hale-reservation-536/
END:VEVENT
BEGIN:VEVENT
DTSTART;TZID=America/New_York:20240906T081000
DTEND;TZID=America/New_York:20240906T083000
DTSTAMP:20260424T092752
CREATED:20240901T135900Z
LAST-MODIFIED:20240901T135900Z
UID:701347-1725610200-1725611400@www.dedhamcountryday.org
SUMMARY:All-School Assembly
DESCRIPTION:
URL:https://www.dedhamcountryday.org/event/all-school-assembly-2/
CATEGORIES:Events
END:VEVENT
BEGIN:VEVENT
DTSTART;TZID=America/New_York:20240906T083000
DTEND;TZID=America/New_York:20240906T100000
DTSTAMP:20260424T092752
CREATED:20240716T150300Z
LAST-MODIFIED:20240716T150300Z
UID:701184-1725611400-1725616800@www.dedhamcountryday.org
SUMMARY:Parent Association Executive Committee Meeting
DESCRIPTION:
URL:https://www.dedhamcountryday.org/event/parent-association-executive-committee-meeting-8/
CATEGORIES:Events
END:VEVENT
END:VCALENDAR