BEGIN:VCALENDAR
VERSION:2.0
PRODID:-//Dedham Country Day School - ECPv5.6.0//NONSGML v1.0//EN
CALSCALE:GREGORIAN
METHOD:PUBLISH
X-WR-CALNAME:Dedham Country Day School
X-ORIGINAL-URL:https://www.dedhamcountryday.org
X-WR-CALDESC:Events for Dedham Country Day School
BEGIN:VTIMEZONE
TZID:America/New_York
BEGIN:DAYLIGHT
TZOFFSETFROM:-0500
TZOFFSETTO:-0400
TZNAME:EDT
DTSTART:20240310T070000
END:DAYLIGHT
BEGIN:STANDARD
TZOFFSETFROM:-0400
TZOFFSETTO:-0500
TZNAME:EST
DTSTART:20241103T060000
END:STANDARD
END:VTIMEZONE
BEGIN:VEVENT
DTSTART;VALUE=DATE:20240904
DTEND;VALUE=DATE:20240905
DTSTAMP:20260424T081455
CREATED:20240220T013200Z
LAST-MODIFIED:20240220T013200Z
UID:701344-1725408000-1725494399@www.dedhamcountryday.org
SUMMARY:First Day of School
DESCRIPTION:
URL:https://www.dedhamcountryday.org/event/first-day-of-school/
CATEGORIES:Events
END:VEVENT
BEGIN:VEVENT
DTSTART;TZID=America/New_York:20240904T081000
DTEND;TZID=America/New_York:20240904T083000
DTSTAMP:20260424T081455
CREATED:20240903T173600Z
LAST-MODIFIED:20240903T173600Z
UID:693085-1725437400-1725438600@www.dedhamcountryday.org
SUMMARY:All-School Assembly
DESCRIPTION:
URL:https://www.dedhamcountryday.org/event/all-school-assembly-3585/
END:VEVENT
BEGIN:VEVENT
DTSTART;TZID=America/New_York:20240904T081000
DTEND;TZID=America/New_York:20240904T083000
DTSTAMP:20260424T081455
CREATED:20240903T173600Z
LAST-MODIFIED:20240903T173600Z
UID:701345-1725437400-1725438600@www.dedhamcountryday.org
SUMMARY:All-School Assembly
DESCRIPTION:
URL:https://www.dedhamcountryday.org/event/all-school-assembly/
CATEGORIES:Events
END:VEVENT
END:VCALENDAR