BEGIN:VCALENDAR
VERSION:2.0
PRODID:-//Dedham Country Day School - ECPv5.6.0//NONSGML v1.0//EN
CALSCALE:GREGORIAN
METHOD:PUBLISH
X-WR-CALNAME:Dedham Country Day School
X-ORIGINAL-URL:https://www.dedhamcountryday.org
X-WR-CALDESC:Events for Dedham Country Day School
BEGIN:VTIMEZONE
TZID:America/New_York
BEGIN:DAYLIGHT
TZOFFSETFROM:-0500
TZOFFSETTO:-0400
TZNAME:EDT
DTSTART:20240310T070000
END:DAYLIGHT
BEGIN:STANDARD
TZOFFSETFROM:-0400
TZOFFSETTO:-0500
TZNAME:EST
DTSTART:20241103T060000
END:STANDARD
END:VTIMEZONE
BEGIN:VEVENT
DTSTART;TZID=America/New_York:20240118T131500
DTEND;TZID=America/New_York:20240118T151500
DTSTAMP:20260421T064021
CREATED:20230918T195600Z
LAST-MODIFIED:20230918T195600Z
UID:701547-1705583700-1705590900@www.dedhamcountryday.org
SUMMARY:Admission Playgroup Visit
DESCRIPTION:
URL:https://www.dedhamcountryday.org/event/admission-playgroup-visit/
CATEGORIES:Events
END:VEVENT
BEGIN:VEVENT
DTSTART;TZID=America/New_York:20240118T180000
DTEND;TZID=America/New_York:20240118T200000
DTSTAMP:20260421T064021
CREATED:20231116T213200Z
LAST-MODIFIED:20231116T213200Z
UID:701171-1705600800-1705608000@www.dedhamcountryday.org
SUMMARY:Parent/Caregiver Book Group Meeting
DESCRIPTION:
URL:https://www.dedhamcountryday.org/event/parent-caregiver-book-group-meeting/
CATEGORIES:Events
END:VEVENT
END:VCALENDAR